BEGIN:VCALENDAR
VERSION:2.0
PRODID:-//A.V.P. College of Arts and Science - ECPv6.1.2.2//NONSGML v1.0//EN
CALSCALE:GREGORIAN
METHOD:PUBLISH
X-WR-CALNAME:A.V.P. College of Arts and Science
X-ORIGINAL-URL:https://avpcas.edu.in
X-WR-CALDESC:Events for A.V.P. College of Arts and Science
REFRESH-INTERVAL;VALUE=DURATION:PT1H
X-Robots-Tag:noindex
X-PUBLISHED-TTL:PT1H
BEGIN:VTIMEZONE
TZID:Asia/Kolkata
BEGIN:STANDARD
TZOFFSETFROM:+0530
TZOFFSETTO:+0530
TZNAME:IST
DTSTART:20230101T000000
END:STANDARD
END:VTIMEZONE
BEGIN:VEVENT
DTSTART;TZID=Asia/Kolkata:20251007T140000
DTEND;TZID=Asia/Kolkata:20251007T150000
DTSTAMP:20260421T181852
CREATED:20251007T160437Z
LAST-MODIFIED:20251007T160437Z
UID:18307-1759845600-1759849200@avpcas.edu.in
SUMMARY:Eco club of A.V.P College of Arts and Science in association with Tamilnadu Fire and Rescue Services Station\, Tirupur organized an awareness programme and demonstration drill on "Celebrating a fire free diwali" on 7.10.25.
DESCRIPTION:Eco club of A.V.P College of Arts and Science in association with Tamilnadu Fire and Rescue Services Station\, Tirupur organized an awareness programme and demonstration drill on “Celebrating a fire free diwali” at AVP College ground. Mr.S.Veeraraj\, Assistant District Officer\, Tamilnadu Fire and Rescue Services Station\, and his team showcased a live demonstration. \n       \n      \n \n 
URL:https://avpcas.edu.in/event/eco-club-of-a-v-p-college-of-arts-and-science-in-association-with-tamilnadu-fire-and-rescue-services-station-tirupur-organized-an-awareness-programme-and-demonstration-drill-on-celebrating-a-fire-f/
LOCATION:AVP COLLEGE GROUND
CATEGORIES:Announcements,College Management,ECO CLUB
END:VEVENT
BEGIN:VEVENT
DTSTART;TZID=Asia/Kolkata:20250719T080000
DTEND;TZID=Asia/Kolkata:20250719T150000
DTSTAMP:20260421T181852
CREATED:20250724T133533Z
LAST-MODIFIED:20250724T133824Z
UID:17485-1752912000-1752937200@avpcas.edu.in
SUMMARY:Eco Club of AVPCAS has planned to organize wetland cleanup activity in association with WWF on 19/07/25.
DESCRIPTION:Eco club of A.V.P College of Arts and Science in association with WWF\, tamilnadu pollution control board\, Natural society of tirupur and tamilnadu govt forest department jointly organized Wetland clean up activity in najarayan bird sanctuary on 19.7.25 \n     
URL:https://avpcas.edu.in/event/eco-club-of-avpcas-has-planned-to-organize-wetland-cleanup-activity-in-association-with-wwf-on-19-07-25/
LOCATION:Nanjarayan Bird’s Sanctuary
CATEGORIES:Announcements,College Management,ECO CLUB
END:VEVENT
BEGIN:VEVENT
DTSTART;TZID=Asia/Kolkata:20240817T134500
DTEND;TZID=Asia/Kolkata:20240817T150000
DTSTAMP:20260421T181852
CREATED:20240816T091745Z
LAST-MODIFIED:20240816T091747Z
UID:15011-1723902300-1723906800@avpcas.edu.in
SUMMARY:Eco Club has planned to organize a poster making competition on the topic of " Go Green  Go Clean " on 17.08.24 .
DESCRIPTION:
URL:https://avpcas.edu.in/event/eco-club-has-planned-to-organize-a-poster-making-competition-on-the-topic-of-go-green-go-clean-on-17-08-24/
LOCATION:Hall No : 314
CATEGORIES:Announcements,Department Events,ECO CLUB
END:VEVENT
BEGIN:VEVENT
DTSTART;TZID=Asia/Kolkata:20240229T113000
DTEND;TZID=Asia/Kolkata:20240229T123000
DTSTAMP:20260421T181852
CREATED:20240303T090509Z
LAST-MODIFIED:20240303T090853Z
UID:13695-1709206200-1709209800@avpcas.edu.in
SUMMARY:Eco club in association with institution's innovation council  conducted paper craft competition on 29.2.24.
DESCRIPTION:Eco club in association with institution’s innovation council  conducted paper craft competition on 29.2.24 at 11.30 am in seminar hall.
URL:https://avpcas.edu.in/event/eco-club-in-association-with-institutions-innovation-council-conducted-paper-craft-competition-on-29-2-24/
LOCATION:Seminar Hall
CATEGORIES:Announcements,Department Events,ECO CLUB
END:VEVENT
BEGIN:VEVENT
DTSTART;TZID=Asia/Kolkata:20230801T080000
DTEND;TZID=Asia/Kolkata:20230801T170000
DTSTAMP:20260421T181852
CREATED:20230801T094638Z
LAST-MODIFIED:20230801T094758Z
UID:11348-1690876800-1690909200@avpcas.edu.in
SUMMARY:Eco club organized tree plantation on behalf of A. P. J. Abdul kalam's memorial Day on 27.07.2023 at 3.00 pm in AVPCAS Campus.
DESCRIPTION:Eco club organized tree plantation on behalf of A. P. J. Abdul kalam’s memorial Day on 27.07.2023 at 3.00 pm in AVPCAS Campus. It was initiated by Rtn. PDG.MD. A. Karthikeyan Chairman\, AVP Institutions. \n                                                                
URL:https://avpcas.edu.in/event/eco-club-organized-tree-plantation-on-behalf-of-a-p-j-abdul-kalams-memorial-day-on-27-07-2023-at-3-00-pm-in-avpcas-campus/
LOCATION:College Campus\, India
CATEGORIES:Announcements,ECO CLUB
END:VEVENT
END:VCALENDAR