BEGIN:VCALENDAR
VERSION:2.0
PRODID:-//A.V.P. College of Arts and Science - ECPv6.1.2.2//NONSGML v1.0//EN
CALSCALE:GREGORIAN
METHOD:PUBLISH
X-ORIGINAL-URL:https://avpcas.edu.in
X-WR-CALDESC:Events for A.V.P. College of Arts and Science
REFRESH-INTERVAL;VALUE=DURATION:PT1H
X-Robots-Tag:noindex
X-PUBLISHED-TTL:PT1H
BEGIN:VTIMEZONE
TZID:Asia/Kolkata
BEGIN:STANDARD
TZOFFSETFROM:+0530
TZOFFSETTO:+0530
TZNAME:IST
DTSTART:20260101T000000
END:STANDARD
END:VTIMEZONE
BEGIN:VEVENT
DTSTART;TZID=Asia/Kolkata:20260216T153000
DTEND;TZID=Asia/Kolkata:20260217T163000
DTSTAMP:20260420T014747
CREATED:20260214T072532Z
LAST-MODIFIED:20260214T072532Z
UID:18800-1771255800-1771345800@avpcas.edu.in
SUMMARY:Internal Quality Assurance cell is organising a professional development program for non teaching staff on 16.02.26 and 17.02.26.
DESCRIPTION:Internal Quality Assurance cell is organising a professional development program for non teaching staff on 16.02.26 and 17.02.26.
URL:https://avpcas.edu.in/event/internal-quality-assurance-cell-is-organising-a-professional-development-program-for-non-teaching-staff-on-16-02-26-and-17-02-26/
LOCATION:Multipurpose Hall
CATEGORIES:Announcements,IQAC
END:VEVENT
BEGIN:VEVENT
DTSTART;TZID=Asia/Kolkata:20260216T143000
DTEND;TZID=Asia/Kolkata:20260216T150000
DTSTAMP:20260420T014747
CREATED:20260217T131232Z
LAST-MODIFIED:20260217T132427Z
UID:18817-1771252200-1771254000@avpcas.edu.in
SUMMARY:Health and Fitness club and Tamilnadu state rural livelihood mission has jointly organised an awareness program on " Mental Health & Menstrual Hygiene Management" on 16.02.2026
DESCRIPTION:Health and Fitness club and Tamilnadu state rural livelihood mission has jointly organised an awareness program on ” Mental Health & Menstrual Hygiene Management” on 16.02.2026 in Multipurpose hall @2.00 pm \, Ms.P.Thiruselvi\,District Resource Person\, Tamilnadu State Rural Livelihood Mission\, Tirupur was the resource person .110 students attended this program and got benefitted.
URL:https://avpcas.edu.in/event/health-and-fitness-club-and-tamilnadu-state-rural-livelihood-mission-has-jointly-organised-an-awareness-program-on-mental-health-menstrual-hygiene-management-on-16-02-2026/
LOCATION:Multipurpose Hall
CATEGORIES:Announcements,Health & fitness Club
END:VEVENT
BEGIN:VEVENT
DTSTART;TZID=Asia/Kolkata:20260216T103000
DTEND;TZID=Asia/Kolkata:20260216T123000
DTSTAMP:20260420T014747
CREATED:20260217T133526Z
LAST-MODIFIED:20260221T093047Z
UID:18832-1771237800-1771245000@avpcas.edu.in
SUMMARY:School of Liberal Arts-English  &  School Applied Commerce organised an outreach and extension  activity On 16.2.2026
DESCRIPTION:School of Applied Commerce (CA) organised an Extension and Outreach Activity on 16.02.2026 at Government Higher Secondary School\, Vijayapuram. The program focused on self – discovery\, understanding career trends\, higher education pathways and importance of employability skills.
URL:https://avpcas.edu.in/event/school-of-liberal-arts-english-school-applied-commerce-organises-an-outreach-and-extension-activity-on-16-2-2026/
LOCATION:Government Higher Secondary School\, Vijayapuram
CATEGORIES:Announcements,Department Events,Department of Commerce with CA,Department of English
END:VEVENT
BEGIN:VEVENT
DTSTART;TZID=Asia/Kolkata:20260213T103000
DTEND;TZID=Asia/Kolkata:20260213T123000
DTSTAMP:20260420T014747
CREATED:20260214T070822Z
LAST-MODIFIED:20260214T070822Z
UID:18792-1770978600-1770985800@avpcas.edu.in
SUMMARY:School of Liberal Arts-English organized  an outreach activity titled “From Self-Care to Startup: Essential Life Skills Program” on 13.02.2026
DESCRIPTION:School of Liberal Arts-English organized  an outreach activity titled “From Self-Care to Startup: Essential Life Skills Program” was successfully conducted at Government Girls Higher Secondary School\, Avinashi with the aim of empowering girl students through awareness of self-care\, personal development and basic entrepreneurial thinking. The programme was designed to build confidence\, life skills\, and future readiness among young learners.
URL:https://avpcas.edu.in/event/school-of-liberal-arts-english-organized-an-outreach-activity-titled-from-self-care-to-startup-essential-life-skills-program-on-13-02-2026/
LOCATION:Avinashi
CATEGORIES:Announcements,Department Events,Department of English
END:VEVENT
BEGIN:VEVENT
DTSTART;TZID=Asia/Kolkata:20260213T093000
DTEND;TZID=Asia/Kolkata:20260213T163000
DTSTAMP:20260420T014747
CREATED:20260214T065850Z
LAST-MODIFIED:20260217T134039Z
UID:18785-1770975000-1771000200@avpcas.edu.in
SUMMARY:School of Biotechnology visited the leading vaccine production institute\, Pasteur Institute of India\, Coonoor\, on 13.02.2026.
DESCRIPTION:The students of the School of Biotechnology visited the leading vaccine production institute\, Pasteur Institute of India\, Coonoor\, on 13.02.2026. The visit\, the students learned about various types of vaccines and their production strategies. They were given an overview of vaccine manufacturing processes\, quality control measures\, and safety protocols followed in the institute. The visit provided valuable practical exposure and enhanced their understanding of industrial vaccine production.
URL:https://avpcas.edu.in/event/school-of-biotechnology-visited-the-leading-vaccine-production-institute-pasteur-institute-of-india-coonoor-on-13-11-2026/
LOCATION:Coonor
CATEGORIES:Announcements,Department Events,Department of Biotechnology
END:VEVENT
BEGIN:VEVENT
DTSTART;TZID=Asia/Kolkata:20260212T113000
DTEND;TZID=Asia/Kolkata:20260212T130000
DTSTAMP:20260420T014747
CREATED:20260214T053134Z
LAST-MODIFIED:20260214T053134Z
UID:18777-1770895800-1770901200@avpcas.edu.in
SUMMARY:School of Commerce organised an International webinar on "Research in Today's life- Methodological Focus" for the PG and UG final year students on 12.02.2026.
DESCRIPTION:School of Commerce organised an International webinar on “Research in Today’s life- Methodological Focus” for the PG and UG final year students on 12.02.2026. Dr.Navanetha Krishnan Rajagopal\, Faculty member\, University of Technology & Applied Science\,Oman  acted as a speaker.This webinar focused on the research techniques\, methodologies and guidance on using specific research software or tools.This webinar also highlighted the importance of publishing research articles in Scopus\,web of sciences and linked in.100 students participated and got benefitted.
URL:https://avpcas.edu.in/event/school-of-commerce-organised-an-international-webinar-on-research-in-todays-life-methodological-focus-for-the-pg-and-ug-final-year-students-on-12-02-2026/
LOCATION:ONLINE MODE
CATEGORIES:Announcements,Department Events,Department of Commerce
END:VEVENT
BEGIN:VEVENT
DTSTART;TZID=Asia/Kolkata:20260211T100000
DTEND;TZID=Asia/Kolkata:20260211T123000
DTSTAMP:20260420T014747
CREATED:20260213T055643Z
LAST-MODIFIED:20260213T055643Z
UID:18763-1770804000-1770813000@avpcas.edu.in
SUMMARY:The School of Liberal Arts-English has organised an extension activity to "Happy Home Charitable Trust" (an old age home) on 11.02.2026
DESCRIPTION:The School of Liberal Arts-English has organised an extension activity to “Happy Home Charitable Trust” (an old age home) on 11.02.2026 and met the old aged people  and bestowed them with the possible contributions as an act of true service.
URL:https://avpcas.edu.in/event/the-school-of-liberal-arts-english-has-organised-an-extension-activity-to-happy-home-charitable-trust-an-old-age-home-on-11-02-2026/
LOCATION:Happy Home Charitable Trust\,Uthukulli
CATEGORIES:Announcements,Department Events,Department of English
ORGANIZER;CN="Department%20of%20English":MAILTO:avpchatroom@gmail.com
END:VEVENT
BEGIN:VEVENT
DTSTART;TZID=Asia/Kolkata:20260211T093000
DTEND;TZID=Asia/Kolkata:20260212T163000
DTSTAMP:20260420T014747
CREATED:20260213T054439Z
LAST-MODIFIED:20260217T121622Z
UID:18759-1770802200-1770913800@avpcas.edu.in
SUMMARY:School of Applied Commerce (CA & PA ) Organises a two days Excursion for Second year students  from 11th Feb 2026  -  12th Feb 2026
DESCRIPTION:School of Applied Commerce (CA & PA ) Organises a 2 days Excursion for Second year students ( II B.COM CA & II B COM PA) from 11th Feb 2026  –  12th Feb 2026 to Mysore and Coorg.
URL:https://avpcas.edu.in/event/school-of-applied-commerce-ca-pa-organises-a-two-days-excursion-for-second-year-students-from-11th-feb-2026-12th-feb-2026/
LOCATION:Mysore\,Coorg
CATEGORIES:Announcements,Department Events,Department of Commerce with CA
END:VEVENT
BEGIN:VEVENT
DTSTART;TZID=Asia/Kolkata:20260210T103000
DTEND;TZID=Asia/Kolkata:20260210T123000
DTSTAMP:20260420T014747
CREATED:20260213T053316Z
LAST-MODIFIED:20260213T053316Z
UID:18748-1770719400-1770726600@avpcas.edu.in
SUMMARY:The School of Commerce in association with institutions innovation council has Organized a workshop on "Digital Desk Mastery" on 10/02/26
DESCRIPTION:The School of Commerce in association with institutions innovation council has Organized a workshop on “Digital Desk Mastery” on 10/02/26 in Lab -II from 10.30 Am- 12.30 Pm.The resource person\, our MoU partner and Founder/ CEO of C2C Info Link \, Mr.A.Senthilkumar  delivered a special lecture and provided hands-on training to the  students . The beneficiaries of this workshop are All the First year of Commerce students.
URL:https://avpcas.edu.in/event/the-school-of-commerce-in-association-with-institutions-innovation-council-has-organized-a-workshop-on-digital-desk-mastery-on-10-02-26/
LOCATION:Lab II
CATEGORIES:Announcements,Department Events,Department of Commerce
END:VEVENT
BEGIN:VEVENT
DTSTART;TZID=Asia/Kolkata:20260210T100000
DTEND;TZID=Asia/Kolkata:20260210T123000
DTSTAMP:20260420T014747
CREATED:20260213T052333Z
LAST-MODIFIED:20260213T052333Z
UID:18741-1770717600-1770726600@avpcas.edu.in
SUMMARY:The School of Biotechnology organized a Workshop on Molecular Techniques on 10 February 2026.
DESCRIPTION:The School of Biotechnology organized a Workshop on Molecular Techniques on 10 February 2026. Mr. R. Karukuvelraja\, Founder and MoU Partner of Genolite R&D Laboratory\, Coimbatore\, served as the resource person. He provided hands-on training in PCR\, Agarose Gel Electrophoresis (AGE)\, and Polyacrylamide Gel Electrophoresis (PAGE). The workshop effectively bridged theoretical concepts with practical laboratory experience and greatly benefited the participating students.
URL:https://avpcas.edu.in/event/the-school-of-biotechnology-organized-a-workshop-on-molecular-techniques-on-10-february-2026/
LOCATION:Biotech Lab
CATEGORIES:Announcements,Department Events,Department of Biotechnology
END:VEVENT
BEGIN:VEVENT
DTSTART;TZID=Asia/Kolkata:20260210T093000
DTEND;TZID=Asia/Kolkata:20260210T163000
DTSTAMP:20260420T014747
CREATED:20260213T054107Z
LAST-MODIFIED:20260213T054107Z
UID:18755-1770715800-1770741000@avpcas.edu.in
SUMMARY:School of Applied Commerce (CA & PA ) Organises a one day Students Enrichment program at Christ University on 10/2/2026
DESCRIPTION:School of Applied Commerce (CA & PA ) Organises a 1 day Students Enrichment program at Christ University\, Bangalore for the  Second year students of  II B.COM CA & II B COM PA on 10th Feb 2026.
URL:https://avpcas.edu.in/event/school-of-applied-commerce-ca-pa-organises-a-one-day-students-enrichment-program-at-christ-university-on-10-2-2026/
LOCATION:Christ University\, Bangalore
CATEGORIES:Announcements,Department Events,Department of Commerce with CA
END:VEVENT
BEGIN:VEVENT
DTSTART;TZID=Asia/Kolkata:20260209T100000
DTEND;TZID=Asia/Kolkata:20260211T153000
DTSTAMP:20260420T014747
CREATED:20260207T060049Z
LAST-MODIFIED:20260214T051858Z
UID:18737-1770631200-1770823800@avpcas.edu.in
SUMMARY:Readers haven club has planned to organise a Book Fair from 09.02.2026 to 11.02.2026
DESCRIPTION:The Readers Haven Club organized a three-day Book Expo from 09.02.2026 to 11.02.2026 at AVP Auditorium to promote reading habits among students. Students from various departments visited the Expo as per schedule and explored a wide range of academic and general books. The event successfully enhanced students’ interest in reading and provided valuable exposure to diverse learning resources.
URL:https://avpcas.edu.in/event/readers-haven-club-has-planned-to-organise-a-book-fair-from-09-02-2026-to-11-02-2026/
LOCATION:A.V.P. Auditorium
CATEGORIES:Announcements,Readers Haven Club
END:VEVENT
BEGIN:VEVENT
DTSTART;TZID=Asia/Kolkata:20260207T103000
DTEND;TZID=Asia/Kolkata:20260207T123000
DTSTAMP:20260420T014747
CREATED:20260207T055035Z
LAST-MODIFIED:20260207T055035Z
UID:18734-1770460200-1770467400@avpcas.edu.in
SUMMARY:Anti drug committee has organizing  Poster Making  Event on 07.02.2026
DESCRIPTION:Anti drug committee has organizing  Poster Making  Event on 07.02.2026 at 10:30 am for the students of our college.
URL:https://avpcas.edu.in/event/anti-drug-committee-has-organizing-poster-making-event-on-07-02-2026/
LOCATION:Multipurpose Hall
CATEGORIES:Announcements,Anti Drug Committee
END:VEVENT
BEGIN:VEVENT
DTSTART;TZID=Asia/Kolkata:20260206T093000
DTEND;TZID=Asia/Kolkata:20260206T160000
DTSTAMP:20260420T014747
CREATED:20260206T103906Z
LAST-MODIFIED:20260206T103906Z
UID:18723-1770370200-1770393600@avpcas.edu.in
SUMMARY:School of commerce organises industrial visit and excursion to Munnar and Cochin from February 6\, 2026 and February 7\, 2026
DESCRIPTION:School of commerce organises industrial visit and excursion to Munnar and Cochin from February 6\, 2026\, and February 7\, 2026
URL:https://avpcas.edu.in/event/school-of-commerce-organises-industrial-visit-and-excursion-to-munnar-and-cochin-from-february-6-2026-and-february-7-2026/
LOCATION:Munnar\,Cochin
CATEGORIES:Announcements,Department Events,Department of Commerce
END:VEVENT
BEGIN:VEVENT
DTSTART;TZID=Asia/Kolkata:20260205T103000
DTEND;TZID=Asia/Kolkata:20260205T123000
DTSTAMP:20260420T014747
CREATED:20260207T054445Z
LAST-MODIFIED:20260207T054445Z
UID:18731-1770287400-1770294600@avpcas.edu.in
SUMMARY:NSS Cell and UBA\, in association with Sakshi NGO\, invites you to an Awareness Program on "Insights into the POCSO Act: A Step Towards Child Safety"on 5th February 2026
DESCRIPTION:NSS Cell and UBA\, in association with Sakshi NGO\, invites you to an Awareness Program on “Insights into the POCSO Act: A Step Towards Child Safety”on 5th February 2026 at 10:30 AM at the zoom meeting.
URL:https://avpcas.edu.in/event/nss-cell-and-uba-in-association-with-sakshi-ngo-invites-you-to-an-awareness-program-on-insights-into-the-pocso-act-a-step-towards-child-safetyon-5th-february-2026/
LOCATION:ONLINE MODE
CATEGORIES:Announcements,NSS,UBA
END:VEVENT
BEGIN:VEVENT
DTSTART;TZID=Asia/Kolkata:20260205T093000
DTEND;TZID=Asia/Kolkata:20260205T163000
DTSTAMP:20260420T014747
CREATED:20260206T104338Z
LAST-MODIFIED:20260206T104338Z
UID:18727-1770283800-1770309000@avpcas.edu.in
SUMMARY:School of Applied Commerce (CA & PA ) Organised a 3 days Industrial Visit for final year students from 5th  Feb 2026- 7th Feb 2026
DESCRIPTION:School of Applied Commerce (CA & PA ) Organises a 3 days Industrial Visit for final year students ( III B.COM CA & III B COM PA) from 5th  Feb 2026- 7th Feb 2026 to vagamon\, Alappuzha &Varkala.
URL:https://avpcas.edu.in/event/school-of-applied-commerce-ca-pa-organised-a-3-days-industrial-visit-for-final-year-students-from-5th-feb-2026-7th-feb-2026/
LOCATION:vagamon\, Alappuzha &Varkala
CATEGORIES:Announcements,Department Events,Department of Commerce with CA
END:VEVENT
BEGIN:VEVENT
DTSTART;TZID=Asia/Kolkata:20260204T100000
DTEND;TZID=Asia/Kolkata:20260204T123000
DTSTAMP:20260420T014747
CREATED:20260203T085824Z
LAST-MODIFIED:20260206T103240Z
UID:18712-1770199200-1770208200@avpcas.edu.in
SUMMARY:The School of Biotechnology has planned a Technical Visit to the Effluent Management Plant on 4th February 2026
DESCRIPTION:The School of Biotechnology organized an industrial visit to the Angeripalayam Common Effluent Treatment Plant (CETP)\, Tirupur\, on 04 February 2026\, providing final-year B.Sc. Biotechnology students with practical exposure to industrial wastewater treatment processes.
URL:https://avpcas.edu.in/event/the-school-of-biotechnology-has-planned-a-technical-visit-to-the-effluent-management-plant-on-4th-february-2026/
LOCATION:Ageripalayam
CATEGORIES:Announcements,Department Events,Department of Biotechnology
END:VEVENT
BEGIN:VEVENT
DTSTART;TZID=Asia/Kolkata:20260203T100000
DTEND;TZID=Asia/Kolkata:20260203T123000
DTSTAMP:20260420T014747
CREATED:20260203T084357Z
LAST-MODIFIED:20260203T084357Z
UID:18705-1770112800-1770121800@avpcas.edu.in
SUMMARY:Readers haven club has planned to visit 22nd Tirupur Book Fair 2025 on 03.02.2026
DESCRIPTION:Readers Haven club is wavering an opportunity to the students to enrich their knowledge and to encourage the reading skills by visiting the 22nd Tirupur Book Expo at Velan hotel complex\, Kangayam Road\, Tirupur on 03.02.2026 at 10:00 AM.
URL:https://avpcas.edu.in/event/readers-haven-club-has-planned-to-visit-22nd-tirupur-book-fair-2025-on-03-02-2026/
LOCATION:Velan Hotel complex\, Kangeyam road\, Tirupur
CATEGORIES:Announcements,Readers Haven Club
END:VEVENT
BEGIN:VEVENT
DTSTART;TZID=Asia/Kolkata:20260128T113000
DTEND;TZID=Asia/Kolkata:20260128T123000
DTSTAMP:20260420T014747
CREATED:20260202T044809Z
LAST-MODIFIED:20260203T051657Z
UID:18687-1769599800-1769603400@avpcas.edu.in
SUMMARY:School of Applied Commerce(CA) has organizing inter department competition on Poster Making  on 28.01.2026
DESCRIPTION:School of Applied Commerce (CA) has organized a Poster Making Competition on 28/01/2026  for the students. The event created enthusiasm among the participants and provided a platform to showcase their talents.
URL:https://avpcas.edu.in/event/school-of-applied-commerceca-has-organizing-inter-department-competition-on-poster-making-on-28-01-2026/
LOCATION:Multipurpose Hall
CATEGORIES:Announcements,Department Events,Department of Commerce with CA
END:VEVENT
BEGIN:VEVENT
DTSTART;TZID=Asia/Kolkata:20260127T163000
DTEND;TZID=Asia/Kolkata:20260127T170000
DTSTAMP:20260420T014747
CREATED:20260127T103435Z
LAST-MODIFIED:20260203T050945Z
UID:18681-1769531400-1769533200@avpcas.edu.in
SUMMARY:The School of Applied Commerce (PA) is organizing an Inter-Department Virtual Quiz Competition – “QUIZ QUEST.”on January 27 2026
DESCRIPTION:The School of Applied Commerce (PA) organized an Inter-Department Virtual Quiz Competition – “QUIZ QUEST.”on January 27 2026 through virtual mode. 274 students attended the quiz and got benefited.
URL:https://avpcas.edu.in/event/the-school-of-applied-commerce-pa-is-organizing-an-inter-department-virtual-quiz-competition-quiz-quest-on-january-27-2026-through-virtual-mode/
LOCATION:Virtual Mode
CATEGORIES:Announcements,Department Events,Department of Commerce with CA
END:VEVENT
BEGIN:VEVENT
DTSTART;TZID=Asia/Kolkata:20260127T100000
DTEND;TZID=Asia/Kolkata:20260127T120000
DTSTAMP:20260420T014747
CREATED:20260202T051016Z
LAST-MODIFIED:20260202T051016Z
UID:18690-1769508000-1769515200@avpcas.edu.in
SUMMARY:School of Management organised an Extension Activity for III BBA students"SERVE THE NEEDY" on 27.01.2026
DESCRIPTION:School of Management organised an Extension Activity for III BBA students”SERVE THE NEEDY” on 27.01.2026
URL:https://avpcas.edu.in/event/school-of-management-organised-an-extension-activity-for-iii-bba-studentsserve-the-needy-on-27-01-2026/
LOCATION:Tamizha Old-Age Home\, Tirupur.
CATEGORIES:Announcements,Department Events,Department of Business Administration
END:VEVENT
BEGIN:VEVENT
DTSTART;TZID=Asia/Kolkata:20260123T100000
DTEND;TZID=Asia/Kolkata:20260123T130000
DTSTAMP:20260420T014747
CREATED:20260123T050751Z
LAST-MODIFIED:20260123T050751Z
UID:18669-1769162400-1769173200@avpcas.edu.in
SUMMARY:The Consumer Club in association with CItizens' Voice Coimbatore (CVC) organises an "Environmental and Consumer Awareness Photo Campaign" on 23.01.2026
DESCRIPTION:The Consumer Club in association with CItizens’ Voice Coimbatore (CVC) organises an “Environmental and Consumer Awareness Photo Campaign” on 23.01.2026.
URL:https://avpcas.edu.in/event/the-consumer-club-in-association-with-citizens-voice-coimbatore-cvc-organises-an-environmental-and-consumer-awareness-photo-campaign-on-23-01-2026/
LOCATION:ONLINE MODE
CATEGORIES:Announcements,Consumer club
ORGANIZER;CN="Consumer%20Club":MAILTO:avpchatroom@gmail.com
END:VEVENT
BEGIN:VEVENT
DTSTART;TZID=Asia/Kolkata:20260122T153000
DTEND;TZID=Asia/Kolkata:20260122T163000
DTSTAMP:20260420T014747
CREATED:20260122T053835Z
LAST-MODIFIED:20260123T045746Z
UID:18659-1769095800-1769099400@avpcas.edu.in
SUMMARY:Internal Quality Assurance cell has organised Sathya Gnanam session for the month of January on 22.01.26
DESCRIPTION:Internal Quality Assurance cell has organised Sathya Gnanam session for the month of January on 22.01.26 by 3.30 p.m. in the Seminar hall. Ms. Haripriya\, Assistant professor\, School of Commerce acted as the resource person.
URL:https://avpcas.edu.in/event/internal-quality-assurance-cell-has-organised-sathya-gnanam-session-for-the-month-of-january-on-22-01-26/
LOCATION:Seminar Hall
CATEGORIES:Announcements,IQAC
END:VEVENT
BEGIN:VEVENT
DTSTART;TZID=Asia/Kolkata:20260121T110000
DTEND;TZID=Asia/Kolkata:20260121T123000
DTSTAMP:20260420T014747
CREATED:20260120T084455Z
LAST-MODIFIED:20260122T053524Z
UID:18646-1768993200-1768998600@avpcas.edu.in
SUMMARY:Women Empowerment Cell organises a special talk on "Women Empowerment through Legal Awareness" on 21.01.2026
DESCRIPTION:Women Empowerment Cell organised a special talk on “Women Empowerment through Legal Awareness” on 21.01.2026@  11am in Avp seminar hall. Ms.S.Priyadharshini\, Advocate\, Coimbatore acted as a speaker of this event.  This event focused to equip women with knowledge of their rights and laws\, enabling them to seek justice and gain achieving gender equality for societal upliftment.Nearly 175 students got benefitted.
URL:https://avpcas.edu.in/event/women-empowerment-cell-organises-a-special-talk-on-women-empowerment-through-legal-awareness-on-21-01-2026/
LOCATION:Seminar Hall
CATEGORIES:Announcements,Women Empowerment Cell
END:VEVENT
BEGIN:VEVENT
DTSTART;TZID=Asia/Kolkata:20260121T103000
DTEND;TZID=Asia/Kolkata:20260121T130000
DTSTAMP:20260420T014747
CREATED:20260122T054247Z
LAST-MODIFIED:20260122T054247Z
UID:18662-1768991400-1769000400@avpcas.edu.in
SUMMARY:Frame and Focus club organised "Videography Contest" on"Festivals of Gratitude"on 21.01.2026
DESCRIPTION:Frame and Focus club organised “Videography Contest” on”Festivals of Gratitude”on 21.01.2026 in online mode
URL:https://avpcas.edu.in/event/frame-and-focus-club-organised-videography-contest-onfestivals-of-gratitudeon-21-01-2026/
LOCATION:ONLINE MODE
CATEGORIES:Announcements,Frame and Focus club
END:VEVENT
BEGIN:VEVENT
DTSTART;TZID=Asia/Kolkata:20260112T133000
DTEND;TZID=Asia/Kolkata:20260112T150000
DTSTAMP:20260420T014747
CREATED:20260113T103956Z
LAST-MODIFIED:20260113T104143Z
UID:18627-1768224600-1768230000@avpcas.edu.in
SUMMARY:The School of Biotechnology is organized an Exhibition on IKS – Ancient Plant Science Virukshayurveda on 12.01.2026
DESCRIPTION:IKS Exhibition – Virukshayurveda: The School of Biotechnology organized an exhibition on IKS – Ancient Plant Science (Virukshayurveda) on 12 January 2026 at 1.30 p.m. in the Multipurpose Hall. Students from various departments visited the exhibition and learned about India’s traditional plant-based medicinal practices used in daily life. \n               \n                        
URL:https://avpcas.edu.in/event/the-school-of-biotechnology-is-organizea-an-exhibition-on-iks-ancient-plant-science-virukshayurveda-on-12-01-2026/
LOCATION:Multipurpose Hall
CATEGORIES:Announcements,Department Events,Department of Biotechnology
END:VEVENT
BEGIN:VEVENT
DTSTART;TZID=Asia/Kolkata:20260112T110000
DTEND;TZID=Asia/Kolkata:20260112T123000
DTSTAMP:20260420T014747
CREATED:20260112T070116Z
LAST-MODIFIED:20260113T102544Z
UID:18611-1768215600-1768221000@avpcas.edu.in
SUMMARY:School of Commerce organizes a career enhancement Program on " Global career Opportunities in Commerce Professional courses “ on 12.01.2026
DESCRIPTION:School of Commerce organised a career enhancement Program on ” Global career Opportunities in Commerce Professional courses “ on 12.01.2026@11 am in AVP seminar hall. Mr.S.Saravanan\, Career Development Officer & Mentor\,Indian Institute of Commerce – Lakshya acted as a Resource person. This program focused on students about how to set their pathways required for their desired careers. Students of SoC got benefitted. \n                  \n                 
URL:https://avpcas.edu.in/event/school-of-commerce-organizes-a-career-enhancement-program-on-global-career-opportunities-in-commerce-professional-courses-on-12-01-2026/
LOCATION:Seminar Hall
CATEGORIES:Announcements,Department Events,Department of Commerce
END:VEVENT
BEGIN:VEVENT
DTSTART;TZID=Asia/Kolkata:20260112T100000
DTEND;TZID=Asia/Kolkata:20260112T123000
DTSTAMP:20260420T014747
CREATED:20260113T103233Z
LAST-MODIFIED:20260113T103233Z
UID:18620-1768212000-1768221000@avpcas.edu.in
SUMMARY:The School of Biotechnology organized a Career Guidance Programme titled “Build Your Career Profile” on 12-01-2026
DESCRIPTION:The School of Biotechnology organized a Career Guidance Programme titled “Build Your Career Profile” on 12-01-2026 for B.Sc. Biotechnology students. The resource person\, Mr. P. Puvanesan\, Chief Microbiologist\, Thangam Cancer Centre\, Namakkal\, explained certificate and professional courses after UG to improve career opportunities and employability. \n                    \n                  
URL:https://avpcas.edu.in/event/the-school-of-biotechnology-organized-a-career-guidance-programme-titled-build-your-career-profile-on-12-01-2026/
LOCATION:Multipurpose Hall
CATEGORIES:Announcements,Department Events,Department of Biotechnology
END:VEVENT
BEGIN:VEVENT
DTSTART;TZID=Asia/Kolkata:20260110T103000
DTEND;TZID=Asia/Kolkata:20260110T123000
DTSTAMP:20260420T014747
CREATED:20260112T065401Z
LAST-MODIFIED:20260112T065401Z
UID:18604-1768041000-1768048200@avpcas.edu.in
SUMMARY:School of Applied Commerce has organized a Life Skill Development Programme on “Emotional Intelligence – A Key Life Skill for Success” on 10.01.2026
DESCRIPTION:School of Applied Commerce has organized a Life Skill Development Programme on “Emotional Intelligence – A Key Life Skill for Success” on 10.01.2026 for the students of First Year B.Com. (CA). The session inspired participants to develop self-awareness\, emotional balance\, and positive interpersonal skills. \n               \n             
URL:https://avpcas.edu.in/event/school-of-applied-commerce-has-organized-a-life-skill-development-programme-on-emotional-intelligence-a-key-life-skill-for-success-on-10-01-2026/
LOCATION:Multipurpose Hall
CATEGORIES:Announcements,Department Events,Department of Commerce with CA
END:VEVENT
BEGIN:VEVENT
DTSTART;TZID=Asia/Kolkata:20260110T100000
DTEND;TZID=Asia/Kolkata:20260110T123000
DTSTAMP:20260420T014747
CREATED:20260112T064057Z
LAST-MODIFIED:20260112T064057Z
UID:18596-1768039200-1768048200@avpcas.edu.in
SUMMARY:School of Liberal Arts English\, School Management and School of Applied Commerce organises a Career Guidance  program on a Future Rready - Professionals &Digital Communication on 10.01.2026
DESCRIPTION:The School of Liberal Arts – English\, School of Applied Commerce\, and School of Management successfully organized a Career Guidance Program titled “Future Ready – Professional Skills & Digital Communication” for III BA\, III BCOM CA &PA & III BBA students on 10 January 2026. The program featured Mr. Anjen Fernando A\, Manager – Training & Talent Development\, Aggregate Intelligence India Pvt. Ltd.\, and Ms. Sheredian Machado\, Senior Content Writer\, Infynd (SAAS)\, Coimbatore. The sessions focused on professional skills\, workplace readiness\, and digital communication.The program was informative and beneficial\, helping students gain insights into career development and employability skills. \n                 \n                 
URL:https://avpcas.edu.in/event/school-of-liberal-arts-english-school-management-and-school-of-applied-commerce-organises-a-career-guidance-program-on-a-future-rready-professionals-digital-communication-on-10-01-2026/
LOCATION:Seminar Hall
CATEGORIES:Announcements,Department Events,Department of Business Administration,Department of Commerce with CA,Department of English
END:VEVENT
END:VCALENDAR