BEGIN:VCALENDAR
VERSION:2.0
PRODID:-//A.V.P. College of Arts and Science - ECPv6.1.2.2//NONSGML v1.0//EN
CALSCALE:GREGORIAN
METHOD:PUBLISH
X-ORIGINAL-URL:https://avpcas.edu.in
X-WR-CALDESC:Events for A.V.P. College of Arts and Science
REFRESH-INTERVAL;VALUE=DURATION:PT1H
X-Robots-Tag:noindex
X-PUBLISHED-TTL:PT1H
BEGIN:VTIMEZONE
TZID:Asia/Kolkata
BEGIN:STANDARD
TZOFFSETFROM:+0530
TZOFFSETTO:+0530
TZNAME:IST
DTSTART:20250101T000000
END:STANDARD
END:VTIMEZONE
BEGIN:VEVENT
DTSTART;TZID=Asia/Kolkata:20260106T100000
DTEND;TZID=Asia/Kolkata:20260108T123000
DTSTAMP:20260420T054404
CREATED:20260107T065621Z
LAST-MODIFIED:20260107T065621Z
UID:18553-1767693600-1767875400@avpcas.edu.in
SUMMARY:The School of Mathematics is organizing an Extension Activity for school students from 06 January 2026 to 08 January 2026
DESCRIPTION:The School of Mathematics is organizing an Extension Activity for school students from 06 January 2026 to 08 January 2026. All final year students will participate in the programme.
URL:https://avpcas.edu.in/event/the-school-of-mathematics-is-organizing-an-extension-activity-for-school-students-from-06-january-2026-to-08-january-2026/
LOCATION:Avinashi\,Nachipalayam\,Perumanallur
CATEGORIES:Announcements,Department Events,Department of Maths
END:VEVENT
BEGIN:VEVENT
DTSTART;TZID=Asia/Kolkata:20260105T103000
DTEND;TZID=Asia/Kolkata:20260105T150000
DTSTAMP:20260420T054404
CREATED:20260106T084448Z
LAST-MODIFIED:20260106T084448Z
UID:18535-1767609000-1767625200@avpcas.edu.in
SUMMARY:The Career Guidance and Competitive Examination Cell in collaboration with Nandi Foundation (powered by Titan Spokes) organized a one-day workshop on 05 January 2026
DESCRIPTION:The Career Guidance and Competitive Examination Cell\, in collaboration with Nandi Foundation (powered by Titan Spokes)\, organized a one-day workshop on 05 January 2026 at the Seminar Hall for all final year students. Mr. K. Dinesh Kumar\, Senior Manager – Business Development Head\, Imarticus Learning Pvt. Ltd.\, Coimbatore\, was the resource person.The workshop included two sessions focusing on global finance trends and career opportunities in data analytics and data science\, highlighting industry expectations and essential skills for fresh graduates. The programme enhanced students’ career awareness and future readiness\, benefiting nearly 500 students. \n                   \n                   
URL:https://avpcas.edu.in/event/the-career-guidance-and-competitive-examination-cell-in-collaboration-with-nandi-foundation-powered-by-titan-spokes-organized-a-one-day-workshop-on-05-january-2026/
LOCATION:Seminar Hall and Multipurpose Hall
CATEGORIES:Announcements,career guidance cell,Competitive Exam cell
END:VEVENT
BEGIN:VEVENT
DTSTART;TZID=Asia/Kolkata:20251231T103000
DTEND;TZID=Asia/Kolkata:20251231T123000
DTSTAMP:20260420T054404
CREATED:20251231T054607Z
LAST-MODIFIED:20260103T102946Z
UID:18526-1767177000-1767184200@avpcas.edu.in
SUMMARY:Nss and UBA cell in association with state rural development of India organizes a "Official Advisory on prevention of Mosquito Breeding" on 31.12.2025
DESCRIPTION:Nss and UBA cell in association with state rural development of India organized a “Official Advisory on prevention of Mosquito Breeding” on 31.12.2025 at Kannakampalayam and pongupalayam by 10.30 am- 12.30Pm. \n                                \n 
URL:https://avpcas.edu.in/event/nss-and-uba-cell-in-association-with-state-rural-development-of-india-organizes-a-official-advisory-on-prevention-of-mosquito-breeding-on-31-12-2025/
LOCATION:Kannakkampalayam and Pongupalayam
CATEGORIES:Announcements,General Events,NSS,UBA
END:VEVENT
BEGIN:VEVENT
DTSTART;TZID=Asia/Kolkata:20251230T140000
DTEND;TZID=Asia/Kolkata:20251230T153000
DTSTAMP:20260420T054404
CREATED:20251230T053247Z
LAST-MODIFIED:20251231T053607Z
UID:18503-1767103200-1767108600@avpcas.edu.in
SUMMARY:School of Applied Commerce (PA) is organizing a Workshop on Innovation Design in IPR on 30.12.25
DESCRIPTION:School of Applied Commerce (PA) organized a workshop on Innovation Design in IPR in Multipurpose Hall at 2.00 Pm on 30.12.25. Dr.S.Mohana Priya\, Assistant Professor\, School of Commerce\, A.V.P College of Arts and Science acted as the resource person for today’s session. Through the event clearly explained how innovative ideas can be designed\, protected\, and legally secured through intellectual property rights\, helping participants confidently convert their ideas into protected innovations. Totally 115 students attended the session and got benefited. \n                              \n 
URL:https://avpcas.edu.in/event/school-of-applied-commerce-pa-is-organizing-a-workshop-on-innovation-design-in-ipr-on-30-12-25/
LOCATION:Multipurpose Hall
CATEGORIES:Announcements,Department Events,Department of Commerce with CA
END:VEVENT
BEGIN:VEVENT
DTSTART;TZID=Asia/Kolkata:20251230T103000
DTEND;TZID=Asia/Kolkata:20251230T123000
DTSTAMP:20260420T054404
CREATED:20251230T052521Z
LAST-MODIFIED:20251231T053742Z
UID:18500-1767090600-1767097800@avpcas.edu.in
SUMMARY:School of Applied Commerce (CA) organizes a Seminar on Research Methodology: Concepts\, Tools & Applications on 30/12/2025
DESCRIPTION:School of Applied Commerce (CA) organized a Seminar on Research Methodology: Concepts\, Tools & Applications on 30/12/2025 in Multi-Purpose hall.The seminar aimed to provide systematic knowledge about research processes\, tools\, and techniques essential for quality research and publication.The students of II &III years of B.COM (CA)were participated and the seminar encouraged students to pursue research oriented carriers (PhD) and publications. \n                                 
URL:https://avpcas.edu.in/event/school-of-applied-commerce-ca-organizes-a-seminar-on-research-methodology-concepts-tools-applications-on-30-12-2025/
LOCATION:Multi purpose hall
CATEGORIES:Announcements,Department Events,Department of Commerce with CA
END:VEVENT
BEGIN:VEVENT
DTSTART;TZID=Asia/Kolkata:20251230T093000
DTEND;TZID=Asia/Kolkata:20251230T123000
DTSTAMP:20260420T054404
CREATED:20251230T054025Z
LAST-MODIFIED:20251230T054025Z
UID:18506-1767087000-1767097800@avpcas.edu.in
SUMMARY:Internal Quality Assurance cell has organised an Invited Talk on Selfpaced learning through MOOC's for the students on 30.12.2025
DESCRIPTION:Internal Quality Assurance cell has organised an Invited Talk on Selfpaced learning through MOOC’s for the students of the college. Ms. T. Maheshwari\, Assistant professor from Dr. N.G.P. Arts and Science College deliberated the uses of mooc coursesand better opportunities the students can gain by undertaking these courses. \n                          \n 
URL:https://avpcas.edu.in/event/internal-quality-assurance-cell-has-organised-an-invited-talk-on-selfpaced-learning-through-moocs-for-the-students-on-30-12-2025/
LOCATION:Seminar Hall
CATEGORIES:Announcements,General Events,IQAC
END:VEVENT
BEGIN:VEVENT
DTSTART;TZID=Asia/Kolkata:20251229T100000
DTEND;TZID=Asia/Kolkata:20251229T123000
DTSTAMP:20260420T054404
CREATED:20251230T051828Z
LAST-MODIFIED:20251231T054114Z
UID:18497-1767002400-1767011400@avpcas.edu.in
SUMMARY:The School of Computer Studies (IT&AI) is organizing a Life Skills Seminar on "Understanding Mental Health and Physical Health" on 29.12.2025
DESCRIPTION:The School of Computer Studies (IT & AI) organized a Life Skill Seminar on “Understanding Mental Health and Physical Health” on 29.12.2025 at 10.00 a.m. in the Seminar Hall. The session was delivered by Ms. R. S. Cindhu\, Head of the Department\, School of Biotechnology\, AVPCAS\, as the resource person.II B.Sc. IT students actively participated in the programme and benefited from the interactive and informative session. The seminar motivated students to manage stress effectively\, improve self-care practices\, and enhance their overall life skills. \n                                             \n  \n                                            
URL:https://avpcas.edu.in/event/the-school-of-computer-studies-itai-is-organizing-a-life-skills-seminar-on-understanding-mental-health-and-physical-health-on-29-12-2025/
LOCATION:Seminar Hall
CATEGORIES:Announcements,Department Events,Department of Computer Science
ORGANIZER;CN="Department%20of%20Computer%20Science":MAILTO:avpcollegetirupur@gmail.com
END:VEVENT
BEGIN:VEVENT
DTSTART;TZID=Asia/Kolkata:20251224T100000
DTEND;TZID=Asia/Kolkata:20251224T170000
DTSTAMP:20260420T054404
CREATED:20251229T103613Z
LAST-MODIFIED:20251229T103613Z
UID:18494-1766570400-1766595600@avpcas.edu.in
SUMMARY:The Consumer Club has organizes an Online Quiz Competition to commemorate National Consumer Day on 24.12.2025.
DESCRIPTION:The Consumer Club has organizes an Online Quiz Competition to commemorate National Consumer Day on 24.12.2025.
URL:https://avpcas.edu.in/event/the-consumer-club-has-organizes-an-online-quiz-competition-to-commemorate-national-consumer-day-on-24-12-2025/
LOCATION:ONLINE MODE
CATEGORIES:Announcements,Consumer club
ORGANIZER;CN="Consumer%20Club":MAILTO:avpchatroom@gmail.com
END:VEVENT
BEGIN:VEVENT
DTSTART;TZID=Asia/Kolkata:20251223T110000
DTEND;TZID=Asia/Kolkata:20251223T130000
DTSTAMP:20260420T054404
CREATED:20251223T053909Z
LAST-MODIFIED:20251229T103100Z
UID:18480-1766487600-1766494800@avpcas.edu.in
SUMMARY:The School of Biotechnology will organize an outreach programme titled “Biotech in Everyday Life” at Kalampalayam on 23rd December 2025
DESCRIPTION:The School of Biotechnology conducted an outreach programme titled “Biotech in Everyday Life” at Kalampalayam on 23 December 2025 to create awareness about innovations in biotechnology and their applications in daily life\, with the active participation of II and III year B.Sc. Biotechnology students. \n                                  \n  \n                                
URL:https://avpcas.edu.in/event/the-school-of-biotechnology-will-organize-an-outreach-programme-titled-biotech-in-everyday-life-at-kalampalayam-on-23rd-december-2025/
LOCATION:kalampalayam
CATEGORIES:Announcements,Department Events,Department of Biotechnology
END:VEVENT
BEGIN:VEVENT
DTSTART;TZID=Asia/Kolkata:20251222T100000
DTEND;TZID=Asia/Kolkata:20251222T123000
DTSTAMP:20260420T054404
CREATED:20251223T051805Z
LAST-MODIFIED:20251223T051805Z
UID:18473-1766397600-1766406600@avpcas.edu.in
SUMMARY:The School of Mathematics is organizing the National Mathematics Day – Inter-Collegiate Online Mathathon (Quiz) on 22nd December 2025
DESCRIPTION:The School of Mathematics is organizing the National Mathematics Day – Inter-Collegiate Online Mathathon (Quiz) for UG and PG students of all disciplines on 22nd December 2025 to commemorate the birth anniversary of Srinivasa Ramanujan
URL:https://avpcas.edu.in/event/the-school-of-mathematics-is-organizing-the-national-mathematics-day-inter-collegiate-online-mathathon-quiz-on-22nd-december-2025/
LOCATION:ONLINE MODE
CATEGORIES:Announcements,Department Events,Department of Maths
END:VEVENT
BEGIN:VEVENT
DTSTART;TZID=Asia/Kolkata:20251222T090000
DTEND;TZID=Asia/Kolkata:20251222T130000
DTSTAMP:20260420T054404
CREATED:20251223T055222Z
LAST-MODIFIED:20251223T055222Z
UID:18483-1766394000-1766408400@avpcas.edu.in
SUMMARY:Final year BA English Literature students Internship will begin from 22.12.25 onwards
DESCRIPTION:Final year BA English Literature students Internship will begin from 22.12.25 onwards at Booms Academy . The core objective of this internship is to get institutional training for the future ready professionals
URL:https://avpcas.edu.in/event/final-year-ba-english-literature-students-internship-will-begin-from-22-12-25-onwards/
LOCATION:Pn Road\, Tirupur
CATEGORIES:Announcements,Department Events,Department of English
END:VEVENT
BEGIN:VEVENT
DTSTART;TZID=Asia/Kolkata:20251219T100000
DTEND;TZID=Asia/Kolkata:20251219T120000
DTSTAMP:20260420T054404
CREATED:20251220T063115Z
LAST-MODIFIED:20251220T063115Z
UID:18470-1766138400-1766145600@avpcas.edu.in
SUMMARY:Frame and Focus club organises "Click Craze Contest" on "Winter Wonders" on 19.12.2025
DESCRIPTION:Frame and Focus club organises “Click Craze Contest” on “Winter Wonders” on 19.12.2025
URL:https://avpcas.edu.in/event/frame-and-focus-club-organises-click-craze-contest-on-winter-wonders-on-19-12-2025/
LOCATION:Virtual Mode( Google meet )
CATEGORIES:Announcements,Frame and Focus club
END:VEVENT
BEGIN:VEVENT
DTSTART;TZID=Asia/Kolkata:20251218T133000
DTEND;TZID=Asia/Kolkata:20251218T150000
DTSTAMP:20260420T054404
CREATED:20251220T062253Z
LAST-MODIFIED:20251220T062253Z
UID:18465-1766064600-1766070000@avpcas.edu.in
SUMMARY:School of Liberal Arts-English have organised an Alumni Talk on Merging Art and Entrepreneurship on 18.12.25
DESCRIPTION:School of Liberal Arts-English successfully organised an Alumni Talk on Merging Art and Entrepreneurship on 18.12.25 by 1.30 p.m in the Multi purpose hall. The session was beneficial to all the students. \n                           
URL:https://avpcas.edu.in/event/school-of-liberal-arts-english-have-organised-an-alumni-talk-on-merging-art-and-entrepreneurship-on-18-12-25/
LOCATION:Multipurpose Hall
CATEGORIES:Announcements,Department Events,Department of English
END:VEVENT
BEGIN:VEVENT
DTSTART;TZID=Asia/Kolkata:20251218T103000
DTEND;TZID=Asia/Kolkata:20251218T123000
DTSTAMP:20260420T054404
CREATED:20251220T061256Z
LAST-MODIFIED:20251220T061256Z
UID:18459-1766053800-1766061000@avpcas.edu.in
SUMMARY:The School of Liberal Arts-English  organised a Guest Lecture on 'Mastering the Art of Strategic Communication' via Google Meet on 18.12.2025
DESCRIPTION:The School of Liberal Arts-English  organised a Guest Lecture on ‘Mastering the Art of Strategic Communication’ via Google Meet on 18.12.2025 at 10:30 a.m. Steve Loney\, Voice and Accent Trainer at Omega Health Care\, Trichy\, act as a resource person and shared valuable insights on boosting voice modulation and mastering accents for impactful communication. \n                       \n 
URL:https://avpcas.edu.in/event/the-school-of-liberal-arts-english-organised-a-guest-lecture-on-mastering-the-art-of-strategic-communication-via-google-meet-on-18-12-2025/
LOCATION:Google Meet
CATEGORIES:Announcements,Department Events,Department of English
ORGANIZER;CN="Department%20of%20English":MAILTO:avpchatroom@gmail.com
END:VEVENT
BEGIN:VEVENT
DTSTART;TZID=Asia/Kolkata:20251217T100000
DTEND;TZID=Asia/Kolkata:20251217T123000
DTSTAMP:20260420T054404
CREATED:20251220T055037Z
LAST-MODIFIED:20251220T060350Z
UID:18450-1765965600-1765974600@avpcas.edu.in
SUMMARY:School of Commerce organized an Inter Department Competition - entitled "Product Pitch" on 17.12.2025
DESCRIPTION:School of Commerce organized an Inter Department Competition – entitled “Product Pitch” on 17.12.2025 at Multipurpose Hall. \n                          \n  \n                         
URL:https://avpcas.edu.in/event/school-of-commerce-organized-an-inter-department-competition-entitled-product-pitch-on-17-12-2025/
LOCATION:Multipurpose Hall
CATEGORIES:Announcements,Department Events,Department of Commerce
END:VEVENT
BEGIN:VEVENT
DTSTART;TZID=Asia/Kolkata:20251212T153000
DTEND;TZID=Asia/Kolkata:20251212T160000
DTSTAMP:20260420T054404
CREATED:20251220T052026Z
LAST-MODIFIED:20251220T052934Z
UID:18440-1765553400-1765555200@avpcas.edu.in
SUMMARY:Internal Quality Assurance cell have organised Sathya Gnanam session for the month of December on 12.12.25
DESCRIPTION:Internal Quality Assurance cell have organised Sathya Gnanam session for the month of December on 12.12.25 by 3.30 p.m in the Seminar hall. Ms. R. Parimaladevi\, Assistant professor\, School of Mathematics delivered a session on Maths in Cryptography and cyber security. The session was beneficial to all the Members of Faculty. \n                 \n \n 
URL:https://avpcas.edu.in/event/iqac-organised-sathya-gnanam-session-for-the-month-of-december-on-12-12-25/
LOCATION:Seminar Hall
CATEGORIES:Announcements,IQAC
END:VEVENT
BEGIN:VEVENT
DTSTART;TZID=Asia/Kolkata:20251211T103000
DTEND;TZID=Asia/Kolkata:20251211T123000
DTSTAMP:20260420T054404
CREATED:20251218T065718Z
LAST-MODIFIED:20251218T071439Z
UID:18431-1765449000-1765456200@avpcas.edu.in
SUMMARY:School of liberal arts - Muthamizh Mandram has planned to conduct Speech and Poetry writing competition on 11.12.2025
DESCRIPTION:On behalf of Bharathiar’s 143th Birth Anniversary Muthamizh Mandram has organized an Oratorical & Poetry Writing Competition held on 11.12.2025 at 10.30 AM in the Hall No 319. Totally 25 students from various Department were actively participated in this Competition. This event inspires students and society to uphold his ideals of courage\, education\, women’s empowerment\, and national unity\, strengthening patriotic values and cultural pride. \n                       \n               
URL:https://avpcas.edu.in/event/school-of-liberal-arts-muthamizh-mandram-has-planned-to-conduct-speech-and-poetry-writing-competition-on-11-12-2025/
LOCATION:Hall no:319
CATEGORIES:Announcements,Deaprtment of Tamil,Department Events
END:VEVENT
BEGIN:VEVENT
DTSTART;TZID=Asia/Kolkata:20251031T110000
DTEND;TZID=Asia/Kolkata:20251031T123000
DTSTAMP:20260420T054404
CREATED:20251109T120317Z
LAST-MODIFIED:20251109T120317Z
UID:18421-1761908400-1761913800@avpcas.edu.in
SUMMARY:NSS Cell and UBA Cell of AVP CAS organized a National Unity Day Awareness program on October 31\, 2025.
DESCRIPTION:NSS Cell and UBA Cell of AVP CAS organized a National Unity Day Awareness program on October 31\, 2025\, at 11:00 AM to commemorate the 150th birth anniversary of Sardar Vallabhbhai Patel\, the Iron Man of India. Following insightful speeches\, participants collectively took the pledge to uphold national unity and integrity. \n   \n 
URL:https://avpcas.edu.in/event/nss-cell-and-uba-cell-of-avp-cas-organized-a-national-unity-day-awareness-program-on-october-31-2025/
LOCATION:AVPCAS
CATEGORIES:Announcements,College Management,NSS,UBA
END:VEVENT
BEGIN:VEVENT
DTSTART;TZID=Asia/Kolkata:20251029T150000
DTEND;TZID=Asia/Kolkata:20251029T160000
DTSTAMP:20260420T054404
CREATED:20251109T115836Z
LAST-MODIFIED:20251109T115836Z
UID:18418-1761750000-1761753600@avpcas.edu.in
SUMMARY:Department of Library and Information Center organized an Institutional–Industry Collaboration MoU Signing Ceremony with the Madras Library Association (MALA)\, Tirupur\, on 29.10.2025.
DESCRIPTION:The Department of Library and Information Center organized an Institutional–Industry Collaboration MoU Signing Ceremony with the Madras Library Association (MALA)\, Tirupur\, on 29.10.2025 at 3.00 PM
URL:https://avpcas.edu.in/event/department-of-library-and-information-center-organized-an-institutional-industry-collaboration-mou-signing-ceremony-with-the-madras-library-association-mala-tirupur-on-29-10-2025/
LOCATION:AVPCAS CAMPUS
CATEGORIES:Announcements,College Management,Department of Library & Information Center
END:VEVENT
BEGIN:VEVENT
DTSTART;TZID=Asia/Kolkata:20251024T150000
DTEND;TZID=Asia/Kolkata:20251024T160000
DTSTAMP:20260420T054404
CREATED:20251109T115529Z
LAST-MODIFIED:20251109T115530Z
UID:18412-1761318000-1761321600@avpcas.edu.in
SUMMARY:Internal Quality Assurance cell has organised Sathya Gnanam session for the month of October on 24.10.25.
DESCRIPTION:Internal Quality Assurance cell has organised Sathya Gnanam session for the month of October on 24.10.25 in the Seminar hall by 3.00 p.m. Dr. P. Priyadarshini\, A/P School of Liberal Arts- Tamil has acted as the resource person. All the members of faculty attended and got benefitted. \n       
URL:https://avpcas.edu.in/event/internal-quality-assurance-cell-has-organised-sathya-gnanam-session-for-the-month-of-october-on-24-10-25/
LOCATION:Seminar Hall
CATEGORIES:Announcements,College Management,IQAC
END:VEVENT
BEGIN:VEVENT
DTSTART;TZID=Asia/Kolkata:20251015T073000
DTEND;TZID=Asia/Kolkata:20251015T170000
DTSTAMP:20260420T054404
CREATED:20251016T101414Z
LAST-MODIFIED:20251016T164834Z
UID:18337-1760513400-1760547600@avpcas.edu.in
SUMMARY:NSS & UBA organized an Extension activity on Scheme connect Volunteers powering change on 15.10.25
DESCRIPTION:The NSS Cell and UBA Cell of A.V.P. College of Arts and Science organized an Extension Activity titled “Schemes Connect: Volunteers Powering Change” on 15.10.2025 at Sirupoolvapatti from 7.30 a.m. to 5.30 p.m. Around 20 NSS and UBA volunteers actively participated in the event. Our volunteers helped the public apply for various government schemes and successfully filled around 2\,000 application forms\, making the program a great success. \n  \n 
URL:https://avpcas.edu.in/event/nss-uba-organized-an-extension-activity-on-scheme-connect-volunteers-powering-change-on-15-10-25/
LOCATION:Amman Kalyana Mandapam\,Sirupoolvapatti
CATEGORIES:Announcements,Department Events,NSS,UBA
END:VEVENT
BEGIN:VEVENT
DTSTART;TZID=Asia/Kolkata:20251014T133000
DTEND;TZID=Asia/Kolkata:20251014T150000
DTSTAMP:20260420T054404
CREATED:20251014T165322Z
LAST-MODIFIED:20251014T165323Z
UID:18324-1760448600-1760454000@avpcas.edu.in
SUMMARY:The Consumer Club organizing a "Poster Making Competition" to commemorate World Standards Day on 14.10.2025.
DESCRIPTION:The Consumer Club organized a ‘Poster Making Competition’ to commemorate World Standards Day at 1:30 pm on October 14\, 2025. The students participated enthusiastically\, showcasing their creativity and understanding of standards.
URL:https://avpcas.edu.in/event/the-consumer-club-organizing-a-poster-making-competition-to-commemorate-world-standards-day-on-14-10-2025/
LOCATION:Multipurpose Hall
CATEGORIES:Announcements,Consumer club
END:VEVENT
BEGIN:VEVENT
DTSTART;TZID=Asia/Kolkata:20251011T103000
DTEND;TZID=Asia/Kolkata:20251011T170000
DTSTAMP:20260420T054404
CREATED:20251016T101933Z
LAST-MODIFIED:20251016T101934Z
UID:18341-1760178600-1760202000@avpcas.edu.in
SUMMARY:NSS cell and UBA of AVP CAS in association with SIRD organised an Extension Activity on "coordinating Gram Sabha Meeting and awareness program on Drug Free India- Miming" on 11.10.2025.
DESCRIPTION:NSS cell and UBA of AVP CAS in association with SIRD organised an Extension Activity on “coordinating Gram Sabha Meeting and awareness program on Drug Free India- Miming” on 11.10.2025 in Kannakkampalayam and Pongupalayam. at 10.30 Am – 12.30 pm .
URL:https://avpcas.edu.in/event/nss-cell-and-uba-of-avp-cas-in-association-with-sird-organised-an-extension-activity-on-coordinating-gram-sabha-meeting-and-awareness-program-on-drug-free-india-miming-on-11-10-2025/
LOCATION:Kannakkampalayam and Pongupalayam
CATEGORIES:Announcements,NSS,UBA
END:VEVENT
BEGIN:VEVENT
DTSTART;TZID=Asia/Kolkata:20251011T103000
DTEND;TZID=Asia/Kolkata:20251011T130000
DTSTAMP:20260420T054404
CREATED:20251016T102429Z
LAST-MODIFIED:20251016T102430Z
UID:18349-1760178600-1760187600@avpcas.edu.in
SUMMARY:School of Commerce in association with Institutions Innovative Council and Indian Post office - Head office jointly organised an Extension Activity on "Bringing Postal Services Closer to You " on 11.10.2025
DESCRIPTION:  \n \nSchool of Commerce in association with Institutions Innovative Council and Indian Post office – Head office jointly organised an Extension Activity on “Bringing Postal Services Closer to You ” on 11.10.2025 in India post office – Head office\, Tirupur. at 10.30 Am – 12.30 Pm .
URL:https://avpcas.edu.in/event/school-of-commerce-in-association-with-institutions-innovative-council-and-indian-post-office-head-office-jointly-organised-an-extension-activity-on-bringing-postal-services-closer-to-you-on-11/
LOCATION:Post office Tirupur
CATEGORIES:Announcements,Department Events,Department of Commerce
END:VEVENT
BEGIN:VEVENT
DTSTART;TZID=Asia/Kolkata:20251011T103000
DTEND;TZID=Asia/Kolkata:20251011T123000
DTSTAMP:20260420T054404
CREATED:20251016T103249Z
LAST-MODIFIED:20251016T103250Z
UID:18369-1760178600-1760185800@avpcas.edu.in
SUMMARY:The School of Liberal Arts-English successfully hosted The Literary Week Intra-Department Competition a series of engaging events\, on 11.10.2025
DESCRIPTION:The School of Liberal Arts-English successfully hosted The Literary Week Intra-Department Competition a series of engaging events\, on 11.10.2025 at 10.30 AM\, including Rhythm &Hippo\,Slogans and Short poem writing\, creative corner Drama and Parade\, showcasing students’ literary talents and creativity\, and fostered a spirit of healthy competition and camaraderie among participants.
URL:https://avpcas.edu.in/event/the-school-of-liberal-arts-english-successfully-hosted-the-literary-week-intra-department-competition-a-series-of-engaging-events-on-11-10-2025/
LOCATION:Multipurpose Hall
CATEGORIES:Announcements,Department Events,Department of English
ORGANIZER;CN="Department%20of%20English":MAILTO:avpchatroom@gmail.com
END:VEVENT
BEGIN:VEVENT
DTSTART;TZID=Asia/Kolkata:20251011T103000
DTEND;TZID=Asia/Kolkata:20251011T123000
DTSTAMP:20260420T054404
CREATED:20251016T102906Z
LAST-MODIFIED:20251016T102906Z
UID:18362-1760178600-1760185800@avpcas.edu.in
SUMMARY:Health and Fitness club of AVPCAS and Indian Medical Association Tirupur branch jointly organized an awareness program on " Nurture your mind for a bright future" on 11.10.2025
DESCRIPTION:Health and Fitness club of AVPCAS and Indian Medical Association Tirupur branch jointly organized an awareness program on ” Nurture your mind for a bright future” on 11.10.2025 in multipurpose hall at 10.30 am . Ms.Vidhya jayaprakash psychologist acted as a resource person. The session about mental health\,individual personal counselling and spread goodness to students.
URL:https://avpcas.edu.in/event/health-and-fitness-club-of-avpcas-and-indian-medical-association-tirupur-branch-jointly-organized-an-awareness-program-on-nurture-your-mind-for-a-bright-future-on-11-10-2025/
LOCATION:Multipurpose Hall
CATEGORIES:Announcements,Department Events,Health & fitness Club
END:VEVENT
BEGIN:VEVENT
DTSTART;TZID=Asia/Kolkata:20251010T103000
DTEND;TZID=Asia/Kolkata:20251010T123000
DTSTAMP:20260420T054404
CREATED:20251016T165412Z
LAST-MODIFIED:20251016T165412Z
UID:18388-1760092200-1760099400@avpcas.edu.in
SUMMARY:The School of Mathematics organized Research Presentation" for Mathematics Students On 10.10.2025
DESCRIPTION:The School of Mathematics organized Research Presentation” for Mathematics Students On 10.10.2025 at 10.30 am in ICT Hall.
URL:https://avpcas.edu.in/event/the-school-of-mathematics-organized-research-presentation-for-mathematics-students-on-10-10-2025/
LOCATION:ICT Classroom
CATEGORIES:Announcements,Department Events,Department of Maths
END:VEVENT
BEGIN:VEVENT
DTSTART;TZID=Asia/Kolkata:20251010T100000
DTEND;TZID=Asia/Kolkata:20251010T150000
DTSTAMP:20260420T054404
CREATED:20251016T172347Z
LAST-MODIFIED:20251016T172348Z
UID:18407-1760090400-1760108400@avpcas.edu.in
SUMMARY:School of Biotechnology  organized Laboratory visit and hands-on training workshop on 10.10.25.
DESCRIPTION:School of Biotechnology III B.Sc. Biotechnology students will participate in a visit to the Department of Biotechnology and the Department of Microbial Biotechnology\, Bharathiar University\, on 10.10.2025. The program includes hands-on training in fermentor technology and a visit to the Centralized Instrumentation Facility in Biotechnology Research. \nThe sessions will be handled by Dr. M. Ganadesigan and Dr. M. Arun\, Assistant Professors\, Department of Biotechnology\, Bharathiar University.
URL:https://avpcas.edu.in/event/school-of-biotechnology-organized-laboratory-visit-and-hands-on-training-workshop-on-10-10-25/
LOCATION:Bharathiar University
CATEGORIES:Announcements,Department Events,Department of Biotechnology
END:VEVENT
BEGIN:VEVENT
DTSTART;TZID=Asia/Kolkata:20251010T100000
DTEND;TZID=Asia/Kolkata:20251010T123000
DTSTAMP:20260420T054404
CREATED:20251016T104356Z
LAST-MODIFIED:20251016T104432Z
UID:18376-1760090400-1760099400@avpcas.edu.in
SUMMARY:School of Commerce & School of Management organized a workshop on "Visualize Data in SPSS" on 10.10.25.
DESCRIPTION:School of Commerce & School of Management organized a workshop on “Visualize Data in SPSS” for the students of management and PG commerce students in seminar hall at 10.00am on 10.10.2025. The students got insights about the statistical tools used for research.
URL:https://avpcas.edu.in/event/18376/
LOCATION:Seminar Hall
CATEGORIES:Announcements,Department Events,Department of Business Administration,Department of Commerce
END:VEVENT
BEGIN:VEVENT
DTSTART;TZID=Asia/Kolkata:20251009T103000
DTEND;TZID=Asia/Kolkata:20251009T123000
DTSTAMP:20260420T054404
CREATED:20251016T170438Z
LAST-MODIFIED:20251016T170438Z
UID:18394-1760005800-1760013000@avpcas.edu.in
SUMMARY:School of Applied Commerce Organized an Alumni Talk on the topic of Turning Knowledge into value: Insights from a CMA Journey on 09/10/2025
DESCRIPTION:School of Applied Commerce Organized an Alumni Talk on the topic of Turning Knowledge into value: Insights from a CMA Journey on 09/10/2025 at Multi purpose Hall Ms .S Theeba CMA acted as a resource person.
URL:https://avpcas.edu.in/event/school-of-applied-commerce-organized-an-alumni-talk-on-the-topic-of-turning-knowledge-into-value-insights-from-a-cma-journey-on-09-10-2025/
LOCATION:Multipurpose Hall
CATEGORIES:Announcements,Department Events,Department of Commerce with CA
END:VEVENT
END:VCALENDAR