BEGIN:VCALENDAR
VERSION:2.0
PRODID:-//A.V.P. College of Arts and Science - ECPv6.1.2.2//NONSGML v1.0//EN
CALSCALE:GREGORIAN
METHOD:PUBLISH
X-WR-CALNAME:A.V.P. College of Arts and Science
X-ORIGINAL-URL:https://avpcas.edu.in
X-WR-CALDESC:Events for A.V.P. College of Arts and Science
REFRESH-INTERVAL;VALUE=DURATION:PT1H
X-Robots-Tag:noindex
X-PUBLISHED-TTL:PT1H
BEGIN:VTIMEZONE
TZID:Asia/Kolkata
BEGIN:STANDARD
TZOFFSETFROM:+0530
TZOFFSETTO:+0530
TZNAME:IST
DTSTART:20240101T000000
END:STANDARD
END:VTIMEZONE
BEGIN:VEVENT
DTSTART;TZID=Asia/Kolkata:20250311T133000
DTEND;TZID=Asia/Kolkata:20250311T150000
DTSTAMP:20260422T003413
CREATED:20250312T140631Z
LAST-MODIFIED:20250312T143222Z
UID:16452-1741699800-1741705200@avpcas.edu.in
SUMMARY:School of Mathematics-Cypher Association has organized an Alumni talk on "Education and Skill Development" On 11.03.25.
DESCRIPTION:School of Mathematics-Cypher Association organized an Alumni talk on “Education and Skill Development” On 11.03.25 @1.30pm in ICT Classroom. Ms. D. Nikisha\, Teacher\, Kids Club School was the speaker. \n      
URL:https://avpcas.edu.in/event/school-of-mathematics-cypher-association-has-organized-as-alumni-talk-on-education-and-skill-development-on-11-03-25/
LOCATION:ICT Class Room
CATEGORIES:Announcements,Cyber Club,Department Events
END:VEVENT
BEGIN:VEVENT
DTSTART;TZID=Asia/Kolkata:20250208T140000
DTEND;TZID=Asia/Kolkata:20250208T150000
DTSTAMP:20260422T003413
CREATED:20250212T093819Z
LAST-MODIFIED:20250212T093820Z
UID:16314-1739023200-1739026800@avpcas.edu.in
SUMMARY:Cyber Club has organized an awarness programme by screening a short film "Good Netizen\, Good Citizen" on 08.02.25.
DESCRIPTION:   \nCyber Club has organized an awarness programme by screening a short film “Good Netizen\, Good Citizen” on February 8\, 2025 2.00pm at Multipurpose hall. A total of 51 students attended and benefited.
URL:https://avpcas.edu.in/event/cyber-club-has-organized-an-awarness-programme-by-screening-a-short-film-good-netizen-good-citizen-on-08-02-25/
LOCATION:Multipurpose Hall
CATEGORIES:Announcements,Cyber Club,Department Events
END:VEVENT
BEGIN:VEVENT
DTSTART;TZID=Asia/Kolkata:20240921T133000
DTEND;TZID=Asia/Kolkata:20240921T150000
DTSTAMP:20260422T003413
CREATED:20240923T175750Z
LAST-MODIFIED:20240927T134955Z
UID:15516-1726925400-1726930800@avpcas.edu.in
SUMMARY:Cyber club in association with Institution's Innovation Council organized an Inter Department-Poster designing competition on the topic "Cyber Security-Do's and Don'ts" on 21.09.2024.
DESCRIPTION:Cyber club in association has organized an Inter Department-Poster designing competition on the topic “Cyber Security-Do’s and Don’ts” on 21.09.2024 at 1.30 pm
URL:https://avpcas.edu.in/event/cyber-club-in-association-with-institutions-innovation-council-organized-an-inter-department-poster-designing-competition-on-the-topic-cyber-security-dos-and-donts-on-21-09-2024/
LOCATION:Computer Lab IV
CATEGORIES:Announcements,Cyber Club,Department Events
END:VEVENT
BEGIN:VEVENT
DTSTART;TZID=Asia/Kolkata:20240817T134500
DTEND;TZID=Asia/Kolkata:20240817T150000
DTSTAMP:20260422T003413
CREATED:20240816T153140Z
LAST-MODIFIED:20240819T122731Z
UID:15038-1723902300-1723906800@avpcas.edu.in
SUMMARY:Cyber club has planned to organize a workshop on "Building resilient defenses in cyber world" on 17.08.2024.
DESCRIPTION:Cyber club has organised a workshop on “Building resilient defenses in cyber world” on 17.08.2024\, 1.45pm at Lab IV. Totally 51 students benefited. Mr.Prasanna Balaji\, Cyber security specialist\, Nobel software was the resource person. \n           \n         
URL:https://avpcas.edu.in/event/cyber-club-has-planned-to-organize-a-workshop-on-building-resilient-defenses-in-cyber-world-on-17-08-2024/
LOCATION:Computer Lab IV
CATEGORIES:Announcements,Cyber Club,Department Events
END:VEVENT
BEGIN:VEVENT
DTSTART;TZID=Asia/Kolkata:20240720T134500
DTEND;TZID=Asia/Kolkata:20240720T150000
DTSTAMP:20260422T003413
CREATED:20240719T095139Z
LAST-MODIFIED:20240725T144507Z
UID:14607-1721483100-1721487600@avpcas.edu.in
SUMMARY:Cyber Club in association with Institutions Innovation Council organizes Seminar on "Cyber Security Threats and Vulnerabilities"on 20.07.2024
DESCRIPTION:Cyber club organized a seminar on ” Cyber security threats and vulnerabilities” on 20/07/2024. \n         \n       
URL:https://avpcas.edu.in/event/cyber-club-in-association-with-institutions-innovation-council-organizes-seminar-on-cyber-security-threats-and-vulnerabilitieson-20-07-2024/
LOCATION:ICT Class Room 002
CATEGORIES:Announcements,Cyber Club,Department Events
END:VEVENT
END:VCALENDAR