BEGIN:VCALENDAR
VERSION:2.0
PRODID:-//A.V.P. College of Arts and Science - ECPv6.1.2.2//NONSGML v1.0//EN
CALSCALE:GREGORIAN
METHOD:PUBLISH
X-WR-CALNAME:A.V.P. College of Arts and Science
X-ORIGINAL-URL:https://avpcas.edu.in
X-WR-CALDESC:Events for A.V.P. College of Arts and Science
REFRESH-INTERVAL;VALUE=DURATION:PT1H
X-Robots-Tag:noindex
X-PUBLISHED-TTL:PT1H
BEGIN:VTIMEZONE
TZID:Asia/Kolkata
BEGIN:STANDARD
TZOFFSETFROM:+0530
TZOFFSETTO:+0530
TZNAME:IST
DTSTART:20220101T000000
END:STANDARD
END:VTIMEZONE
BEGIN:VEVENT
DTSTART;TZID=Asia/Kolkata:20251231T103000
DTEND;TZID=Asia/Kolkata:20251231T123000
DTSTAMP:20260421T175410
CREATED:20251231T054607Z
LAST-MODIFIED:20260103T102946Z
UID:18526-1767177000-1767184200@avpcas.edu.in
SUMMARY:Nss and UBA cell in association with state rural development of India organizes a "Official Advisory on prevention of Mosquito Breeding" on 31.12.2025
DESCRIPTION:Nss and UBA cell in association with state rural development of India organized a “Official Advisory on prevention of Mosquito Breeding” on 31.12.2025 at Kannakampalayam and pongupalayam by 10.30 am- 12.30Pm. \n                                \n 
URL:https://avpcas.edu.in/event/nss-and-uba-cell-in-association-with-state-rural-development-of-india-organizes-a-official-advisory-on-prevention-of-mosquito-breeding-on-31-12-2025/
LOCATION:Kannakkampalayam and Pongupalayam
CATEGORIES:Announcements,General Events,NSS,UBA
END:VEVENT
BEGIN:VEVENT
DTSTART;TZID=Asia/Kolkata:20251230T093000
DTEND;TZID=Asia/Kolkata:20251230T123000
DTSTAMP:20260421T175410
CREATED:20251230T054025Z
LAST-MODIFIED:20251230T054025Z
UID:18506-1767087000-1767097800@avpcas.edu.in
SUMMARY:Internal Quality Assurance cell has organised an Invited Talk on Selfpaced learning through MOOC's for the students on 30.12.2025
DESCRIPTION:Internal Quality Assurance cell has organised an Invited Talk on Selfpaced learning through MOOC’s for the students of the college. Ms. T. Maheshwari\, Assistant professor from Dr. N.G.P. Arts and Science College deliberated the uses of mooc coursesand better opportunities the students can gain by undertaking these courses. \n                          \n 
URL:https://avpcas.edu.in/event/internal-quality-assurance-cell-has-organised-an-invited-talk-on-selfpaced-learning-through-moocs-for-the-students-on-30-12-2025/
LOCATION:Seminar Hall
CATEGORIES:Announcements,General Events,IQAC
END:VEVENT
BEGIN:VEVENT
DTSTART;TZID=Asia/Kolkata:20250912T133000
DTEND;TZID=Asia/Kolkata:20250912T150000
DTSTAMP:20260421T175410
CREATED:20250912T151638Z
LAST-MODIFIED:20250912T151639Z
UID:18105-1757683800-1757689200@avpcas.edu.in
SUMMARY:The Fine Arts Club conducted a Mehndi Competition on 12.09.25.
DESCRIPTION:The Fine Arts Club conducted a Mehndi Competition for the students on 12th September 2025 at 1.30 p.m. A total of 58 students enthusiastically participated. Three prizes were awarded on the basis of neatness\, time management\, and theme \n  \n  \n 
URL:https://avpcas.edu.in/event/the-fine-arts-club-conducted-a-mehndi-competition-on-12-09-25/
LOCATION:Room No : 311
CATEGORIES:Announcements,Department Events,Fine Arts Club
END:VEVENT
BEGIN:VEVENT
DTSTART;TZID=Asia/Kolkata:20250104T133000
DTEND;TZID=Asia/Kolkata:20250104T150000
DTSTAMP:20260421T175410
CREATED:20250104T094041Z
LAST-MODIFIED:20250105T063036Z
UID:16014-1735997400-1736002800@avpcas.edu.in
SUMMARY:The Fine Arts Club and Anti-Drug Committee have planned to conduct a face painting competition on 04.01.2025.
DESCRIPTION:The Fine Arts Club and Anti-Drug Committee conducted a face painting competition on the theme “Colors of Struggle : The Cycle of Abuse and Recovery ” on 04.01.2025 at 1.30 pm in college premises. Around 32 students participated in 16 teams and exhibited their artistic skill with awareness concepts regards drug abuse of current scenario. \n              \n          
URL:https://avpcas.edu.in/event/the-fine-arts-club-and-anti-drug-committee-have-planned-to-conduct-a-face-painting-competition-on-04-01-2025/
LOCATION:Hall no: 315
CATEGORIES:Announcements,Anti Drug Committee,College Management,Fine Arts Club
END:VEVENT
BEGIN:VEVENT
DTSTART;TZID=Asia/Kolkata:20240916T100000
DTEND;TZID=Asia/Kolkata:20240916T150000
DTSTAMP:20260421T175410
CREATED:20240919T065913Z
LAST-MODIFIED:20240919T070239Z
UID:15490-1726480800-1726498800@avpcas.edu.in
SUMMARY:Fine Arts Club & Event Masters Club jointly organised "onam celebrations" on 16.09.2019.
DESCRIPTION:Fine Arts Club & Event Masters Club jointly organised onam celebrations on 16.09.24 @ 10 am in AVPCAS open auditorium followed by Athapoo Rangoli competition conducted for students. \n           \n           \n 
URL:https://avpcas.edu.in/event/fine-arts-club-event-masters-club-jointly-organised-onam-celebrations-on-16-09-2019/
LOCATION:AVPCAS
CATEGORIES:Announcements,College Management,Event Masters club,Fine Arts Club
END:VEVENT
BEGIN:VEVENT
DTSTART;TZID=Asia/Kolkata:20240822T133000
DTEND;TZID=Asia/Kolkata:20240822T150000
DTSTAMP:20260421T175410
CREATED:20240822T153334Z
LAST-MODIFIED:20240822T153335Z
UID:15131-1724333400-1724338800@avpcas.edu.in
SUMMARY:Anti ragging committee & Fine Arts Club conducted Miming competition on 22.08.2024.
DESCRIPTION:Anti ragging committee & Fine Arts Club conducted Miming competition on 22.08.2024 @1.30 PM in Multipurpose Hall on the topic “Ragging is Crime”.
URL:https://avpcas.edu.in/event/anti-ragging-committee-fine-arts-club-conducted-miming-competition-on-22-08-2024/
LOCATION:Multi purpose hall
CATEGORIES:Announcements,Anti Ragging Committee,Department Events,Fine Arts Club
END:VEVENT
BEGIN:VEVENT
DTSTART;TZID=Asia/Kolkata:20240817T133000
DTEND;TZID=Asia/Kolkata:20240817T150000
DTSTAMP:20260421T175410
CREATED:20240819T102954Z
LAST-MODIFIED:20240819T104322Z
UID:15048-1723901400-1723906800@avpcas.edu.in
SUMMARY:Fine Arts Club has plan to conduct Mehandi Competition on 17.08.2024.
DESCRIPTION:Fine Arts club was Conducted Mehandi Competition on 17.08.2024 in hall no 302. Totally 34 teams participated. \n           \n         
URL:https://avpcas.edu.in/event/fine-arts-club-has-plan-to-conduct-mehandi-competition-on-17-08-2024/
LOCATION:class romm : 302
CATEGORIES:Announcements,Department Events,Fine Arts Club,IIC
END:VEVENT
BEGIN:VEVENT
DTSTART;TZID=Asia/Kolkata:20240802T103000
DTEND;TZID=Asia/Kolkata:20240802T123000
DTSTAMP:20260421T175410
CREATED:20240802T142433Z
LAST-MODIFIED:20240802T143621Z
UID:14834-1722594600-1722601800@avpcas.edu.in
SUMMARY:Fine Arts club in association with Institution's innovation council is planned to conduct Drawing and Essay writing competition on 02.08.2024.
DESCRIPTION:Fine Arts club in association with Institution’s Innovation Council is conducted Drawing & Essay writing Competition\, on the topic “GREEN INDIA”. On 02.08.2024. \n      \n     
URL:https://avpcas.edu.in/event/fine-arts-club-in-association-with-institutions-innovation-council-is-planned-to-conduct-drawing-and-essay-writing-competition-on-02-08-2024/
LOCATION:Room no:302
CATEGORIES:Announcements,Department Events,Fine Arts Club,IIC
END:VEVENT
BEGIN:VEVENT
DTSTART;TZID=Asia/Kolkata:20240718T100000
DTEND;TZID=Asia/Kolkata:20240718T123000
DTSTAMP:20260421T175410
CREATED:20240718T104541Z
LAST-MODIFIED:20240718T104543Z
UID:14582-1721296800-1721305800@avpcas.edu.in
SUMMARY:IQAC in association with Library Information centre is organized a special talk to enhance the reading habit of the students on 18.07.24.
DESCRIPTION:IQAC in association with Library Information centre organised a special talk ” The voice of the books” on 18.07.24 in Multipurpose Hall by 10 a.m. Ms. Miruthula Natarajan\, Founder Sakthi Arakattalai was the guest speaker. Through her speech she inspired the students to expand their knowledge by reading books. \n               
URL:https://avpcas.edu.in/event/iqac-in-association-with-library-information-centre-is-organized-a-special-talk-to-enhance-the-reading-habit-of-the-students-on-18-07-24/
LOCATION:Multipurpose Hall
CATEGORIES:Announcements,Department Events,IQAC,Library
END:VEVENT
BEGIN:VEVENT
DTSTART;TZID=Asia/Kolkata:20240704T100000
DTEND;TZID=Asia/Kolkata:20240704T150000
DTSTAMP:20260421T175410
CREATED:20240704T061741Z
LAST-MODIFIED:20240706T065751Z
UID:14453-1720087200-1720105200@avpcas.edu.in
SUMMARY:FRESHERS DAY & SANGAMAM 2024
DESCRIPTION:Sangamam 2024 inauguration and motivational session was held on 04.07.2024 at Gandhinagar Auditorium. The auditorium was filled with rows of eager freshers \,their faces were filled with mixture of excitement . The enthusiastic motivational speaker\, Dr.I Jegan started the session with fun activities and encouraged the participation among students. Then he make his ball roll on towards life lessons which created an emotional and optimistic attachment throughout the session. He emphasized the key points of motivation and encouragement which created an everlasting impact in each and every students heart.The atmosphere is charged with anticipation and hope\, symbolizing the beginning of their journey of life.Overall\, Sangamam 2024 built a strong foundation among new students that helped them feel welcome and integrated into their new educational community. \n                                                             \n  \n \n  \n  \n 
URL:https://avpcas.edu.in/event/freshers-day-sangamam-2023-2/
LOCATION:School Auditorium\, Gandhinagar
CATEGORIES:Announcements,College Management,General Events
END:VEVENT
BEGIN:VEVENT
DTSTART;TZID=Asia/Kolkata:20240308T160000
DTEND;TZID=Asia/Kolkata:20240308T180000
DTSTAMP:20260421T175410
CREATED:20240307T161923Z
LAST-MODIFIED:20240307T161924Z
UID:13794-1709913600-1709920800@avpcas.edu.in
SUMMARY:IQAC in association with Library Information centre has planned to conduct a webinar on "Orientation on Usage of Digital Resource" on 08.03.24.
DESCRIPTION:IQAC in association with Library Information centre has planned to conduct a webinar on “Orientation on Usage of Digital Resource” on 08.03.24 by 4.00 p.m.
URL:https://avpcas.edu.in/event/iqac-in-association-with-library-information-centre-has-planned-to-conduct-a-webinar-on-orientation-on-usage-of-digital-resource-on-08-03-24/
LOCATION:ONLINE MODE
CATEGORIES:Announcements,Department Events,IQAC,Library
END:VEVENT
BEGIN:VEVENT
DTSTART;TZID=Asia/Kolkata:20240217T100000
DTEND;TZID=Asia/Kolkata:20240217T150000
DTSTAMP:20260421T175410
CREATED:20240214T183027Z
LAST-MODIFIED:20240220T150820Z
UID:13536-1708164000-1708182000@avpcas.edu.in
SUMMARY:Department of Library & Information center organizes a Book Fair on 17.02.2024 .
DESCRIPTION:Department of Library and information center has organized an “Book Expo” in Avp Auditorium\, on 17.02.2024. All students& staffs are participated in the Expo. \n  \n 
URL:https://avpcas.edu.in/event/department-of-library-information-center-organizes-a-book-fair-on-17-02-2024/
LOCATION:Auditorium\, College campus\, Tirupur\, India
CATEGORIES:Announcements,Department Events,Library
END:VEVENT
BEGIN:VEVENT
DTSTART;TZID=Asia/Kolkata:20240112T093000
DTEND;TZID=Asia/Kolkata:20240112T123000
DTSTAMP:20260421T175410
CREATED:20240111T075655Z
LAST-MODIFIED:20240111T075655Z
UID:13032-1705051800-1705062600@avpcas.edu.in
SUMMARY:AVP CAS Pongal celebration  on 12.01.2024
DESCRIPTION:
URL:https://avpcas.edu.in/event/avp-cas-pongal-celebration-on-12-01-2024/
LOCATION:College Ground\, AVP Campus\, Tirupur
CATEGORIES:General Events
END:VEVENT
BEGIN:VEVENT
DTSTART;TZID=Asia/Kolkata:20230804T100000
DTEND;TZID=Asia/Kolkata:20230804T123000
DTSTAMP:20260421T175410
CREATED:20230804T075731Z
LAST-MODIFIED:20230805T102343Z
UID:11367-1691143200-1691152200@avpcas.edu.in
SUMMARY:Social awareness cell Organizes an awareness program"How to overcome from Social Media Addiction" on 04.08.2023
DESCRIPTION:On 04.08.2023 Social awareness cell of AVPCAS\, ROTARY TIRUPUR PRIDE AND ROTARY COIMBATORE EAST Jointly organised an awareness program on the topic “How to overcome from Social Media Addiction ” for all the I year students of our college. Totally 506 students got benefited.
URL:https://avpcas.edu.in/event/social-awareness-cell-organizes-an-awareness-programhow-to-overcome-from-social-media-addiction-on-04-08-2023/
LOCATION:School Auditorium\, Gandhinagar
CATEGORIES:Announcements,College Management,Department Events,social awareness cell
END:VEVENT
BEGIN:VEVENT
DTSTART;TZID=Asia/Kolkata:20230705T100000
DTEND;TZID=Asia/Kolkata:20230705T150000
DTSTAMP:20260421T175410
CREATED:20230705T041944Z
LAST-MODIFIED:20230705T042017Z
UID:11089-1688551200-1688569200@avpcas.edu.in
SUMMARY:FRESHERS DAY & SANGAMAM 2023
DESCRIPTION:
URL:https://avpcas.edu.in/event/freshers-day-sangamam-2023/
LOCATION:School Auditorium\, Gandhinagar
CATEGORIES:Announcements,College Management,General Events
END:VEVENT
BEGIN:VEVENT
DTSTART;TZID=Asia/Kolkata:20230329T100000
DTEND;TZID=Asia/Kolkata:20230330T153000
DTSTAMP:20260421T175410
CREATED:20230405T044857Z
LAST-MODIFIED:20230405T044941Z
UID:10954-1680084000-1680190200@avpcas.edu.in
SUMMARY:Fine Arts Club Complies "Euphorians 2K23" on29th and 30th March 2023
DESCRIPTION:
URL:https://avpcas.edu.in/event/fine-arts-club-complies-euphorians-2k23-on29th-and-30th-march-2023/
LOCATION:Seminar Hall
CATEGORIES:Announcements,Department Events,Fine Arts Club
END:VEVENT
BEGIN:VEVENT
DTSTART;TZID=Asia/Kolkata:20230328T100000
DTEND;TZID=Asia/Kolkata:20230328T123000
DTSTAMP:20260421T175410
CREATED:20230331T104906Z
LAST-MODIFIED:20230331T105226Z
UID:10891-1679997600-1680006600@avpcas.edu.in
SUMMARY:Fine Arts Club Organizes Fine Arts Events on 28.03.2023 and 29.03.2023
DESCRIPTION: 
URL:https://avpcas.edu.in/event/fine-arts-club-organizes-fine-arts-events-on-28-03-2023-and-29-03-2023/
LOCATION:Seminar Hall
CATEGORIES:Announcements,Department Events,Fine Arts Club
END:VEVENT
BEGIN:VEVENT
DTSTART;TZID=Asia/Kolkata:20230308T100000
DTEND;TZID=Asia/Kolkata:20230308T123000
DTSTAMP:20260421T175410
CREATED:20230307T071204Z
LAST-MODIFIED:20230308T081413Z
UID:10706-1678269600-1678278600@avpcas.edu.in
SUMMARY:Fine Arts Club Conducts Competition on Account of "International Women's Day" on 08.03.2023
DESCRIPTION:  \n       \n 
URL:https://avpcas.edu.in/event/fine-arts-club-conducts-competition-on-account-of-international-womens-day-on-08-03-2023/
LOCATION:Seminar Hall
CATEGORIES:Announcements,Fine Arts Club
END:VEVENT
BEGIN:VEVENT
DTSTART;TZID=Asia/Kolkata:20230303T143000
DTEND;TZID=Asia/Kolkata:20230303T150000
DTSTAMP:20260421T175410
CREATED:20230307T080734Z
LAST-MODIFIED:20230307T080734Z
UID:10738-1677853800-1677855600@avpcas.edu.in
SUMMARY:வாசிப்பை நேசிப்போம்
DESCRIPTION:7th week invitation
URL:https://avpcas.edu.in/event/%e0%ae%b5%e0%ae%be%e0%ae%9a%e0%ae%bf%e0%ae%aa%e0%af%8d%e0%ae%aa%e0%af%88-%e0%ae%a8%e0%af%87%e0%ae%9a%e0%ae%bf%e0%ae%aa%e0%af%8d%e0%ae%aa%e0%af%8b%e0%ae%ae%e0%af%8d-4/
LOCATION:LIBRARY\, AVP COLLEGE\, TIRUPUR\, 641652\, India
CATEGORIES:Announcements,General Events,Library
END:VEVENT
BEGIN:VEVENT
DTSTART;TZID=Asia/Kolkata:20230126T093000
DTEND;TZID=Asia/Kolkata:20230126T110000
DTSTAMP:20260421T175410
CREATED:20230109T060919Z
LAST-MODIFIED:20230129T161859Z
UID:10027-1674725400-1674730800@avpcas.edu.in
SUMMARY:74th  Republic Day Celebration 26.01.2023
DESCRIPTION:
URL:https://avpcas.edu.in/event/sample-event/
LOCATION:College Ground\, AVP Campus\, Tirupur
CATEGORIES:Announcements,General Events
ORGANIZER;CN="Physical%20Education%20Department":MAILTO:Avpchatroom@gmail.com
END:VEVENT
BEGIN:VEVENT
DTSTART;TZID=Asia/Kolkata:20230113T093000
DTEND;TZID=Asia/Kolkata:20230113T123000
DTSTAMP:20260421T175410
CREATED:20230131T052502Z
LAST-MODIFIED:20230203T052343Z
UID:10173-1673602200-1673613000@avpcas.edu.in
SUMMARY:AVP CAS Pongal celebration  on 13.01.2023
DESCRIPTION:
URL:https://avpcas.edu.in/event/pongal-celebration-on-13-01-2023/
CATEGORIES:General Events
END:VEVENT
BEGIN:VEVENT
DTSTART;TZID=Asia/Kolkata:20221116T100000
DTEND;TZID=Asia/Kolkata:20221117T130000
DTSTAMP:20260421T175410
CREATED:20221116T025621Z
LAST-MODIFIED:20221117T062850Z
UID:9897-1668592800-1668690000@avpcas.edu.in
SUMMARY:Rotaract club of AVP College of Arts and Science Organizes Guidance Program MANAM
DESCRIPTION: 
URL:https://avpcas.edu.in/event/rotaract-club-of-avp-college-of-arts-and-science-organizes-guidance-program-manam/
LOCATION:Auditorium\, College campus\, Tirupur\, India
CATEGORIES:General Events
END:VEVENT
BEGIN:VEVENT
DTSTART;TZID=Asia/Kolkata:20221028T100000
DTEND;TZID=Asia/Kolkata:20221028T170000
DTSTAMP:20260421T175410
CREATED:20221104T045048Z
LAST-MODIFIED:20221104T045147Z
UID:9808-1666951200-1666976400@avpcas.edu.in
SUMMARY:Department of English Organizes - State Level Inter Collegiate Meet- Peritia 2022
DESCRIPTION:AVPCAS State level Inter-collegiate\n  \n 
URL:https://avpcas.edu.in/event/department-of-english-organizes-state-level-inter-collegiate-meet-peritia-2022/
LOCATION:Seminar Hall
CATEGORIES:Announcements,Department Events,General Events
ORGANIZER;CN="Department%20of%20English":MAILTO:avpchatroom@gmail.com
END:VEVENT
BEGIN:VEVENT
DTSTART;TZID=Asia/Kolkata:20221015T100000
DTEND;TZID=Asia/Kolkata:20221016T123000
DTSTAMP:20260421T175410
CREATED:20221013T162249Z
LAST-MODIFIED:20221014T090234Z
UID:9699-1665828000-1665923400@avpcas.edu.in
SUMMARY:Research and Development Cell Organizes Intra collegiate Paper Presentation and Webinar on Research Etiquette
DESCRIPTION:Invitation15.10.2022
URL:https://avpcas.edu.in/event/research-and-development-cell-organizes-intra-collegiate-paper-presentation-and-webinar-on-research-etiquette/
LOCATION:Seminar Hall
CATEGORIES:Announcements,Department Events,General Events
END:VEVENT
BEGIN:VEVENT
DTSTART;TZID=Asia/Kolkata:20221012T153000
DTEND;TZID=Asia/Kolkata:20221012T170000
DTSTAMP:20260421T175410
CREATED:20221013T132733Z
LAST-MODIFIED:20221013T133108Z
UID:9689-1665588600-1665594000@avpcas.edu.in
SUMMARY:IQAC Organizes Workshop on The Art of Question Paper Setting using Bloom's Taxonomy
DESCRIPTION:IQAC organized Workshop on The Art of Question Paper Setting using Bloom’s Taxonomy on (12.10.22) at 3.30 pm in the seminar hall. Mr. S. Ashok Kumar\, A.O. cum Head\, Department of Computer Science was the resource person. All the Members of Faculty of our college participated. \n  \n  \n 
URL:https://avpcas.edu.in/event/iqac-organizes-workshop-on-the-art-of-question-paper-setting-using-blooms-taxonomy/
LOCATION:Seminar Hall
CATEGORIES:Announcements,General Events
END:VEVENT
BEGIN:VEVENT
DTSTART;TZID=Asia/Kolkata:20220930T143000
DTEND;TZID=Asia/Kolkata:20220930T150000
DTSTAMP:20260421T175410
CREATED:20221006T052747Z
LAST-MODIFIED:20221006T052747Z
UID:9589-1664548200-1664550000@avpcas.edu.in
SUMMARY:வாசிப்பை நேசிப்போம்
DESCRIPTION:vasipai nesipom-30.9.22\n \n  \n         \n  \n  \n  \n  \n  \n  \n  \n 
URL:https://avpcas.edu.in/event/%e0%ae%b5%e0%ae%be%e0%ae%9a%e0%ae%bf%e0%ae%aa%e0%af%8d%e0%ae%aa%e0%af%88-%e0%ae%a8%e0%af%87%e0%ae%9a%e0%ae%bf%e0%ae%aa%e0%af%8d%e0%ae%aa%e0%af%8b%e0%ae%ae%e0%af%8d-3/
LOCATION:LIBRARY\, AVP COLLEGE\, TIRUPUR\, 641652\, India
CATEGORIES:Announcements,General Events,Library
END:VEVENT
BEGIN:VEVENT
DTSTART;TZID=Asia/Kolkata:20220923T090000
DTEND;TZID=Asia/Kolkata:20220923T153000
DTSTAMP:20260421T175410
CREATED:20220923T042922Z
LAST-MODIFIED:20220927T160228Z
UID:9452-1663923600-1663947000@avpcas.edu.in
SUMMARY:Founders Day - 2022
DESCRIPTION:IQAC of A. V. P. CAS released Newsletter – Calidad on Founder’s Day (today – 23.09.2022) \n    \n 
URL:https://avpcas.edu.in/event/founders-day-2022/
CATEGORIES:Announcements,General Events
END:VEVENT
BEGIN:VEVENT
DTSTART;TZID=Asia/Kolkata:20220922T133000
DTEND;TZID=Asia/Kolkata:20220922T150000
DTSTAMP:20260421T175410
CREATED:20220921T045926Z
LAST-MODIFIED:20220923T094352Z
UID:9426-1663853400-1663858800@avpcas.edu.in
SUMMARY:Rotaract club of A.V.P. college of Arts and Science organizes Orientation Programme
DESCRIPTION:Today Rotaract Club conducted Orientation Programme for the upcoming Rotaract members (22.09.2022) in Seminar Hall. \nRtr.IPP.Rithika.S (District Trainer) and Rtr.R.Leelavathi (Trainer Designate) was the resource persons.
URL:https://avpcas.edu.in/event/rotary-club-of-a-v-p-college-of-arts-and-science-organizes-orientation/
LOCATION:Seminar Hall
CATEGORIES:Announcements,General Events
END:VEVENT
BEGIN:VEVENT
DTSTART;TZID=Asia/Kolkata:20220916T133000
DTEND;TZID=Asia/Kolkata:20220916T143000
DTSTAMP:20260421T175410
CREATED:20220917T053458Z
LAST-MODIFIED:20220917T053458Z
UID:9401-1663335000-1663338600@avpcas.edu.in
SUMMARY:Rotary Club of A.V.P. College Organizes Ozone Day Drawing Competition
DESCRIPTION:
URL:https://avpcas.edu.in/event/rotary-club-of-a-v-p-college-organizes-ozone-day-drawing-competition/
LOCATION:Seminar Hall
CATEGORIES:Announcements,General Events
END:VEVENT
BEGIN:VEVENT
DTSTART;TZID=Asia/Kolkata:20220916T100000
DTEND;TZID=Asia/Kolkata:20220916T123000
DTSTAMP:20260421T175410
CREATED:20220917T051739Z
LAST-MODIFIED:20220917T051948Z
UID:9384-1663322400-1663331400@avpcas.edu.in
SUMMARY:IQAC Organizes Seminar on Intellectual Property Rights
DESCRIPTION:Invitation - IPR - 16.09.2022\n  \n  \nInternal Quality Assurance Cell (IQAC) of A. V. P. College of Arts and Science organised a Seminar on “Intellectual Property Rights” on 16.09.2022 in the seminar hall at 10.00 am. Mr. S. Loganathan\, Legal Advisor\, Trade and Trade was the resource person. Around 180 students participated and got benefitted.
URL:https://avpcas.edu.in/event/iqac-organizes-seminar-on-intellectual-property-rights/
LOCATION:Seminar Hall
CATEGORIES:Announcements,General Events
END:VEVENT
END:VCALENDAR