BEGIN:VCALENDAR
VERSION:2.0
PRODID:-//A.V.P. College of Arts and Science - ECPv6.1.2.2//NONSGML v1.0//EN
CALSCALE:GREGORIAN
METHOD:PUBLISH
X-ORIGINAL-URL:https://avpcas.edu.in
X-WR-CALDESC:Events for A.V.P. College of Arts and Science
REFRESH-INTERVAL;VALUE=DURATION:PT1H
X-Robots-Tag:noindex
X-PUBLISHED-TTL:PT1H
BEGIN:VTIMEZONE
TZID:Asia/Kolkata
BEGIN:STANDARD
TZOFFSETFROM:+0530
TZOFFSETTO:+0530
TZNAME:IST
DTSTART:20220101T000000
END:STANDARD
END:VTIMEZONE
BEGIN:VEVENT
DTSTART;TZID=Asia/Kolkata:20220426T093000
DTEND;TZID=Asia/Kolkata:20220426T123000
DTSTAMP:20260421T233823
CREATED:20220426T035454Z
LAST-MODIFIED:20220428T091333Z
UID:8210-1650965400-1650976200@avpcas.edu.in
SUMMARY:Sports Day 2022
DESCRIPTION:
URL:https://avpcas.edu.in/event/8210/
LOCATION:LIBRARY\, AVP COLLEGE\, TIRUPUR\, 641652\, India
CATEGORIES:General Events
ORGANIZER;CN="Physical%20Education%20Department":MAILTO:Avpchatroom@gmail.com
END:VEVENT
BEGIN:VEVENT
DTSTART;TZID=Asia/Kolkata:20220422T143000
DTEND;TZID=Asia/Kolkata:20220422T150000
DTSTAMP:20260421T233823
CREATED:20220422T133541Z
LAST-MODIFIED:20220422T133541Z
UID:8205-1650637800-1650639600@avpcas.edu.in
SUMMARY:வாசிப்பை நேசிப்போம்
DESCRIPTION:  \n  \n  \n  \n  \n  \n  \n 
URL:https://avpcas.edu.in/event/%e0%ae%b5%e0%ae%be%e0%ae%9a%e0%ae%bf%e0%ae%aa%e0%af%8d%e0%ae%aa%e0%af%88-%e0%ae%a8%e0%af%87%e0%ae%9a%e0%ae%bf%e0%ae%aa%e0%af%8d%e0%ae%aa%e0%af%8b%e0%ae%ae%e0%af%8d-2/
LOCATION:LIBRARY\, AVP COLLEGE\, TIRUPUR\, 641652\, India
CATEGORIES:General Events
END:VEVENT
BEGIN:VEVENT
DTSTART;TZID=Asia/Kolkata:20220412T150000
DTEND;TZID=Asia/Kolkata:20220412T163000
DTSTAMP:20260421T233823
CREATED:20220412T061644Z
LAST-MODIFIED:20220418T065049Z
UID:8137-1649775600-1649781000@avpcas.edu.in
SUMMARY:Department of Computer Science & Commerce with Computer Applications
DESCRIPTION:Faculty Enrichment Program \nThe Department of Computer Science and Department of Commerce with CA jointly organized a Faculty Enrichment Program on the topic of “Building Interactive Video Lessons and YouTube Live Streaming” on 12.04.2022 started at 03:00pm with welcome address by  Mr. S. Ashok Kumar\, Head of the Department of Computer Science .Felicitation was offered by  Dr. M.Leelavathi\, Principal\, AVP CAS. The Resource Person Mrs. Mohana Priya\, Assistant Professor\, Department of Computer Science\, Tirupur Kumaran College for Woman\, Tirupur was introduced and the session went on till 04:15pm.She handled the importance of Edpuzzle\, Open Broadcaster Software and YouTube Live Streaming and connectivity through secret key .Faculty members of Computer science and Commerce with CA attended and got benefited by the Faculty Enrichment Program. The webinar ended with the vote of thanks by Dr.M.Akila\,  Head \, Department of Commerce with CA. \n \n \n \n \n  \n  \n 
URL:https://avpcas.edu.in/event/department-of-computer-science-commerce-with-computer-applications/
LOCATION:Seminar Hall
CATEGORIES:Department of Commerce with CA,Department of Computer Science,General Events
ORGANIZER;CN="Department%20of%20Computer%20Science":MAILTO:avpcollegetirupur@gmail.com
END:VEVENT
BEGIN:VEVENT
DTSTART;TZID=Asia/Kolkata:20220412T113000
DTEND;TZID=Asia/Kolkata:20220412T130000
DTSTAMP:20260421T233823
CREATED:20220413T111324Z
LAST-MODIFIED:20220413T111324Z
UID:8145-1649763000-1649768400@avpcas.edu.in
SUMMARY:Women Empowerment Cell
DESCRIPTION:Women Empowerment Cell \nWomen Empowerment Cell of AVPCAS organized an awareness program entitled ‘Crime Against Women and Child’ on 12.04.2022 at 11:30 AM. Dr. Abinavkumar IPS\, Deputy Commissioner and Mr. Mohan\, Additional Deputy Commissioner\, Tirupur City\, Ms. Prema\, All Women Police Inspector\, North Police Station\, Tirupur City\, Ms. Sornavalli\, Police Inspector\, Cyber Crime Department and Mr. K. Mohan\, Sub Inspector\, Technical Department\, 15 Velampalayam\, Tirupur were invited as the guest of honour. The dignitaries and audience were welcomed by Dr. M. Leelavathi\, Principal\, AVPCAS followed by the presidential address delivered by Rtn. PDG MD Mr. A. Karthikeyan\, Chairman of AVP Institutions. \nThe honourable DC addressed the students by providing the best and safe practices of using social medias. The significance of kavalan application and the details of Emergency Toll free numbers were conveyed by Mr. Mohan\, and Ms. Prema. Further\, Ms. Sornavalli and Mr. K. Mohan gave precise details about the heightening of cyber crimes and its prevention. The program ended with vote of thanks delivered by Ms. D. Maheswari\, coordinator of Women Empowerment Cell. \n \n \n \n 
URL:https://avpcas.edu.in/event/women-empowerment-cell/
LOCATION:Seminar Hall
CATEGORIES:General Events
END:VEVENT
BEGIN:VEVENT
DTSTART;TZID=Asia/Kolkata:20220412T110000
DTEND;TZID=Asia/Kolkata:20220412T130000
DTSTAMP:20260421T233823
CREATED:20220412T061111Z
LAST-MODIFIED:20220418T065611Z
UID:8125-1649761200-1649768400@avpcas.edu.in
SUMMARY:Department of Computer Science- Career Guidance Webinar
DESCRIPTION:  \n             The Association of the Department of Computer Science –Vibrantz organized a webinar on “Career Opportunities for CS Graduates” on 12.04.2022 started at 11:00 am with welcome address by Mr. S. Ashok Kumar\, Head of the Department of Computer Science followed by Presidential address by Rtn. PDG.MD.A. Karthikeyan\, Chairman of the institution. The Resource Person Mr. B. Bizu Assistant Professor\, Deputy Training Officer\, Department of Computer Science Engineering\, KEC\, Perundurai\, was introduced and the session went on till 12:30pm.He explained about \n\nResume Preparation\nLogical Reasoning\nHigher Education\nPlacement\n\nThere was a question and answer session at the end. The webinar ended with the vote of thanks by K.R.Riya III B.Sc CS. \n  \n \n 
URL:https://avpcas.edu.in/event/department-of-computer-science/
CATEGORIES:Department of Computer Science,General Events
ORGANIZER;CN="Department%20of%20Computer%20Science":MAILTO:avpcollegetirupur@gmail.com
END:VEVENT
BEGIN:VEVENT
DTSTART;TZID=Asia/Kolkata:20220412T100000
DTEND;TZID=Asia/Kolkata:20220412T110000
DTSTAMP:20260421T233823
CREATED:20220411T105557Z
LAST-MODIFIED:20220418T052844Z
UID:8117-1649757600-1649761200@avpcas.edu.in
SUMMARY:ROTRACT HEMOGLOBIN CAMP
DESCRIPTION:ROTRACT HEMOGLOBIN CAMP\nRotaract Club of AVP College of Arts and Science and Sri Kumaran Hospital\, Tirupur has jointly  organised Hemoglobin Test Camp on 12.04.2022 and 13.04.2022 inside the campus.College Students\, Teaching  and Non Teaching Faculties  above  550 members were underwent diagnostic check up for Hb count and provided pamphlets.\nA special lecture and presentation was given on iron deficiency and its effects on girl children by Dr. K.Sowmiya Devi MBBS DNB OBG  (Gynecologist) of Sri Kumaran Hospital\, Tirupur. \n  \n \n \n\n \n \n  \n  \n 
URL:https://avpcas.edu.in/event/rotract-hemoglobin-camp/
LOCATION:LIBRARY\, AVP COLLEGE\, TIRUPUR\, 641652\, India
CATEGORIES:General Events
END:VEVENT
BEGIN:VEVENT
DTSTART;TZID=Asia/Kolkata:20220408T143000
DTEND;TZID=Asia/Kolkata:20220408T150000
DTSTAMP:20260421T233823
CREATED:20220408T042614Z
LAST-MODIFIED:20220413T110114Z
UID:8103-1649428200-1649430000@avpcas.edu.in
SUMMARY:வாசிப்பை நேசிப்போம்
DESCRIPTION:  \n  \n  \n \n  \n \n \n 
URL:https://avpcas.edu.in/event/%e0%ae%b5%e0%ae%be%e0%ae%9a%e0%ae%bf%e0%ae%aa%e0%af%8d%e0%ae%aa%e0%af%88-%e0%ae%a8%e0%af%87%e0%ae%9a%e0%ae%bf%e0%ae%aa%e0%af%8d%e0%ae%aa%e0%af%8b%e0%ae%ae%e0%af%8d/
LOCATION:LIBRARY\, AVP COLLEGE\, TIRUPUR\, 641652\, India
CATEGORIES:Announcements,General Events
END:VEVENT
BEGIN:VEVENT
DTSTART;TZID=Asia/Kolkata:20220407T100000
DTEND;TZID=Asia/Kolkata:20220407T140000
DTSTAMP:20260421T233823
CREATED:20220406T101625Z
LAST-MODIFIED:20220412T061757Z
UID:8069-1649325600-1649340000@avpcas.edu.in
SUMMARY:BLOOD DONATION CAMP
DESCRIPTION:Today (07.04.2022) Rotaract Club of AVP CAS Organized Blood Donation Camp at AVP premises. Many donated blood magnanimously for the welfare of the needy.\n\n\n\n\n  \n\n\n\nAll the honourable members\, the Rotaract Club of the AVP CAS and Rotary IMA Blood Bank\, Tirupur are hereby notified that the Club is going to organize a Blood Donation Camp. It will be held on 07.04.2022 (Thursday) from 10.00am to 2.00pm at AVP CAS Campus all the members and local people aged between 18-50 years can donate blood. “Sometimes money cannot save life but donated blood can”. \n  \n 
URL:https://avpcas.edu.in/event/blood-donation-camp/
LOCATION:LIBRARY\, AVP COLLEGE\, TIRUPUR\, 641652\, India
CATEGORIES:General Events
END:VEVENT
BEGIN:VEVENT
DTSTART;TZID=Asia/Kolkata:20220329T093000
DTEND;TZID=Asia/Kolkata:20220331T163000
DTSTAMP:20260421T233823
CREATED:20220402T154404Z
LAST-MODIFIED:20220402T154404Z
UID:8058-1648546200-1648744200@avpcas.edu.in
SUMMARY:Extension Activity-English Department
DESCRIPTION:The journey for pursuit of knowledge and selfless service to society of young teachers began.
URL:https://avpcas.edu.in/event/extension-activity-english-department/
CATEGORIES:Announcements,Department of English,General Events
END:VEVENT
BEGIN:VEVENT
DTSTART;TZID=Asia/Kolkata:20220321T153000
DTEND;TZID=Asia/Kolkata:20220321T163000
DTSTAMP:20260421T233823
CREATED:20220323T060418Z
LAST-MODIFIED:20220323T060418Z
UID:7947-1647876600-1647880200@avpcas.edu.in
SUMMARY:STAFF INDUCTION PROGRAM- DAY 3
DESCRIPTION:  \n \nResource Person: Dr.S.Sindhubairavi \nHead\, Department of BBA \n \n\n  \n  \n 
URL:https://avpcas.edu.in/event/staff-induction-program-day-3/
LOCATION:Seminar Hall
CATEGORIES:Announcements,General Events
END:VEVENT
BEGIN:VEVENT
DTSTART;TZID=Asia/Kolkata:20220318T153000
DTEND;TZID=Asia/Kolkata:20220318T163000
DTSTAMP:20260421T233823
CREATED:20220323T055725Z
LAST-MODIFIED:20220323T060040Z
UID:7935-1647617400-1647621000@avpcas.edu.in
SUMMARY:STAFF INDUCTION PROGRAM- DAY 2
DESCRIPTION:  \n \nResource Person: Dr.L.Mahalakshmi \nHead\, Department of English \n  \n \n 
URL:https://avpcas.edu.in/event/staff-induction-program-day-1/
LOCATION:Seminar Hall
CATEGORIES:Announcements,General Events
END:VEVENT
BEGIN:VEVENT
DTSTART;TZID=Asia/Kolkata:20220317T153000
DTEND;TZID=Asia/Kolkata:20220317T163000
DTSTAMP:20260421T233823
CREATED:20220323T060136Z
LAST-MODIFIED:20220903T082125Z
UID:7940-1647531000-1647534600@avpcas.edu.in
SUMMARY:STAFF INDUCTION PROGRAM- DAY 1
DESCRIPTION:Resource Person: Mr.S. Ashok Kumar \nHead\, Department of Computer Science \n 
URL:https://avpcas.edu.in/event/staff-induction-program-day-1-2/
LOCATION:Seminar Hall
CATEGORIES:Announcements,General Events
END:VEVENT
BEGIN:VEVENT
DTSTART;TZID=Asia/Kolkata:20220312T080000
DTEND;TZID=Asia/Kolkata:20220312T170000
DTSTAMP:20260421T233823
CREATED:20220313T131745Z
LAST-MODIFIED:20220313T131927Z
UID:7890-1647072000-1647104400@avpcas.edu.in
SUMMARY:NSS CAMP DAY-7-VALEDICTORY
DESCRIPTION:  \n  \n 
URL:https://avpcas.edu.in/event/nss-camp-day-7-valedictory/
LOCATION:Kamatchiamman Thirumanamandapam\, Periyayipalayam
CATEGORIES:General Events,NSS
END:VEVENT
BEGIN:VEVENT
DTSTART;TZID=Asia/Kolkata:20220312T080000
DTEND;TZID=Asia/Kolkata:20220312T170000
DTSTAMP:20260421T233823
CREATED:20220312T094152Z
LAST-MODIFIED:20220312T094702Z
UID:7843-1647072000-1647104400@avpcas.edu.in
SUMMARY:NSS CAMP DAY-6
DESCRIPTION:
URL:https://avpcas.edu.in/event/nss-camp-day-6/
LOCATION:Kamatchiamman Thirumanamandapam\, Periyayipalayam
CATEGORIES:General Events,NSS
END:VEVENT
BEGIN:VEVENT
DTSTART;TZID=Asia/Kolkata:20220212T190000
DTEND;TZID=Asia/Kolkata:20220212T200000
DTSTAMP:20260421T233823
CREATED:20220212T065916Z
LAST-MODIFIED:20220212T070034Z
UID:7772-1644692400-1644696000@avpcas.edu.in
SUMMARY:Day - 6 : Research and Development Cell International Faculty Development program
DESCRIPTION:
URL:https://avpcas.edu.in/event/day-6-research-and-development-cell-international-faculty-development-program/
CATEGORIES:Announcements,Department Events,General Events,News
END:VEVENT
BEGIN:VEVENT
DTSTART;TZID=Asia/Kolkata:20220211T190000
DTEND;TZID=Asia/Kolkata:20220211T200000
DTSTAMP:20260421T233823
CREATED:20220211T050158Z
LAST-MODIFIED:20220211T050243Z
UID:7767-1644606000-1644609600@avpcas.edu.in
SUMMARY:Day - 5 : Research and Development Cell International Faculty Development program
DESCRIPTION:
URL:https://avpcas.edu.in/event/day-5-research-and-development-cell-international-faculty-development-program/
CATEGORIES:Announcements,Department Events,General Events,News
END:VEVENT
BEGIN:VEVENT
DTSTART;TZID=Asia/Kolkata:20220210T093000
DTEND;TZID=Asia/Kolkata:20220210T170000
DTSTAMP:20260421T233823
CREATED:20220210T053237Z
LAST-MODIFIED:20220210T053237Z
UID:7762-1644485400-1644512400@avpcas.edu.in
SUMMARY:Day - 4 : Research and Development Cell International Faculty Development program
DESCRIPTION:
URL:https://avpcas.edu.in/event/day-4-research-and-development-cell-international-faculty-development-program/
CATEGORIES:Announcements,Department Events,General Events,News
END:VEVENT
BEGIN:VEVENT
DTSTART;TZID=Asia/Kolkata:20220209T080000
DTEND;TZID=Asia/Kolkata:20220213T170000
DTSTAMP:20260421T233823
CREATED:20220209T060708Z
LAST-MODIFIED:20220209T060708Z
UID:7759-1644393600-1644771600@avpcas.edu.in
SUMMARY:Research and Development Cell International Faculty Development program from 7.2.2022- 13.2.2022 Registrations going on
DESCRIPTION:Research and Development Cell International Faculty Development program from 7.2.2022- 13.2.2022\nRegistrations going on
URL:https://avpcas.edu.in/event/research-and-development-cell-international-faculty-development-program-from-7-2-2022-13-2-2022-registrations-going-on/
CATEGORIES:Announcements,Department Events,General Events
END:VEVENT
BEGIN:VEVENT
DTSTART;TZID=Asia/Kolkata:20220208T100000
DTEND;TZID=Asia/Kolkata:20220213T170000
DTSTAMP:20260421T233823
CREATED:20220209T053847Z
LAST-MODIFIED:20220209T060758Z
UID:7752-1644314400-1644771600@avpcas.edu.in
SUMMARY:Day 2 - International Virtual Faculty Development Program
DESCRIPTION:Day 2 \n \nSession I : Dr. M. Leema Rose\nProfessor & Head\nResearch Department of English\,\nSt. Jerome’s College\, Nagercoil\nKanyakumari\, Tamilnadu\, India.\nTopic : Construction of a Thesis\nTime : 6 – 7 pm ( IST) \nSession II : Dr. Umeshwari Dkhar\nAssistant Professor\nShillong Law College\, Meghalaya\, India\nTopic : Legal Research and it’s Methodology\nTime : 7 – 8 pm ( IST)
URL:https://avpcas.edu.in/event/day-2-international-virtual-faculty-development-program/
CATEGORIES:Announcements,Department Events,General Events
END:VEVENT
END:VCALENDAR