BEGIN:VCALENDAR
VERSION:2.0
PRODID:-//A.V.P. College of Arts and Science - ECPv6.1.2.2//NONSGML v1.0//EN
CALSCALE:GREGORIAN
METHOD:PUBLISH
X-ORIGINAL-URL:https://avpcas.edu.in
X-WR-CALDESC:Events for A.V.P. College of Arts and Science
REFRESH-INTERVAL;VALUE=DURATION:PT1H
X-Robots-Tag:noindex
X-PUBLISHED-TTL:PT1H
BEGIN:VTIMEZONE
TZID:Asia/Kolkata
BEGIN:STANDARD
TZOFFSETFROM:+0530
TZOFFSETTO:+0530
TZNAME:IST
DTSTART:20240101T000000
END:STANDARD
END:VTIMEZONE
BEGIN:VEVENT
DTSTART;TZID=Asia/Kolkata:20240911T100000
DTEND;TZID=Asia/Kolkata:20240911T120000
DTSTAMP:20260421T225853
CREATED:20240911T145938Z
LAST-MODIFIED:20240911T150812Z
UID:15391-1726048800-1726056000@avpcas.edu.in
SUMMARY:School of Applied Commerce in association with Institution's Innovation Council organizes A Virtual workshop on Investment planning "Financial Freedom for Women" on 11.09.2024.
DESCRIPTION:School of Applied Commerce in association with Institution’s Innovation Council organized A Virtual workshop on Investment planning “Financial Freedom for Women” on 11.09.2024 at 10:00 am.Totally 172 students attended and got benefitted. \n          
URL:https://avpcas.edu.in/event/school-of-applied-commerce-in-association-with-institutions-innovation-council-organizes-a-virtual-workshop-on-investment-planning-financial-freedom-for-women-on-11-09-2024/
LOCATION:zoom meet
CATEGORIES:Announcements,Department Events,Department of Commerce with CA,IIC
END:VEVENT
BEGIN:VEVENT
DTSTART;TZID=Asia/Kolkata:20240820T113000
DTEND;TZID=Asia/Kolkata:20240820T133000
DTSTAMP:20260421T225853
CREATED:20240819T125201Z
LAST-MODIFIED:20240819T125202Z
UID:15098-1724153400-1724160600@avpcas.edu.in
SUMMARY:Institution's Innovation Council has organize a seminar on "Turning Passion into profit: How to monetize your ideas" on 20.08.2024.
DESCRIPTION:
URL:https://avpcas.edu.in/event/institutions-innovation-council-has-organize-a-seminar-on-turning-passion-into-profit-how-to-monetize-your-ideas-on-20-08-2024/
LOCATION:Seminar Hall
CATEGORIES:Announcements,Department Events,IIC
END:VEVENT
BEGIN:VEVENT
DTSTART;TZID=Asia/Kolkata:20240820T103000
DTEND;TZID=Asia/Kolkata:20240820T133000
DTSTAMP:20260421T225853
CREATED:20240819T124606Z
LAST-MODIFIED:20240819T124608Z
UID:15093-1724149800-1724160600@avpcas.edu.in
SUMMARY:Institution's Innovation Council has organize a seminar on "Networking and Building Relationships: Essential skills for Entrepreneurs" on 20.08.2024.
DESCRIPTION:
URL:https://avpcas.edu.in/event/institutions-innovation-council-has-organize-a-seminar-on-networking-and-building-relationships-essential-skills-for-entrepreneurs-on-20-08-2024/
LOCATION:Seminar Hall
CATEGORIES:Announcements,Department Events,IIC
END:VEVENT
BEGIN:VEVENT
DTSTART;TZID=Asia/Kolkata:20240817T133000
DTEND;TZID=Asia/Kolkata:20240817T150000
DTSTAMP:20260421T225853
CREATED:20240819T102954Z
LAST-MODIFIED:20240819T104322Z
UID:15048-1723901400-1723906800@avpcas.edu.in
SUMMARY:Fine Arts Club has plan to conduct Mehandi Competition on 17.08.2024.
DESCRIPTION:Fine Arts club was Conducted Mehandi Competition on 17.08.2024 in hall no 302. Totally 34 teams participated. \n           \n         
URL:https://avpcas.edu.in/event/fine-arts-club-has-plan-to-conduct-mehandi-competition-on-17-08-2024/
LOCATION:class romm : 302
CATEGORIES:Announcements,Department Events,Fine Arts Club,IIC
END:VEVENT
BEGIN:VEVENT
DTSTART;TZID=Asia/Kolkata:20240809T134500
DTEND;TZID=Asia/Kolkata:20240809T150000
DTSTAMP:20260421T225853
CREATED:20240808T144017Z
LAST-MODIFIED:20240810T151518Z
UID:14977-1723211100-1723215600@avpcas.edu.in
SUMMARY:School of Biotechnology\, in association with the Institutions Innovation Council\, is organizes a guest lecture on "Applications of Computer Science in Life Sciences" on 09.08.2024.
DESCRIPTION:School of Biotechnology organized a guest lecture on “Applications of Computer Science in Life Sciences.” Dr. S. Ashok Kumar\, Associate Professor and Head of the School of Computer Studies at AVPCAS\, delivered the talk on 09.08.2024. \n            
URL:https://avpcas.edu.in/event/school-of-biotechnology-in-association-with-the-institutions-innovation-council-is-organizes-a-guest-lecture-on-applications-of-computer-science-in-life-sciences-on-09-08-2024/
LOCATION:ICT Class Room
CATEGORIES:Announcements,Department Events,Department of Biotechnology,IIC
END:VEVENT
BEGIN:VEVENT
DTSTART;TZID=Asia/Kolkata:20240802T103000
DTEND;TZID=Asia/Kolkata:20240802T123000
DTSTAMP:20260421T225853
CREATED:20240802T142433Z
LAST-MODIFIED:20240802T143621Z
UID:14834-1722594600-1722601800@avpcas.edu.in
SUMMARY:Fine Arts club in association with Institution's innovation council is planned to conduct Drawing and Essay writing competition on 02.08.2024.
DESCRIPTION:Fine Arts club in association with Institution’s Innovation Council is conducted Drawing & Essay writing Competition\, on the topic “GREEN INDIA”. On 02.08.2024. \n      \n     
URL:https://avpcas.edu.in/event/fine-arts-club-in-association-with-institutions-innovation-council-is-planned-to-conduct-drawing-and-essay-writing-competition-on-02-08-2024/
LOCATION:Room no:302
CATEGORIES:Announcements,Department Events,Fine Arts Club,IIC
END:VEVENT
BEGIN:VEVENT
DTSTART;TZID=Asia/Kolkata:20240729T153000
DTEND;TZID=Asia/Kolkata:20240729T160000
DTSTAMP:20260421T225853
CREATED:20240728T121254Z
LAST-MODIFIED:20240730T133128Z
UID:14788-1722267000-1722268800@avpcas.edu.in
SUMMARY:Internal Quality Assurance cell and Institution's Innovation Council has planned to conduct a special talk on "Higher Education Reforms Through NEP 2020" to all the Members of Faculty on 29.07.24 .
DESCRIPTION:To commemorate the introduction of New Educational policy 2020 IQAC of AVPCAS has organised a special talk on ” Educational Reforms through NEP” for all the Members of Faculty.
URL:https://avpcas.edu.in/event/internal-quality-assurance-cell-and-institutions-innovation-council-has-planned-to-conduct-a-special-talk-on-higher-education-reforms-through-nep-2020-to-all-the-members-of-faculty-on-29-07-24/
LOCATION:Multipurpose Hall
CATEGORIES:Announcements,Department Events,IIC
END:VEVENT
BEGIN:VEVENT
DTSTART;TZID=Asia/Kolkata:20240726T100000
DTEND;TZID=Asia/Kolkata:20240726T123000
DTSTAMP:20260421T225853
CREATED:20240725T141008Z
LAST-MODIFIED:20240726T173237Z
UID:14721-1721988000-1721997000@avpcas.edu.in
SUMMARY:Career Guidance and Competitive Examination Cell in association with Institution's Innovation Council  Organizes a Workshop on"LinkedIn Kick Starting Program " on  26.07.2024 .
DESCRIPTION:Career Guidance and Competitive Examination Cell\, in association with Institution’s Innovation Council\, organized a workshop on the “LinkedIn Kick Starting Program” on 26.07.2024 at 10:00 AM in the AVP CAS Seminar Hall and Multipurpose Hall. Ms. B. Nevedha and Ms. M. Nisha\, Associate Trainers from Face Prep\, Coimbatore\, were invited as resource persons and addressed the students. The students learned how to access and use LinkedIn\, and they received LinkedIn Premium for six months. Nearly 1000 students benefited through the session.
URL:https://avpcas.edu.in/event/career-guidance-and-competitive-examination-cell-in-association-with-institutions-innovation-council-organizes-a-workshop-onlinkedin-kick-starting-program-on-26-07-2024/
LOCATION:Seminar Hall and Multipurpose Hall
CATEGORIES:Announcements,career guidance cell,IIC
END:VEVENT
END:VCALENDAR