BEGIN:VCALENDAR
VERSION:2.0
PRODID:-//A.V.P. College of Arts and Science - ECPv6.1.2.2//NONSGML v1.0//EN
CALSCALE:GREGORIAN
METHOD:PUBLISH
X-ORIGINAL-URL:https://avpcas.edu.in
X-WR-CALDESC:Events for A.V.P. College of Arts and Science
REFRESH-INTERVAL;VALUE=DURATION:PT1H
X-Robots-Tag:noindex
X-PUBLISHED-TTL:PT1H
BEGIN:VTIMEZONE
TZID:Asia/Kolkata
BEGIN:STANDARD
TZOFFSETFROM:+0530
TZOFFSETTO:+0530
TZNAME:IST
DTSTART:20260101T000000
END:STANDARD
END:VTIMEZONE
BEGIN:VEVENT
DTSTART;TZID=Asia/Kolkata:20260107T093000
DTEND;TZID=Asia/Kolkata:20260107T130000
DTSTAMP:20260420T111904
CREATED:20260107T064756Z
LAST-MODIFIED:20260107T092630Z
UID:18550-1767778200-1767790800@avpcas.edu.in
SUMMARY:Internal Quality Assurance cell has organised an ICPR Sponsored one day seminar on title " Philosophy of Education in conformity with Gurukula tradition" on 07.01.2026
DESCRIPTION:Internal Quality Assurance cell organised an ICPR Sponsored one day seminar on title ” Philosophy of Education in conformity with Gurukula tradition” on 07.01.26 by 09.30 a.m in the Seminar hall.\nSession -1\nPhilosophical foundations of Gurukula education. The session focused on holistic education\, emphasizing moral values\, discipline\, and the Guru–Shishya relationship. It also explained the relevance of Gurukula philosophy in promoting value-based and experiential learning in modern education\nSession 2- Relevance of Gurukula philosophy in 21st century The session highlighted how principles such as holistic development\, value-based education\, discipline\, and the Guru–Shishya relationship can address contemporary educational and social challenges. The session was informative and created awareness about integrating Gurukula philosophy with modern education\nSession 3- Challenges & opportunities in adopting Gurukula principles\nThe session highlighted challenges such as adapting to technology-driven learning\, time constraints\, and standardized curricula\, while also emphasizing opportunities like holistic development\, value-based education\, experiential learning\, and stronger teacher–student relationships. The session was informative and thought-provoking. \n  \n                                                \n  \n  \n                                                \n  \n  \n                                                     \n 
URL:https://avpcas.edu.in/event/internal-quality-assurance-cell-has-organised-an-icpr-sponsored-one-day-seminar-on-title-philosophy-of-education-in-conformity-with-gurukula-tradition-on-07-01-2026/
LOCATION:Seminar Hall
CATEGORIES:Announcements,IQAC
END:VEVENT
BEGIN:VEVENT
DTSTART;TZID=Asia/Kolkata:20260122T153000
DTEND;TZID=Asia/Kolkata:20260122T163000
DTSTAMP:20260420T111904
CREATED:20260122T053835Z
LAST-MODIFIED:20260123T045746Z
UID:18659-1769095800-1769099400@avpcas.edu.in
SUMMARY:Internal Quality Assurance cell has organised Sathya Gnanam session for the month of January on 22.01.26
DESCRIPTION:Internal Quality Assurance cell has organised Sathya Gnanam session for the month of January on 22.01.26 by 3.30 p.m. in the Seminar hall. Ms. Haripriya\, Assistant professor\, School of Commerce acted as the resource person.
URL:https://avpcas.edu.in/event/internal-quality-assurance-cell-has-organised-sathya-gnanam-session-for-the-month-of-january-on-22-01-26/
LOCATION:Seminar Hall
CATEGORIES:Announcements,IQAC
END:VEVENT
END:VCALENDAR