BEGIN:VCALENDAR
VERSION:2.0
PRODID:-//A.V.P. College of Arts and Science - ECPv6.1.2.2//NONSGML v1.0//EN
CALSCALE:GREGORIAN
METHOD:PUBLISH
X-ORIGINAL-URL:https://avpcas.edu.in
X-WR-CALDESC:Events for A.V.P. College of Arts and Science
REFRESH-INTERVAL;VALUE=DURATION:PT1H
X-Robots-Tag:noindex
X-PUBLISHED-TTL:PT1H
BEGIN:VTIMEZONE
TZID:Asia/Kolkata
BEGIN:STANDARD
TZOFFSETFROM:+0530
TZOFFSETTO:+0530
TZNAME:IST
DTSTART:20240101T000000
END:STANDARD
END:VTIMEZONE
BEGIN:VEVENT
DTSTART;TZID=Asia/Kolkata:20240219T153000
DTEND;TZID=Asia/Kolkata:20240219T160000
DTSTAMP:20260423T165351
CREATED:20240220T151500Z
LAST-MODIFIED:20240220T151501Z
UID:13593-1708356600-1708358400@avpcas.edu.in
SUMMARY:Internal Quality Assurance cell organized Sathya Gnanam on Topic " Kathaiyum Vazhvum" on 19.02.24.
DESCRIPTION:  \n \n  \nInternal Quality Assurance cell organised Sathya Gnanam on Topic ” Kathaiyum Vazhvum” on 19.02.24 by 3.30 p.m in the Seminar Hall. Dr. S. Sasikala\, Associate Professor\, Department of Tamil acted as a Resource person.
URL:https://avpcas.edu.in/event/internal-quality-assurance-cell-organized-sathya-gnanam-on-topic-kathaiyum-vazhvum-on-19-02-24/
LOCATION:Seminar Hall
CATEGORIES:Announcements,Department Events,IQAC
END:VEVENT
END:VCALENDAR