BEGIN:VCALENDAR
VERSION:2.0
PRODID:-//A.V.P. College of Arts and Science - ECPv6.1.2.2//NONSGML v1.0//EN
CALSCALE:GREGORIAN
METHOD:PUBLISH
X-ORIGINAL-URL:https://avpcas.edu.in
X-WR-CALDESC:Events for A.V.P. College of Arts and Science
REFRESH-INTERVAL;VALUE=DURATION:PT1H
X-Robots-Tag:noindex
X-PUBLISHED-TTL:PT1H
BEGIN:VTIMEZONE
TZID:Asia/Kolkata
BEGIN:STANDARD
TZOFFSETFROM:+0530
TZOFFSETTO:+0530
TZNAME:IST
DTSTART:20240101T000000
END:STANDARD
END:VTIMEZONE
BEGIN:VEVENT
DTSTART;VALUE=DATE:20240720
DTEND;VALUE=DATE:20240721
DTSTAMP:20260423T183041
CREATED:20240723T165319Z
LAST-MODIFIED:20240723T165319Z
UID:14645-1721433600-1721519999@avpcas.edu.in
SUMMARY:Internal Quality Assurance cell organized other Language training classes for all the first years from 20.07.24.
DESCRIPTION:
URL:https://avpcas.edu.in/event/internal-quality-assurance-cell-organized-other-language-training-classes-for-all-the-first-years-from-20-07-24/
LOCATION:Seminar Hall
CATEGORIES:Announcements,Department Events,IQAC
END:VEVENT
END:VCALENDAR