BEGIN:VCALENDAR
VERSION:2.0
PRODID:-//A.V.P. College of Arts and Science - ECPv6.1.2.2//NONSGML v1.0//EN
CALSCALE:GREGORIAN
METHOD:PUBLISH
X-ORIGINAL-URL:https://avpcas.edu.in
X-WR-CALDESC:Events for A.V.P. College of Arts and Science
REFRESH-INTERVAL;VALUE=DURATION:PT1H
X-Robots-Tag:noindex
X-PUBLISHED-TTL:PT1H
BEGIN:VTIMEZONE
TZID:Asia/Kolkata
BEGIN:STANDARD
TZOFFSETFROM:+0530
TZOFFSETTO:+0530
TZNAME:IST
DTSTART:20250101T000000
END:STANDARD
END:VTIMEZONE
BEGIN:VEVENT
DTSTART;TZID=Asia/Kolkata:20250925T080000
DTEND;TZID=Asia/Kolkata:20250925T170000
DTSTAMP:20260422T174902
CREATED:20250928T132514Z
LAST-MODIFIED:20250928T132515Z
UID:18240-1758787200-1758819600@avpcas.edu.in
SUMMARY:Internal Quality Assurance cell have organized an  inter departmental competition - "NEP Social Media challenge" on 25.09.25.
DESCRIPTION:Internal Quality Assurance cell have organized an  inter departmental competition – “NEP Social Media challenge” on 25.09.25.
URL:https://avpcas.edu.in/event/internal-quality-assurance-cell-have-organized-an-inter-departmental-competition-nep-social-media-challenge-on-25-09-25/
LOCATION:ONLINE MODE
CATEGORIES:Announcements,College Management,IQAC
END:VEVENT
BEGIN:VEVENT
DTSTART;TZID=Asia/Kolkata:20250925T153000
DTEND;TZID=Asia/Kolkata:20250925T160000
DTSTAMP:20260422T174902
CREATED:20250928T131141Z
LAST-MODIFIED:20250928T131142Z
UID:18227-1758814200-1758816000@avpcas.edu.in
SUMMARY:Internal Quality Assurance cell have organised Sathya Gnanam session for the month of September on 25.09.25.
DESCRIPTION:Internal Quality Assurance cell have organised Sathya Gnanam session for the month of September on 25.09.25 by 3.30 p.m in the Seminar hall. Ms. Dharani AP / School of Fashion delivered a talk on VR in Fashion for the members of faculty. \n     
URL:https://avpcas.edu.in/event/internal-quality-assurance-cell-have-organised-sathya-gnanam-session-for-the-month-of-september-on-25-09-25/
LOCATION:Seminar Hall
CATEGORIES:Announcements,College Management,IQAC
END:VEVENT
END:VCALENDAR