BEGIN:VCALENDAR
VERSION:2.0
PRODID:-//A.V.P. College of Arts and Science - ECPv6.1.2.2//NONSGML v1.0//EN
CALSCALE:GREGORIAN
METHOD:PUBLISH
X-WR-CALNAME:A.V.P. College of Arts and Science
X-ORIGINAL-URL:https://avpcas.edu.in
X-WR-CALDESC:Events for A.V.P. College of Arts and Science
REFRESH-INTERVAL;VALUE=DURATION:PT1H
X-Robots-Tag:noindex
X-PUBLISHED-TTL:PT1H
BEGIN:VTIMEZONE
TZID:Asia/Kolkata
BEGIN:STANDARD
TZOFFSETFROM:+0530
TZOFFSETTO:+0530
TZNAME:IST
DTSTART:20240101T000000
END:STANDARD
END:VTIMEZONE
BEGIN:VEVENT
DTSTART;TZID=Asia/Kolkata:20250909T100000
DTEND;TZID=Asia/Kolkata:20250909T123000
DTSTAMP:20260420T084648
CREATED:20250912T143523Z
LAST-MODIFIED:20250912T143524Z
UID:18074-1757412000-1757421000@avpcas.edu.in
SUMMARY:Internal Quality Assurance cell has organised a workshop for the UG and PG students on Personal Finance on 09.09.25
DESCRIPTION:Internal Quality Assurance cell has organised a Workshop on Personal Finance For the UG and PG students on 09.09.25 in the seminar hall by 10 am. Ms. Jespin Peter\, GM\, Ms. Mangala Padmanaban\, AGM\, Integrated Enterprises India Pvt.ltd Chennai acted as the Resource persons for the event.
URL:https://avpcas.edu.in/event/internal-quality-assurance-cell-has-organised-a-workshop-for-the-ug-and-pg-students-on-personal-finance-on-09-09-25/
LOCATION:Seminar Hall
CATEGORIES:Announcements,Department Events,IQAC
END:VEVENT
BEGIN:VEVENT
DTSTART;TZID=Asia/Kolkata:20250829T133000
DTEND;TZID=Asia/Kolkata:20250829T150000
DTSTAMP:20260420T084648
CREATED:20250901T152155Z
LAST-MODIFIED:20250901T154543Z
UID:18021-1756474200-1756479600@avpcas.edu.in
SUMMARY:IQAC and School of Liberal Arts- Tamil is jointly organized IKS based Panel Discussion on 29.08.25.
DESCRIPTION:Internal Quality Assurance cell in association with School of Liberal Arts – Tamil organised a IKS based Panel Discussion on 29.08.25 by 1.30 p.m in the Seminar hall. Students spoke about Language and literature\, Agricultural techniques\, Economics and Governance\, Yoga and Ayurveda\, Science and Technology in ancient times. Ms. N. Manjula\, Head\, School of Liberal Arts- Tamil acted as the Moderator for the Event. \n           \n \n 
URL:https://avpcas.edu.in/event/iqac-and-school-of-liberal-arts-tamil-is-jointly-organized-iks-based-panel-discussion-on-29-08-25/
LOCATION:Seminar Hall
CATEGORIES:Announcements,Deaprtment of Tamil,Department Events,IQAC
END:VEVENT
BEGIN:VEVENT
DTSTART;TZID=Asia/Kolkata:20250814T153000
DTEND;TZID=Asia/Kolkata:20250814T160000
DTSTAMP:20260420T084648
CREATED:20250813T103826Z
LAST-MODIFIED:20250818T135557Z
UID:17818-1755185400-1755187200@avpcas.edu.in
SUMMARY:Internal Quality Assurance cell has planned to organize Sathya Gnanam session on 14.08.2025.
DESCRIPTION:Internal Quality Assurance cell has planned to organize Sathya Gnanam session for the month of August on 14.08.25 ( Thursday) by 3.30 p.m in the Seminar hall. Ms. Cindhu\, Head\, School of Biotechnology will act as the resource person. \n    \nInternal Quality Assurance cell organised Sathya Gnanam session on topic Role of Biotechnology in cancer diagnosis and treatment for the members of faculty on 14.08.25 by 3.30 pm in the Seminar hall. Ms. R. S. Cindhu\, Head\, School of Biotechnology gave awareness on the causes\, symptoms\, treatment and prevention measures for disease. \n 
URL:https://avpcas.edu.in/event/internal-quality-assurance-cell-has-planned-to-organize-sathya-gnanam-session-on-14-08-2025/
LOCATION:Seminar Hall
CATEGORIES:Announcements,Department Events,IQAC
END:VEVENT
BEGIN:VEVENT
DTSTART;TZID=Asia/Kolkata:20250725T153000
DTEND;TZID=Asia/Kolkata:20250725T163000
DTSTAMP:20260420T084648
CREATED:20250724T140231Z
LAST-MODIFIED:20250724T140231Z
UID:17509-1753457400-1753461000@avpcas.edu.in
SUMMARY:Internal Quality Assurance cell has organized Sathya Gnanam session for the month of July on 25.07.25.
DESCRIPTION:Internal Quality Assurance cell has organized Sathya Gnanam session for the month of July on 25.07.25 by 3.30 pm in the Seminar Hall. Ms. S. Sathya\, Asst. Professor\, School of Management will act as the resource person.
URL:https://avpcas.edu.in/event/internal-quality-assurance-cell-has-organized-sathya-gnanam-session-for-the-month-of-july-on-25-07-25/
LOCATION:Seminar Hall
CATEGORIES:Announcements,College Management,IQAC
END:VEVENT
BEGIN:VEVENT
DTSTART;TZID=Asia/Kolkata:20250627T100000
DTEND;TZID=Asia/Kolkata:20250703T150000
DTSTAMP:20260420T084648
CREATED:20250626T104200Z
LAST-MODIFIED:20250626T104201Z
UID:17219-1751018400-1751554800@avpcas.edu.in
SUMMARY:Internal Quality Assurance cell has planned to conduct Induction Program for the First year UG students from 27.06.25 to 03.07.25
DESCRIPTION:
URL:https://avpcas.edu.in/event/internal-quality-assurance-cell-has-planned-to-conduct-induction-program-for-the-first-year-ug-students-from-27-06-25-to-03-07-25/
LOCATION:AVPCAS
CATEGORIES:Announcements,Department Events,IQAC
END:VEVENT
BEGIN:VEVENT
DTSTART;TZID=Asia/Kolkata:20250624T153000
DTEND;TZID=Asia/Kolkata:20250624T163000
DTSTAMP:20260420T084648
CREATED:20250624T063848Z
LAST-MODIFIED:20250625T060819Z
UID:17181-1750779000-1750782600@avpcas.edu.in
SUMMARY:Internal Quality Assurance cell has to organized Sathya Gnanam for the month of June on 24.06.25.
DESCRIPTION:  \n \nInternal Quality Assurance cell has to organized  Sathya Gnanam for the month of June on 24.06.25 ( Tuesday) in the Multipurpose Hall by 3.30 pm. \n   \nInternal Quality Assurance cell has organised Sathya Gnanam session for the month of June on 24.06.25 for all the Members of faculty in Multipurpose Hall by 3.30 p.m. Ms. E. Deepa Assistant professor\, School of Computer Studies gave a talk on Devices using IoT.
URL:https://avpcas.edu.in/event/internal-quality-assurance-cell-has-to-organized-sathya-gnanam-for-the-month-of-june-on-24-06-25/
LOCATION:Multipurpose Hall
CATEGORIES:Announcements,College Management,IQAC
END:VEVENT
BEGIN:VEVENT
DTSTART;TZID=Asia/Kolkata:20250605T100000
DTEND;TZID=Asia/Kolkata:20250605T160000
DTSTAMP:20260420T084648
CREATED:20250604T050436Z
LAST-MODIFIED:20250606T070635Z
UID:16899-1749117600-1749139200@avpcas.edu.in
SUMMARY:Internal Quality Assurance cell has organised a One Day Faculty Development Program on Innovative Curriculum Designing and Evaluation for all the Members of Faculty on 05.06.25.
DESCRIPTION:Internal Quality Assurance cell has organised A One Day Faculty Development Program for the Members of Faculty on ” Designing Innovative Curriculum and Evaluation” on 05.06.25. \n  
URL:https://avpcas.edu.in/event/internal-quality-assurance-cell-has-organised-a-one-day-faculty-development-program-on-innovative-curriculum-designing-and-evaluation-for-all-the-members-of-faculty-on-05-06-25/
LOCATION:Seminar Hall
CATEGORIES:Announcements,College Management,IQAC
END:VEVENT
BEGIN:VEVENT
DTSTART;VALUE=DATE:20250602
DTEND;VALUE=DATE:20250605
DTSTAMP:20260420T084648
CREATED:20250606T072259Z
LAST-MODIFIED:20250609T103252Z
UID:17025-1748822400-1749081599@avpcas.edu.in
SUMMARY:The Internal Quality Assurance Cell conducted a Faculty Induction Program from June 3 to June 5\, 2025
DESCRIPTION:Internal Quality Assurance cell has organized Faculty Induction Program for the Newly recruited faculty members for the Academic year 25 – 26.\nDAY 1(03.06.25)\nDr. S. Ashok Kumar\, Professor and Head\, School of Computer Studies deliberated the faculty members on Administration\, Admissions and CAMU.\nDAY 2:(04.06.25)\nDr. L. Mahalakshmi\, Professor and Head\, School of Liberal Arts- English handled the session on Classroom management\, work ethics and Communication\nDAY 3:(05.06.25)\nDr. S. Sindhubairavi\, Assistant professor\, School of Management\, explained about the Management\, Vision\, Mission\, Clubs and Committes in the College.
URL:https://avpcas.edu.in/event/internal-quality-assurance-cell-has-organized-faculty-induction-program-from-02-06-25-to-04-06-25/
LOCATION:Seminar Hall
CATEGORIES:Announcements,Department Events,IQAC
END:VEVENT
BEGIN:VEVENT
DTSTART;TZID=Asia/Kolkata:20250424T123000
DTEND;TZID=Asia/Kolkata:20250424T153000
DTSTAMP:20260420T084648
CREATED:20250424T045056Z
LAST-MODIFIED:20250429T094055Z
UID:16732-1745497800-1745508600@avpcas.edu.in
SUMMARY:Internal Quality Assurance cell has organized Sathya Gnanam session for the month of April on 24.04.25.
DESCRIPTION:Internal Quality Assurance cell has organized Sathya Gnanam session for the month of April on 24.04.25 by 2.30 p.m in the Multipurpose Hall. \n   \nInternal Quality Assurance cell has organised a Sathya Gnanam session for the month of April on 24.04.25 in the Multipurpose Hall by 2.30 p.m. Ms. N.Santhanalakshmi\, Assistant professor\, School of Commerce acted as the resource person.
URL:https://avpcas.edu.in/event/internal-quality-assurance-cell-has-organized-sathya-gnanam-session-for-the-month-of-april-on-24-04-25/
LOCATION:Multipurpose Hall
CATEGORIES:Announcements,College Management,IQAC
END:VEVENT
BEGIN:VEVENT
DTSTART;TZID=Asia/Kolkata:20250325T143000
DTEND;TZID=Asia/Kolkata:20250325T153000
DTSTAMP:20260420T084648
CREATED:20250324T173538Z
LAST-MODIFIED:20250327T062855Z
UID:16579-1742913000-1742916600@avpcas.edu.in
SUMMARY:Internal Quality Assurance Cell organises Sathya Gnanam on 25.03.25.
DESCRIPTION:Internal Quality Assurance Cell organises Sathya Gnanam on 25.03.25 at 2.30 pm in the Multipurpose Hall. Ms. B. Indrashini\, Assistant Professor\, School of Applied Commerce will be the resource person. \n      \n     
URL:https://avpcas.edu.in/event/internal-quality-assurance-cell-organises-sathya-gnanam-on-25-03-25/
LOCATION:Multipurpose Hall
CATEGORIES:Announcements,Department Events,IQAC
END:VEVENT
BEGIN:VEVENT
DTSTART;TZID=Asia/Kolkata:20250320T100000
DTEND;TZID=Asia/Kolkata:20250320T123000
DTSTAMP:20260420T084648
CREATED:20250319T151135Z
LAST-MODIFIED:20250324T095938Z
UID:16529-1742464800-1742473800@avpcas.edu.in
SUMMARY:Internal Quality Assurance Cell and WWF India observes World Water Day and Earth Hour Campaign on 20.03.25..
DESCRIPTION:Internal Quality Assurance Cell and WWF India observes World Water Day and Earth Hour Campaign on 20.03.25 at 10.00 am in the Seminar Hall. \n  \n   \nInternal Quality Assurance cell has organised an Awareness program on Water Usage on 20.03.2025 to commemorate World Water Day 2025 and Earth Hour Campaign. Mr. T. Ragul\, WWF India acted as the resource person for the event.
URL:https://avpcas.edu.in/event/internal-quality-assurance-cell-and-wwf-india-observes-world-water-day-and-earth-hour-campaign-on-20-03-25/
LOCATION:Seminar Hall
CATEGORIES:Announcements,College Management,IQAC
END:VEVENT
BEGIN:VEVENT
DTSTART;TZID=Asia/Kolkata:20250214T153000
DTEND;TZID=Asia/Kolkata:20250214T160000
DTSTAMP:20260420T084648
CREATED:20250224T092850Z
LAST-MODIFIED:20250224T092851Z
UID:16356-1739547000-1739548800@avpcas.edu.in
SUMMARY:IQAC has Organized Sathya Gnanam on 14.02.2025
DESCRIPTION:Internal Quality Assurance cell has organised Sathya Gnanam on 14.02.25 by 3.30 p.m in the Multipurpose Hall. Ms. S. Brindha\, Assistant professor\, School of Liberal Arts- Tamil acted as the resource person. \n    \n 
URL:https://avpcas.edu.in/event/iqac-has-organized-sathya-gnanam-on-14-02-2025/
LOCATION:Multipurpose Hall
CATEGORIES:Announcements,Department Events,IQAC
END:VEVENT
BEGIN:VEVENT
DTSTART;TZID=Asia/Kolkata:20250213T100000
DTEND;TZID=Asia/Kolkata:20250213T120000
DTSTAMP:20260420T084648
CREATED:20250212T081625Z
LAST-MODIFIED:20250214T092753Z
UID:16310-1739440800-1739448000@avpcas.edu.in
SUMMARY:IQAC of the college has planned to conduct a Training session on water quality assessment to the students on 13.02.25.
DESCRIPTION:IQAC of the college has planned to conduct a Training session on water quality assessment to the students on 13.02.25 by 10 a.m. Members from WWF India will act as the trainers for the event. \n    \nInternal Quality Assurance Cell organised a training session on Water Quality Assessment in the Seminar Hall at 10.00 am on 13.02.2025. Mr. Vincent Mathew\, Senior Project Officer\, WWF-India was the trainer of the event.
URL:https://avpcas.edu.in/event/iqac-of-the-college-has-planned-to-conduct-a-training-session-on-water-quality-assessment-to-the-students-on-13-02-25/
LOCATION:Seminar Hall
CATEGORIES:Announcements,Department Events,IQAC
END:VEVENT
BEGIN:VEVENT
DTSTART;TZID=Asia/Kolkata:20250127T153000
DTEND;TZID=Asia/Kolkata:20250127T161500
DTSTAMP:20260420T084648
CREATED:20250127T173405Z
LAST-MODIFIED:20250127T173406Z
UID:16190-1737991800-1737994500@avpcas.edu.in
SUMMARY:Internal Quality Assurance cell has planned to conduct the Sathya Gnanam session on 27.01.25
DESCRIPTION:Internal Quality Assurance cell has planned to conduct the Sathya Gnanam session on 27.01.25 ( Monday) in the Multipurpose Hall by 3.30 p.m. Ms. M. Sathyaprabha\, Assistant professor\, School of Liberal Arts ( English) has consented to act as the Resource person. \n   \nInternal Quality Assurance cell has planned to conduct the Sathya Gnanam session on 27.01.25 ( Monday) in the Multipurpose Hall by 3.30 p.m. Ms. M. Sathyaprabha\, Assistant professor\, School of Liberal Arts ( English) has consented to act as the Resource person.
URL:https://avpcas.edu.in/event/internal-quality-assurance-cell-has-planned-to-conduct-the-sathya-gnanam-session-on-27-01-25/
LOCATION:Multipurpose Hall
CATEGORIES:Announcements,Department Events,IQAC
END:VEVENT
BEGIN:VEVENT
DTSTART;TZID=Asia/Kolkata:20250123T150000
DTEND;TZID=Asia/Kolkata:20250123T153000
DTSTAMP:20260420T084648
CREATED:20250123T151432Z
LAST-MODIFIED:20250123T151433Z
UID:16132-1737644400-1737646200@avpcas.edu.in
SUMMARY:Internal Quality Assurance cell of AVPCAS has signed a knowledge sharing partnership with WWF (world wide fund) an International Non- Governmental organization on 23.01.2025.
DESCRIPTION:Internal Quality Assurance cell of AVPCAS has signed a knowledge sharing partnership with WWF (world wide fund) an International Non- Governmental organization on 23.01.2025 at 3.00 p.m. in the college campus. \n   
URL:https://avpcas.edu.in/event/internal-quality-assurance-cell-of-avpcas-has-signed-a-knowledge-sharing-partnership-with-wwf-world-wide-fund-an-international-non-governmental-organization-on-23-01-2025/
LOCATION:College Campus\, India
CATEGORIES:Announcements,Department Events,IQAC
END:VEVENT
BEGIN:VEVENT
DTSTART;VALUE=DATE:20250122
DTEND;VALUE=DATE:20250125
DTSTAMP:20260420T084648
CREATED:20250123T150441Z
LAST-MODIFIED:20250124T154253Z
UID:16122-1737504000-1737763199@avpcas.edu.in
SUMMARY:Internal Quality Assurance cell has organized a Three days Professional development program " Elevate and Excel from 22.01.2025 to 24.01.2025.
DESCRIPTION:Day1(22.01.25) : Workshop on Communication skills\nMs. Udhayapriya and Ms. Suseela acted as the resource persons for the event. All the Non teaching faculties attended and got benefitted. \n   \n   \nGlimses of Day 2- Elevate and Excel – Three days Professional Development Program for the Non teaching staff on topic ” Workshop on Public Relations Management”. Dr. R. Indra and Ms. K. Priyanka\, Assistant professors\, School of Commerce deliberated about the importance of public relations. All the Non teaching members attended the event. \n  \n  \nDay – 3 of Elevate and Excel : Professional development program for Non teaching staff. The session titled “Math Relay” was conducted by Ms. K. Sangeetha & Ms. R. Parimaladevi Assistant professors\, School of Mathematics. All the Non teaching staff attended the event. \n  \n   \n 
URL:https://avpcas.edu.in/event/internal-quality-assurance-cell-has-organized-a-three-days-professional-development-program-elevate-and-excel-from-22-01-2025-to-24-01-2025/
LOCATION:Multi purpose hall
CATEGORIES:Announcements,Department Events,IQAC
END:VEVENT
BEGIN:VEVENT
DTSTART;TZID=Asia/Kolkata:20250106T103000
DTEND;TZID=Asia/Kolkata:20250108T150000
DTSTAMP:20260420T084648
CREATED:20250105T060042Z
LAST-MODIFIED:20250105T060043Z
UID:16024-1736159400-1736348400@avpcas.edu.in
SUMMARY:Internal Quality Assurance Cell has organized a three day Professional development program Elevate and Excel for Non teaching faculty from 06.01.25 to 08.01.25.
DESCRIPTION: 
URL:https://avpcas.edu.in/event/internal-quality-assurance-cell-has-organized-a-three-day-professional-development-program-elevate-and-excel-for-non-teaching-faculty-from-06-01-25-to-08-01-25/
LOCATION:AVPCAS
CATEGORIES:Announcements,College Management,IQAC
END:VEVENT
BEGIN:VEVENT
DTSTART;TZID=Asia/Kolkata:20241230T153000
DTEND;TZID=Asia/Kolkata:20241230T163000
DTSTAMP:20260420T084648
CREATED:20241231T043357Z
LAST-MODIFIED:20241231T043358Z
UID:15961-1735572600-1735576200@avpcas.edu.in
SUMMARY:Internal Quality Assurance cell has organized Sathya Gnanam session for the month of December on 30.12.24.
DESCRIPTION:Internal Quality Assurance cell has organized Sathya Gnanam for December on 30.12.2024 at 3.30 p.m in the Multipurpose Hall. Ms. K. Priyanka\, Assistant professor\, School of Commerce shared the process of Indian Currency Printing. All the members of Faculty attended the event and benefited. \n    
URL:https://avpcas.edu.in/event/internal-quality-assurance-cell-has-organized-sathya-gnanam-session-for-the-month-of-december-on-30-12-24/
LOCATION:Multi purpose hall
CATEGORIES:Announcements,College Management,IQAC
END:VEVENT
BEGIN:VEVENT
DTSTART;TZID=Asia/Kolkata:20241228T103000
DTEND;TZID=Asia/Kolkata:20241228T130000
DTSTAMP:20260420T084648
CREATED:20241228T163310Z
LAST-MODIFIED:20241228T163311Z
UID:15923-1735381800-1735390800@avpcas.edu.in
SUMMARY:Internal Quality Assurance cell has organised a department profiling presentation for the odd semester 2024 - 25 on 28.12.24.
DESCRIPTION:Internal Quality Assurance cell has organised a department profiling presentation for the odd semester 2024 – 25 on 28.12.24 by 10.30 a.m in the Conference Hall. The Heads of the department presented the activities of their respective departments.
URL:https://avpcas.edu.in/event/internal-quality-assurance-cell-has-organised-a-department-profiling-presentation-for-the-odd-semester-2024-25-on-28-12-24/
LOCATION:Conference Hall\, College campus\, Tirupur\, India
CATEGORIES:Announcements,Department Events,IQAC
END:VEVENT
BEGIN:VEVENT
DTSTART;TZID=Asia/Kolkata:20241227T103000
DTEND;TZID=Asia/Kolkata:20241227T130000
DTSTAMP:20260420T084648
CREATED:20241228T163710Z
LAST-MODIFIED:20241228T163711Z
UID:15928-1735295400-1735304400@avpcas.edu.in
SUMMARY:Internal Quality Assurance cell conducted a meeting with new composition of IQAC on 27.12.2024.
DESCRIPTION:Internal Quality Assurance cell conducted a meeting with new composition of IQAC on 27.12.2024 at 10.30 a.m at the conference hall.
URL:https://avpcas.edu.in/event/internal-quality-assurance-cell-conducted-a-meeting-with-new-composition-of-iqac-on-27-12-2024/
LOCATION:Conference Hall\, College campus\, Tirupur\, India
CATEGORIES:Announcements,Department Events,IQAC
END:VEVENT
BEGIN:VEVENT
DTSTART;TZID=Asia/Kolkata:20241211T113000
DTEND;TZID=Asia/Kolkata:20241211T123000
DTSTAMP:20260420T084648
CREATED:20241211T043711Z
LAST-MODIFIED:20241211T054354Z
UID:15825-1733916600-1733920200@avpcas.edu.in
SUMMARY:Internal Quality Assurance cell of AVPCAS has organized a webinar on "Role of Teachers in incorporating Indian Knowledge System in HEIs" on 11.12.2024.
DESCRIPTION:Internal Quality Assurance cell of AVPCAS has organised a webinar on “Role of Teachers in incorporating Indian Knowledge System in HEIs” on 11.12.2024( Wednesday )by 11.30 a.m.Dr. M. Santhosh Kumar\, Assistant professor\, Department of Biochemistry (Aided)\, Kongunadu Arts and Science College will be the Resource person for the event.
URL:https://avpcas.edu.in/event/internal-quality-assurance-cell-of-avpcas-has-organized-a-webinar-on-role-of-teachers-in-incorporating-indian-knowledge-system-in-heis-on-11-12-2024/
LOCATION:Google Meet
CATEGORIES:Announcements,College Management,IQAC
END:VEVENT
BEGIN:VEVENT
DTSTART;TZID=Asia/Kolkata:20241115T143000
DTEND;TZID=Asia/Kolkata:20241115T160000
DTSTAMP:20260420T084648
CREATED:20241121T051537Z
LAST-MODIFIED:20241121T051538Z
UID:15740-1731681000-1731686400@avpcas.edu.in
SUMMARY:Internal Quality Assurance cell has organised Sathya Gnanam session for the month of November on 15.11.24
DESCRIPTION:.
URL:https://avpcas.edu.in/event/internal-quality-assurance-cell-has-organised-sathya-gnanam-session-for-the-month-of-november-on-15-11-24/
LOCATION:Multipurpose Hall
CATEGORIES:Announcements,College Management,IQAC
END:VEVENT
BEGIN:VEVENT
DTSTART;TZID=Asia/Kolkata:20241024T143000
DTEND;TZID=Asia/Kolkata:20241024T160000
DTSTAMP:20260420T084648
CREATED:20241121T045857Z
LAST-MODIFIED:20241121T050426Z
UID:15728-1729780200-1729785600@avpcas.edu.in
SUMMARY:Internal Quality Assurance cell of AVPCAS has organised the Sathya Gnanam session for the month of October on 24.10.24
DESCRIPTION:Internal Quality Assurance cell has organised Sathya Gnanam session for the members of Faculty on 24.10.24 by 2.30 p.m in Multipurpose hall. Ms. B. Saranya\, Assistant Professor\, School of Applied Commerce gave a insightful session on ” Eco- friendly Diwali”. \n    
URL:https://avpcas.edu.in/event/internal-quality-assurance-cell-of-avpcas-has-organised-the-sathya-gnanam-session-for-the-month-of-october-on-24-10-24/
LOCATION:Multipurpose Hall
CATEGORIES:Announcements,IQAC
END:VEVENT
BEGIN:VEVENT
DTSTART;TZID=Asia/Kolkata:20240930T103000
DTEND;TZID=Asia/Kolkata:20240930T123000
DTSTAMP:20260420T084648
CREATED:20241005T064854Z
LAST-MODIFIED:20241005T073035Z
UID:15619-1727692200-1727699400@avpcas.edu.in
SUMMARY:Internal Quality Assurance Cell organizes a Brain Storming session on "Impact of Philisophy in Women Empowerment" on 30.09.2024.
DESCRIPTION:Internal Quality Assurance Cell organized a Brain Storming session on ‘Impact of Philisophy in Women Empowerment’ sponsored by Indian Council of Philisophical Research on 30.09.2024 at 10.30 am in the Seminar hall wherein the Students shared their views on Philosophy\, World Peace\, Women Empowerment related topics. Dr. R. Kavitha\, Assistant Professor\, Department of Social Work\, PSG CAS acted as the moderator of the session. \n                     
URL:https://avpcas.edu.in/event/internal-quality-assurance-cell-organizes-a-brain-storming-session-on-impact-of-philisophy-in-women-empowerment-on-30-09-2024/
LOCATION:Seminar Hall
CATEGORIES:Announcements,College Management,IQAC
END:VEVENT
BEGIN:VEVENT
DTSTART;TZID=Asia/Kolkata:20240924T153000
DTEND;TZID=Asia/Kolkata:20240924T160000
DTSTAMP:20260420T084648
CREATED:20240924T054243Z
LAST-MODIFIED:20240927T144507Z
UID:15528-1727191800-1727193600@avpcas.edu.in
SUMMARY:Internal Quality Assurance cell has organised the Sathya Gnanam session for the month of September on 24.09.24 at 3.30 p.m in the Multipurpose hall. Ms. K. Sakthi School of Computer science will be the Resource person for the event.
DESCRIPTION:Internal Quality Assurance cell has organised the Sathya Gnanam session for the month of September on 25.09.24 in Multipurpose hall at 3.30p.m. Ms. K. Sakthi\, Assistant Professor\, School of Computer studies demonstrated the AI Tools that will be helpful for the teachers in Teaching Learning and Evaluation process. All the members of faculty of the college attended and got benefitted.
URL:https://avpcas.edu.in/event/internal-quality-assurance-cell-has-organised-the-sathya-gnanam-session-for-the-month-of-september-on-24-09-24-at-3-30-p-m-in-the-multipurpose-hall-ms-k-sakthi-school-of-computer-science-will-be-th/
LOCATION:Multipurpose Hall
CATEGORIES:Announcements,College Management,IQAC
END:VEVENT
BEGIN:VEVENT
DTSTART;TZID=Asia/Kolkata:20240921T133000
DTEND;TZID=Asia/Kolkata:20240921T150000
DTSTAMP:20260420T084648
CREATED:20240923T175013Z
LAST-MODIFIED:20240923T175014Z
UID:15509-1726925400-1726930800@avpcas.edu.in
SUMMARY:Internal Quality Assurance cell of AVPCAS is organized an Ideathon competition on 21.09.24 .
DESCRIPTION:Internal Quality Assurance cell has organised Ideathon competition for the students on 21.09.24(Saturday) at 1.30 p.m in the Multipurpose Hall. Dr. A. Mallika\, Head\, School of Commerce and Ms. R. S. Cindhu\, Head of Biotechnology acted as the judges for the event.
URL:https://avpcas.edu.in/event/internal-quality-assurance-cell-of-avpcas-is-organized-an-ideathon-competition-on-21-09-24/
LOCATION:Multi purpose hall
CATEGORIES:Announcements,Department Events,IQAC
END:VEVENT
BEGIN:VEVENT
DTSTART;TZID=Asia/Kolkata:20240904T100000
DTEND;TZID=Asia/Kolkata:20240904T123000
DTSTAMP:20260420T084648
CREATED:20240904T170545Z
LAST-MODIFIED:20240904T170546Z
UID:15344-1725444000-1725453000@avpcas.edu.in
SUMMARY:Internal Quality Assurance Cell in association with NSDL organized a webinar on Smart Investors Awareness Program on 04.09.2024.
DESCRIPTION:  \n   \n                \nInternal Quality Assurance Cell in association with NSDL organized a webinar on Smart Investors Awareness Program for M. Com. students on 04.09.2024 at 10.00 am. Mr. Soundararajan\, Motivational speaker acted as the resource person
URL:https://avpcas.edu.in/event/internal-quality-assurance-cell-in-association-with-nsdl-organized-a-webinar-on-smart-investors-awareness-program-on-04-09-2024/
LOCATION:Google Meet
CATEGORIES:Announcements,Department Events,IQAC
END:VEVENT
BEGIN:VEVENT
DTSTART;TZID=Asia/Kolkata:20240827T130000
DTEND;TZID=Asia/Kolkata:20240827T150000
DTSTAMP:20260420T084648
CREATED:20240827T065148Z
LAST-MODIFIED:20240827T065149Z
UID:15148-1724763600-1724770800@avpcas.edu.in
SUMMARY:IQAC of AVPCAS in association with ADORE has organised a seven days capacity building and career development workshop on 27.08.2024.
DESCRIPTION:Internal Quality Assurance cell of AVPCAS in association with ADORE has organised a seven days capacity building and career development workshop for the final year students of School of Commerce on virtual mode through Google Meet.
URL:https://avpcas.edu.in/event/iqac-of-avpcas-in-association-with-adore-has-organised-a-seven-days-capacity-building-and-career-development-workshop-on-27-08-2024/
LOCATION:Google Meet
CATEGORIES:Announcements,Department Events,IQAC
END:VEVENT
BEGIN:VEVENT
DTSTART;TZID=Asia/Kolkata:20240824T100000
DTEND;TZID=Asia/Kolkata:20240824T110000
DTSTAMP:20260420T084648
CREATED:20240827T070825Z
LAST-MODIFIED:20240827T070826Z
UID:15158-1724493600-1724497200@avpcas.edu.in
SUMMARY:Internal Quality Assurance cell has organised a Faculty Training program on Mastering Instructional Technology on 24.8.24.
DESCRIPTION:Internal Quality Assurance cell has organised a Faculty Training program on Mastering Instructional Technology for the Members of Faculty on 24.8.24 at 10 a.m in Seminar Hall. Totally 84 faculties participated in the event. \n       \n   
URL:https://avpcas.edu.in/event/internal-quality-assurance-cell-has-organised-a-faculty-training-program-on-mastering-instructional-technology-on-24-8-24/
LOCATION:Seminar Hall
CATEGORIES:Announcements,Department Events,IQAC
END:VEVENT
BEGIN:VEVENT
DTSTART;TZID=Asia/Kolkata:20240823T153000
DTEND;TZID=Asia/Kolkata:20240823T161500
DTSTAMP:20260420T084648
CREATED:20240822T154046Z
LAST-MODIFIED:20240827T071446Z
UID:15134-1724427000-1724429700@avpcas.edu.in
SUMMARY:Internal Quality Assurance cell is planning to conduct Sathya Gnanam for the month of August on 23.08.24.
DESCRIPTION:Internal Quality Assurance cell is planning to conduct Sathya Gnanam for the month of August on 23.08.24 by 3.30 p.m in the Multipurpose Hall. Ms. P. Vasukidevi\, A/P\, School of Management will be the Resource person. \n       \nInternal Quality Assurance cell of AVPCAS has organised a special talk for the August month Sathya Gnanam session on 23.08.24 at 3.30 p.m. in the Seminar Hall.Ms. Vasukidevi\, A/P\, School of Management acted as the speaker. She spoke to the Members of Faculty about the Power of Words.
URL:https://avpcas.edu.in/event/internal-quality-assurance-cell-is-planning-to-conduct-sathya-gnanam-for-the-month-of-august-on-23-08-24/
LOCATION:Multipurpose Hall
CATEGORIES:Announcements,Department Events,IQAC
END:VEVENT
END:VCALENDAR