BEGIN:VCALENDAR
VERSION:2.0
PRODID:-//A.V.P. College of Arts and Science - ECPv6.1.2.2//NONSGML v1.0//EN
CALSCALE:GREGORIAN
METHOD:PUBLISH
X-ORIGINAL-URL:https://avpcas.edu.in
X-WR-CALDESC:Events for A.V.P. College of Arts and Science
REFRESH-INTERVAL;VALUE=DURATION:PT1H
X-Robots-Tag:noindex
X-PUBLISHED-TTL:PT1H
BEGIN:VTIMEZONE
TZID:Asia/Kolkata
BEGIN:STANDARD
TZOFFSETFROM:+0530
TZOFFSETTO:+0530
TZNAME:IST
DTSTART:20230101T000000
END:STANDARD
END:VTIMEZONE
BEGIN:VEVENT
DTSTART;TZID=Asia/Kolkata:20240924T153000
DTEND;TZID=Asia/Kolkata:20240924T160000
DTSTAMP:20260420T112409
CREATED:20240924T054243Z
LAST-MODIFIED:20240927T144507Z
UID:15528-1727191800-1727193600@avpcas.edu.in
SUMMARY:Internal Quality Assurance cell has organised the Sathya Gnanam session for the month of September on 24.09.24 at 3.30 p.m in the Multipurpose hall. Ms. K. Sakthi School of Computer science will be the Resource person for the event.
DESCRIPTION:Internal Quality Assurance cell has organised the Sathya Gnanam session for the month of September on 25.09.24 in Multipurpose hall at 3.30p.m. Ms. K. Sakthi\, Assistant Professor\, School of Computer studies demonstrated the AI Tools that will be helpful for the teachers in Teaching Learning and Evaluation process. All the members of faculty of the college attended and got benefitted.
URL:https://avpcas.edu.in/event/internal-quality-assurance-cell-has-organised-the-sathya-gnanam-session-for-the-month-of-september-on-24-09-24-at-3-30-p-m-in-the-multipurpose-hall-ms-k-sakthi-school-of-computer-science-will-be-th/
LOCATION:Multipurpose Hall
CATEGORIES:Announcements,College Management,IQAC
END:VEVENT
BEGIN:VEVENT
DTSTART;TZID=Asia/Kolkata:20240921T133000
DTEND;TZID=Asia/Kolkata:20240921T150000
DTSTAMP:20260420T112409
CREATED:20240923T175013Z
LAST-MODIFIED:20240923T175014Z
UID:15509-1726925400-1726930800@avpcas.edu.in
SUMMARY:Internal Quality Assurance cell of AVPCAS is organized an Ideathon competition on 21.09.24 .
DESCRIPTION:Internal Quality Assurance cell has organised Ideathon competition for the students on 21.09.24(Saturday) at 1.30 p.m in the Multipurpose Hall. Dr. A. Mallika\, Head\, School of Commerce and Ms. R. S. Cindhu\, Head of Biotechnology acted as the judges for the event.
URL:https://avpcas.edu.in/event/internal-quality-assurance-cell-of-avpcas-is-organized-an-ideathon-competition-on-21-09-24/
LOCATION:Multi purpose hall
CATEGORIES:Announcements,Department Events,IQAC
END:VEVENT
BEGIN:VEVENT
DTSTART;TZID=Asia/Kolkata:20240904T100000
DTEND;TZID=Asia/Kolkata:20240904T123000
DTSTAMP:20260420T112409
CREATED:20240904T170545Z
LAST-MODIFIED:20240904T170546Z
UID:15344-1725444000-1725453000@avpcas.edu.in
SUMMARY:Internal Quality Assurance Cell in association with NSDL organized a webinar on Smart Investors Awareness Program on 04.09.2024.
DESCRIPTION:  \n   \n                \nInternal Quality Assurance Cell in association with NSDL organized a webinar on Smart Investors Awareness Program for M. Com. students on 04.09.2024 at 10.00 am. Mr. Soundararajan\, Motivational speaker acted as the resource person
URL:https://avpcas.edu.in/event/internal-quality-assurance-cell-in-association-with-nsdl-organized-a-webinar-on-smart-investors-awareness-program-on-04-09-2024/
LOCATION:Google Meet
CATEGORIES:Announcements,Department Events,IQAC
END:VEVENT
BEGIN:VEVENT
DTSTART;TZID=Asia/Kolkata:20240827T130000
DTEND;TZID=Asia/Kolkata:20240827T150000
DTSTAMP:20260420T112409
CREATED:20240827T065148Z
LAST-MODIFIED:20240827T065149Z
UID:15148-1724763600-1724770800@avpcas.edu.in
SUMMARY:IQAC of AVPCAS in association with ADORE has organised a seven days capacity building and career development workshop on 27.08.2024.
DESCRIPTION:Internal Quality Assurance cell of AVPCAS in association with ADORE has organised a seven days capacity building and career development workshop for the final year students of School of Commerce on virtual mode through Google Meet.
URL:https://avpcas.edu.in/event/iqac-of-avpcas-in-association-with-adore-has-organised-a-seven-days-capacity-building-and-career-development-workshop-on-27-08-2024/
LOCATION:Google Meet
CATEGORIES:Announcements,Department Events,IQAC
END:VEVENT
BEGIN:VEVENT
DTSTART;TZID=Asia/Kolkata:20240824T100000
DTEND;TZID=Asia/Kolkata:20240824T110000
DTSTAMP:20260420T112409
CREATED:20240827T070825Z
LAST-MODIFIED:20240827T070826Z
UID:15158-1724493600-1724497200@avpcas.edu.in
SUMMARY:Internal Quality Assurance cell has organised a Faculty Training program on Mastering Instructional Technology on 24.8.24.
DESCRIPTION:Internal Quality Assurance cell has organised a Faculty Training program on Mastering Instructional Technology for the Members of Faculty on 24.8.24 at 10 a.m in Seminar Hall. Totally 84 faculties participated in the event. \n       \n   
URL:https://avpcas.edu.in/event/internal-quality-assurance-cell-has-organised-a-faculty-training-program-on-mastering-instructional-technology-on-24-8-24/
LOCATION:Seminar Hall
CATEGORIES:Announcements,Department Events,IQAC
END:VEVENT
BEGIN:VEVENT
DTSTART;TZID=Asia/Kolkata:20240823T153000
DTEND;TZID=Asia/Kolkata:20240823T161500
DTSTAMP:20260420T112409
CREATED:20240822T154046Z
LAST-MODIFIED:20240827T071446Z
UID:15134-1724427000-1724429700@avpcas.edu.in
SUMMARY:Internal Quality Assurance cell is planning to conduct Sathya Gnanam for the month of August on 23.08.24.
DESCRIPTION:Internal Quality Assurance cell is planning to conduct Sathya Gnanam for the month of August on 23.08.24 by 3.30 p.m in the Multipurpose Hall. Ms. P. Vasukidevi\, A/P\, School of Management will be the Resource person. \n       \nInternal Quality Assurance cell of AVPCAS has organised a special talk for the August month Sathya Gnanam session on 23.08.24 at 3.30 p.m. in the Seminar Hall.Ms. Vasukidevi\, A/P\, School of Management acted as the speaker. She spoke to the Members of Faculty about the Power of Words.
URL:https://avpcas.edu.in/event/internal-quality-assurance-cell-is-planning-to-conduct-sathya-gnanam-for-the-month-of-august-on-23-08-24/
LOCATION:Multipurpose Hall
CATEGORIES:Announcements,Department Events,IQAC
END:VEVENT
BEGIN:VEVENT
DTSTART;TZID=Asia/Kolkata:20240807T103000
DTEND;TZID=Asia/Kolkata:20240807T123000
DTSTAMP:20260420T112409
CREATED:20240807T110545Z
LAST-MODIFIED:20240807T113017Z
UID:14922-1723026600-1723033800@avpcas.edu.in
SUMMARY:Internal Quality Assurance cell in association with National Securities Depository Limited (NSDL) organized an Awareness program in Investing and Career Opportunities in Indian Capital Markets on 07.08.24.
DESCRIPTION:Internal Quality Assurance cell in association with National Securities Depository Limited (NSDL) organised an Awareness program in Investing and Career Opportunities in Indian Capital Markets on 07.08.24 at 10.30 a.m in Seminar Hall. \n    \nInternal Quality Assurance cell in association with National Securities Depository Limited (NSDL)organised An Awareness program in Investing and Career Opportunities in Indian Capital Markets. Ms. A. Saranya\, Asst. General manager\, SEBI\, MR. Elango\, Regional Head\, NSDL\, Mr. Balakrishnan\, Sr. Manager\, Coimbatore capital Ltd acted as the resource persons for the event. Attendees of the program gained insights about opening a demat account and investing in Shares and Mutual funds.
URL:https://avpcas.edu.in/event/internal-quality-assurance-cell-in-association-with-national-securities-depository-limited-nsdl-organized-an-awareness-program-in-investing-and-career-opportunities-in-indian-capital-markets-on-07-0/
LOCATION:Seminar Hall
CATEGORIES:Announcements,Department Events,IQAC
END:VEVENT
BEGIN:VEVENT
DTSTART;TZID=Asia/Kolkata:20240724T153000
DTEND;TZID=Asia/Kolkata:20240724T160000
DTSTAMP:20260420T112409
CREATED:20240723T160535Z
LAST-MODIFIED:20240725T142802Z
UID:14619-1721835000-1721836800@avpcas.edu.in
SUMMARY:Internal Quality Assurance cell of the college has planned a special talk on topic walk with biotechnology for all the members of faculty on 24.07.24
DESCRIPTION:Internal Quality Assurance cell of the college organized a special talk on topic walk with biotechnology for all the members of faculty on 24.07.24. Dr. R. Tamilselvi\, Assistant professor\, School of Biotechnology spoke about Adulterants in food items and how to find and avoid adultered food. \n          
URL:https://avpcas.edu.in/event/internal-quality-assurance-cell-of-the-college-has-planned-a-special-talk-on-topic-walk-with-biotechnology-for-all-the-members-of-faculty-on-24-07-24/
LOCATION:Seminar Hall
CATEGORIES:Announcements,Department Events,IQAC
END:VEVENT
BEGIN:VEVENT
DTSTART;VALUE=DATE:20240720
DTEND;VALUE=DATE:20240721
DTSTAMP:20260420T112409
CREATED:20240723T165319Z
LAST-MODIFIED:20240723T165319Z
UID:14645-1721433600-1721519999@avpcas.edu.in
SUMMARY:Internal Quality Assurance cell organized other Language training classes for all the first years from 20.07.24.
DESCRIPTION:
URL:https://avpcas.edu.in/event/internal-quality-assurance-cell-organized-other-language-training-classes-for-all-the-first-years-from-20-07-24/
LOCATION:Seminar Hall
CATEGORIES:Announcements,Department Events,IQAC
END:VEVENT
BEGIN:VEVENT
DTSTART;TZID=Asia/Kolkata:20240718T100000
DTEND;TZID=Asia/Kolkata:20240718T123000
DTSTAMP:20260420T112409
CREATED:20240718T104541Z
LAST-MODIFIED:20240718T104543Z
UID:14582-1721296800-1721305800@avpcas.edu.in
SUMMARY:IQAC in association with Library Information centre is organized a special talk to enhance the reading habit of the students on 18.07.24.
DESCRIPTION:IQAC in association with Library Information centre organised a special talk ” The voice of the books” on 18.07.24 in Multipurpose Hall by 10 a.m. Ms. Miruthula Natarajan\, Founder Sakthi Arakattalai was the guest speaker. Through her speech she inspired the students to expand their knowledge by reading books. \n               
URL:https://avpcas.edu.in/event/iqac-in-association-with-library-information-centre-is-organized-a-special-talk-to-enhance-the-reading-habit-of-the-students-on-18-07-24/
LOCATION:Multipurpose Hall
CATEGORIES:Announcements,Department Events,IQAC,Library
END:VEVENT
BEGIN:VEVENT
DTSTART;TZID=Asia/Kolkata:20240629T153000
DTEND;TZID=Asia/Kolkata:20240629T161500
DTSTAMP:20260420T112409
CREATED:20240701T061825Z
LAST-MODIFIED:20240701T061826Z
UID:14427-1719675000-1719677700@avpcas.edu.in
SUMMARY:IQAC Organised Sathya Gnanam on 29.06.2024.
DESCRIPTION:  \n \nInternal Quality Assurance cell had organised Sathya Gnanam for the month of June on 29.06.2024 in the Seminar Hall by 3.30p.m. The Resource person of the program Ms. K. Vishnupriya\, Assistant professor\, Department of Costume Design and Fashion explained on fabric recycling and upcycling.
URL:https://avpcas.edu.in/event/iqac-organised-sathya-gnanam-on-29-06-2024/
LOCATION:Seminar Hall
CATEGORIES:Announcements,Department Events,IQAC
END:VEVENT
BEGIN:VEVENT
DTSTART;TZID=Asia/Kolkata:20240514T103000
DTEND;TZID=Asia/Kolkata:20240514T130000
DTSTAMP:20260420T112409
CREATED:20240524T100847Z
LAST-MODIFIED:20240524T100850Z
UID:14078-1715682600-1715691600@avpcas.edu.in
SUMMARY:IQAC organized a Webinar on the topic Navigating the Social Web Safety: Unraveling the secrets of Cyber security 14.05.2024.
DESCRIPTION:Internal Quality Assurance Cell organized a Webinar on the topic Navigating the Social Web Safety: Unraveling the secrets of Cyber security. The event is on 14.05.2024 at 10.30 am. \n \n    \nInternal Quality Assurance Cell of A. V. P. College organized a webinar today (14.05.2024) at 10.30 am on the topic ‘Navigating the Social Web Safely’ in collaboration with Sree Narayana Guru College\, Coimbatore. Ms. D. S. Neethu\, Assistant Professor\, Department of Computer Science\, SNGC was the resource person.
URL:https://avpcas.edu.in/event/iqac-organized-a-webinar-on-the-topic-navigating-the-social-web-safety-unraveling-the-secrets-of-cyber-security-14-05-2024/
LOCATION:Google Meet
CATEGORIES:Announcements,Department Events,IQAC
END:VEVENT
BEGIN:VEVENT
DTSTART;TZID=Asia/Kolkata:20240425T143000
DTEND;TZID=Asia/Kolkata:20240425T153000
DTSTAMP:20260420T112409
CREATED:20240425T151650Z
LAST-MODIFIED:20240425T151652Z
UID:14033-1714055400-1714059000@avpcas.edu.in
SUMMARY:Internal Quality Assurance cell organized Sathya Gnanam on 25.04.24.
DESCRIPTION:Internal Quality Assurance cell organized Sathya Gnanam for the month of April on 25.04.24 in Seminar Hall by 2.30 p.m. Ms. S Sridevi\, Assistant professor\, Department of Business Administration has consented to be the resource person.
URL:https://avpcas.edu.in/event/internal-quality-assurance-cell-organized-sathya-gnanam-on-25-04-24/
LOCATION:Seminar Hall
CATEGORIES:Announcements,Department Events,IQAC
END:VEVENT
BEGIN:VEVENT
DTSTART;TZID=Asia/Kolkata:20240328T153000
DTEND;TZID=Asia/Kolkata:20240328T161500
DTSTAMP:20260420T112409
CREATED:20240329T154706Z
LAST-MODIFIED:20240329T154707Z
UID:13884-1711639800-1711642500@avpcas.edu.in
SUMMARY:Internal Quality Assurance cell organized an " Educators News update Challenge" for all the Members of Faculty on 28.03.2024.
DESCRIPTION:Internal Quality Assurance cell organized an ” Educators News update Challenge” for all the Members of Faculty on 28.03.2024 in the Seminar Hall by 3.30 p.m. \n    \nInternal Quality Assurance cell organized Educators News update Challenge on 28.03.2024 by 3.30 p.m in the Seminar Hall. Ms. G. Pramela\, Assistant professor\, Department of Computer science acted as the moderator for the quiz. All the Members of Faculty attended the event. \n 
URL:https://avpcas.edu.in/event/internal-quality-assurance-cell-organized-an-educators-news-update-challenge-for-all-the-members-of-faculty-on-28-03-2024/
LOCATION:Seminar Hall
CATEGORIES:Announcements,Department Events,IQAC
END:VEVENT
BEGIN:VEVENT
DTSTART;TZID=Asia/Kolkata:20240308T160000
DTEND;TZID=Asia/Kolkata:20240308T180000
DTSTAMP:20260420T112409
CREATED:20240307T161923Z
LAST-MODIFIED:20240307T161924Z
UID:13794-1709913600-1709920800@avpcas.edu.in
SUMMARY:IQAC in association with Library Information centre has planned to conduct a webinar on "Orientation on Usage of Digital Resource" on 08.03.24.
DESCRIPTION:IQAC in association with Library Information centre has planned to conduct a webinar on “Orientation on Usage of Digital Resource” on 08.03.24 by 4.00 p.m.
URL:https://avpcas.edu.in/event/iqac-in-association-with-library-information-centre-has-planned-to-conduct-a-webinar-on-orientation-on-usage-of-digital-resource-on-08-03-24/
LOCATION:ONLINE MODE
CATEGORIES:Announcements,Department Events,IQAC,Library
END:VEVENT
BEGIN:VEVENT
DTSTART;TZID=Asia/Kolkata:20240229T100000
DTEND;TZID=Asia/Kolkata:20240229T130000
DTSTAMP:20260420T112409
CREATED:20240303T083355Z
LAST-MODIFIED:20240303T092218Z
UID:13680-1709200800-1709211600@avpcas.edu.in
SUMMARY:Internal Quality Assurance cell has planned to conduct  a webinar on " Emotional Intelligence: A Key to Success" on 29.02.2024.
DESCRIPTION:Internal Quality Assurance cell has planned to conduct a webinar on ” Emotional Intelligence: A Key to Success” on 29.02.2024. \n    \nInternal Quality Assurance Cell has organized a webinar for UG students of the college on topic “Emotional intelligence: A Key for Success” on 29.02.2024( Thursday) at 10.00 a.m in the Seminar Hall. Dr. G. Sugunavalli\, Associate Professor & Head (i/c)\, Department of Commerce with Professional Accounting delivered her expertise about need for Emotional Stability in oneself for success in their life.
URL:https://avpcas.edu.in/event/internal-quality-assurance-cell-has-planned-to-conduct-a-webinar-on-emotional-intelligence-a-key-to-success-on-29-02-2024/
LOCATION:Seminar Hall
CATEGORIES:Announcements,Department Events,IQAC
END:VEVENT
BEGIN:VEVENT
DTSTART;TZID=Asia/Kolkata:20240219T153000
DTEND;TZID=Asia/Kolkata:20240219T160000
DTSTAMP:20260420T112409
CREATED:20240220T151500Z
LAST-MODIFIED:20240220T151501Z
UID:13593-1708356600-1708358400@avpcas.edu.in
SUMMARY:Internal Quality Assurance cell organized Sathya Gnanam on Topic " Kathaiyum Vazhvum" on 19.02.24.
DESCRIPTION:  \n \n  \nInternal Quality Assurance cell organised Sathya Gnanam on Topic ” Kathaiyum Vazhvum” on 19.02.24 by 3.30 p.m in the Seminar Hall. Dr. S. Sasikala\, Associate Professor\, Department of Tamil acted as a Resource person.
URL:https://avpcas.edu.in/event/internal-quality-assurance-cell-organized-sathya-gnanam-on-topic-kathaiyum-vazhvum-on-19-02-24/
LOCATION:Seminar Hall
CATEGORIES:Announcements,Department Events,IQAC
END:VEVENT
BEGIN:VEVENT
DTSTART;TZID=Asia/Kolkata:20240130T103000
DTEND;TZID=Asia/Kolkata:20240130T123000
DTSTAMP:20260420T112409
CREATED:20240201T152735Z
LAST-MODIFIED:20240201T155949Z
UID:13393-1706610600-1706617800@avpcas.edu.in
SUMMARY:IQAC organized seminar on " Design Thinking in Solving Real World Challenges" in Lab 2 on 30.01.24.
DESCRIPTION:Internal Quality Assurance cell has planned to conduct a seminar on ” Design Thinking in Solving Real World Challenges” in Lab 2 on 30.01.24 at 10.30 a.m. \n  \n  \n    \nInternal Quality Assurance cell has organised a Seminar on “Design Thinking in Solving Real World Challenges” on 30.01.24. Mr. Vignes Darsan\, CEO of Exotic India pvt. Ltd acted as a Resource person.
URL:https://avpcas.edu.in/event/iqac-organized-seminar-on-design-thinking-in-solving-real-world-challenges-in-lab-2-on-30-01-24/
LOCATION:Computer Lab 2
CATEGORIES:Announcements,Department Events,IQAC
END:VEVENT
BEGIN:VEVENT
DTSTART;TZID=Asia/Kolkata:20240124T080000
DTEND;TZID=Asia/Kolkata:20240124T170000
DTSTAMP:20260420T112409
CREATED:20240124T061304Z
LAST-MODIFIED:20240124T130030Z
UID:13331-1706083200-1706115600@avpcas.edu.in
SUMMARY:IQAC organised Sathya Gnanam on 24.01.24.
DESCRIPTION:IQAC organised Sathya Gnanam on 24.01.24. at 3.30 pm. Ms. J. Suganya\, Assistant Professor\, Dept of English will be the Resource person. \n   \nIQAC organised Sathya Gnanam a special talk for the Members of Faculty on ” Tidbits and handy facts for Language Enhancement” by Ms. J. Suganya\, Assistant Professor\, Department of English at 3.30 p.m in the seminar hall on 24.01.24.
URL:https://avpcas.edu.in/event/iqac-organised-sathya-gnanam-on-24-01-24/
LOCATION:Seminar Hall
CATEGORIES:Announcements,Department Events,IQAC
END:VEVENT
BEGIN:VEVENT
DTSTART;TZID=Asia/Kolkata:20240108T183000
DTEND;TZID=Asia/Kolkata:20240108T193000
DTSTAMP:20260420T112409
CREATED:20240111T094925Z
LAST-MODIFIED:20240111T094926Z
UID:13064-1704738600-1704742200@avpcas.edu.in
SUMMARY:IQAC organises a webinar on Building persuasive proposals for Research Funding for Members of Faculty on 08.01.2024.
DESCRIPTION:  \nIQAC organised a Faculty Development Program entitled ” Building Persuasive Proposals for Research Funding” on 08.01.2024 at 6.30 p.m. through Google Meet. Dr. V. Suresh Kumar\, Associate Professor\, Department of Management Studies\, Nehru College of Management was the external expert for the event.
URL:https://avpcas.edu.in/event/iqac-organises-a-webinar-on-building-persuasive-proposals-for-research-funding-for-members-of-faculty-on-08-01-2024-2/
LOCATION:Google Meet
CATEGORIES:Announcements,IQAC
END:VEVENT
BEGIN:VEVENT
DTSTART;TZID=Asia/Kolkata:20240108T183000
DTEND;TZID=Asia/Kolkata:20240108T183000
DTSTAMP:20260420T112409
CREATED:20240105T092542Z
LAST-MODIFIED:20240105T092544Z
UID:12935-1704738600-1704738600@avpcas.edu.in
SUMMARY:IQAC Organises a webinar on Building persuasive proposals for Research Funding for Members of Faculty on 08.01.2024.
DESCRIPTION:
URL:https://avpcas.edu.in/event/iqac-organises-a-webinar-on-building-persuasive-proposals-for-research-funding-for-members-of-faculty-on-08-01-2024/
LOCATION:ONLINE MODE
CATEGORIES:Announcements,Department Events,IQAC
END:VEVENT
BEGIN:VEVENT
DTSTART;TZID=Asia/Kolkata:20231221T153000
DTEND;TZID=Asia/Kolkata:20231221T160000
DTSTAMP:20260420T112409
CREATED:20231222T092903Z
LAST-MODIFIED:20231222T094157Z
UID:12790-1703172600-1703174400@avpcas.edu.in
SUMMARY:IQAC organised a special talk for Sathya Gnanam topic  on " Time Saving hacks for busy working women" on 21.12.23
DESCRIPTION:IQAC organised a special talk for Sathya Gnanam( knowledge forum for teachers) on 21.12.2023. Ms. R. Nagalakshmi\, Assistant Professor\, Department of Commerce CA addressed the Members of Faculty on topic ” Time Saving hacks for busy working women”. \n          
URL:https://avpcas.edu.in/event/iqac-organised-a-special-talk-for-sathya-gnanam-topic-on-time-saving-hacks-for-busy-working-women-on-21-12-23/
LOCATION:Seminar Hall
CATEGORIES:Announcements,Department Events,IQAC
END:VEVENT
BEGIN:VEVENT
DTSTART;TZID=Asia/Kolkata:20231211T143000
DTEND;TZID=Asia/Kolkata:20231211T153000
DTSTAMP:20260420T112409
CREATED:20231220T165442Z
LAST-MODIFIED:20231220T165444Z
UID:12725-1702305000-1702308600@avpcas.edu.in
SUMMARY:IQAC organizes Department Profiling Presentation on 11.12.2023
DESCRIPTION:IQAC organized a Department Profiling Presentation on 11.12.2023 at 2.30 p.m in the Conference Room. All the Heads of the Department presented the activities conducted for the Odd Semester and proposal of the activities for the Even semester for the Academic year 2023-24
URL:https://avpcas.edu.in/event/iqac-organizes-department-profiling-presentation-on-11-12-2023/
LOCATION:Conference Hall\, College campus\, Tirupur\, India
CATEGORIES:Announcements,IQAC
END:VEVENT
BEGIN:VEVENT
DTSTART;TZID=Asia/Kolkata:20231130T140000
DTEND;TZID=Asia/Kolkata:20231130T160000
DTSTAMP:20260420T112409
CREATED:20231201T105114Z
LAST-MODIFIED:20231206T104118Z
UID:12654-1701352800-1701360000@avpcas.edu.in
SUMMARY:IQAC organizes Skill Development Program for Non-teaching staff  members from 30.11.2023 to 05.12.2023.
DESCRIPTION:     \n                 \nDay 1 (30.11.2023) \nElevate and Excel : Skill Development Program for Non-teaching staff is organised by IQAC from 30.11.2023 to 02.12.2023. Today on Day 1 (30.11.2023) Training on Designing Invitations was conducted by Ms. G. Pramela\, Assistant Professor\, Department of Computer Science. All the Non-teaching staff of A. V. P. College of Arts and Science attended the program. \n  \n  \n                 \nDay 2 (01.12.2023) \nSkill Development Program for Non-teaching staff. Day 2 (01.12.2023) Training on Drafting Office Correspondence was given by Ms.C. Miruthulaa\, Assistant Professor\, Department of English. All the Non-teaching staff of A. V. P. College of Arts and Science participated in the Event. \n         \n             \nDay 3 (05.12.2023) \nSkill Development Program for Non-teaching staff. Day 3 (05.12.2023) Training to Enhance Managerial Skills was conducted. All the Non-teaching staff of A. V. P. College of Arts and Science participated in the Event.
URL:https://avpcas.edu.in/event/iqac-organizes-skill-development-program-for-non-teaching-staff-from-30-11-2023-to-02-12-2023/
LOCATION:Computer Laboratory I
CATEGORIES:Announcements,Department Events,IQAC
END:VEVENT
BEGIN:VEVENT
DTSTART;TZID=Asia/Kolkata:20231121T100000
DTEND;TZID=Asia/Kolkata:20231121T120000
DTSTAMP:20260420T112409
CREATED:20231122T112040Z
LAST-MODIFIED:20231122T112615Z
UID:12631-1700560800-1700568000@avpcas.edu.in
SUMMARY:IQAC Organized a One day workshop on " Evaluation of POs and COs" at Computer Lab 2 on 21.11.2023.
DESCRIPTION:IQAC organised a One day workshop on ” Evaluation of POs and COs” at Computer Lab 2 on 21.11.2023. Ms. R.S. Cindhu\, Assistant Professor\, Department of Biotechnology acted as the Resource person. The workshop was attended by 87 Members of Faculty. \n                         \n         
URL:https://avpcas.edu.in/event/iqac-organized-a-one-day-workshop-on-evaluation-of-pos-and-cos-at-computer-lab-2-on-21-11-2023/
LOCATION:Computer Lab 2
CATEGORIES:Announcements,Department Events,IQAC
END:VEVENT
BEGIN:VEVENT
DTSTART;TZID=Asia/Kolkata:20230822T153000
DTEND;TZID=Asia/Kolkata:20230822T160000
DTSTAMP:20260420T112409
CREATED:20230823T050703Z
LAST-MODIFIED:20230823T050704Z
UID:11527-1692718200-1692720000@avpcas.edu.in
SUMMARY:IQAC organizes "Sathya Gnanam" for the month of August on 22.08.2023
DESCRIPTION:IQAC organised Sathya Gnanam for the month of August on 22.08.23 at 3.30p.m. in Seminar Hall. Ms. M. Sangeetha\, Assistant Professor\, Department of Mathematics was the resource person.
URL:https://avpcas.edu.in/event/iqac-organizes-sathya-gnanam-for-the-month-of-august-on-22-08-2023/
LOCATION:Seminar Hall
CATEGORIES:Announcements,IQAC
END:VEVENT
BEGIN:VEVENT
DTSTART;TZID=Asia/Kolkata:20230818T100000
DTEND;TZID=Asia/Kolkata:20230818T150000
DTSTAMP:20260420T112409
CREATED:20230817T103009Z
LAST-MODIFIED:20230818T133440Z
UID:11482-1692352800-1692370800@avpcas.edu.in
SUMMARY:IQAC organizes Project Exhibition "Sustainable Environment" on 18.08.2023
DESCRIPTION:Internal Quality Assurance Cell \n  \nIQAC organised a Project Exhibition on Sustainable Environment in the Seminar Hall on 18.08.2023 at 10.00 am. 44 teams from various departments participated and presented working and Non working models. \n  \n  \n \n \n\nhttps://avpcas.edu.in/wp-content/uploads/2023/08/VID-20230818-WA0006.mp4
URL:https://avpcas.edu.in/event/iqac-cell-organizes-project-exhibition-sustainable-environment-on-18-08-2023/
LOCATION:Seminar Hall
CATEGORIES:Announcements,College Management,IQAC
END:VEVENT
BEGIN:VEVENT
DTSTART;TZID=Asia/Kolkata:20230722T100000
DTEND;TZID=Asia/Kolkata:20230722T170000
DTSTAMP:20260420T112409
CREATED:20230724T084040Z
LAST-MODIFIED:20230724T084041Z
UID:11284-1690020000-1690045200@avpcas.edu.in
SUMMARY:IQAC organizes a One day Workshop in the topic "Data Analysis with SPSS" on 22.7.2023
DESCRIPTION:Internal Quality Assurance Cell organised a one day workshop on ” Data Analysis with SPSS” on 22.07.2023 for all the Members of Faculty.
URL:https://avpcas.edu.in/event/iqac-organizes-a-one-day-workshop-in-the-topic-data-analysis-with-spss-on-22-7-2023/
LOCATION:Computer Laboratory
CATEGORIES:Announcements,Department Events,IQAC
END:VEVENT
BEGIN:VEVENT
DTSTART;TZID=Asia/Kolkata:20230721T153000
DTEND;TZID=Asia/Kolkata:20230721T160000
DTSTAMP:20260420T112409
CREATED:20230724T084648Z
LAST-MODIFIED:20230724T084649Z
UID:11291-1689953400-1689955200@avpcas.edu.in
SUMMARY:IQAC organizes Sathyagnanam for the month of July on 21.7.2023
DESCRIPTION:Internal Quality Assurance Cell organised Sathya Gnanam for the month of July on 21.07.2023 at 3.30 p.m. in the Seminar Hall.Ms. R. Girija Assistant Professor\, Department of Business Administration spoke about Business ideas for Women.
URL:https://avpcas.edu.in/event/iqac-organizes-sathyagnanam-for-the-month-of-july-on-21-7-2023/
LOCATION:Seminar Hall
CATEGORIES:Announcements,Department Events,IQAC
END:VEVENT
BEGIN:VEVENT
DTSTART;TZID=Asia/Kolkata:20230616T153000
DTEND;TZID=Asia/Kolkata:20230616T160000
DTSTAMP:20260420T112409
CREATED:20230617T062037Z
LAST-MODIFIED:20230617T062037Z
UID:11043-1686929400-1686931200@avpcas.edu.in
SUMMARY:IQAC organizes Sathya Gnanam for the month of June on 16.06.2023
DESCRIPTION:Sathya Gnanam for the month of June was conducted on 16.06.2023 at 3.30 pm in the Seminar Hall. Ms. C. Durgadevi\, Assistant Professor\, Department of Computer Science elaborated about “Password security in Real time applications” \n           \n  \n       
URL:https://avpcas.edu.in/event/iqac-organizes-sathya-gnanam-for-the-month-of-june-on-16-06-2023/
LOCATION:Seminar Hall
CATEGORIES:Announcements,Department Events,IQAC
END:VEVENT
END:VCALENDAR