BEGIN:VCALENDAR
VERSION:2.0
PRODID:-//A.V.P. College of Arts and Science - ECPv6.1.2.2//NONSGML v1.0//EN
CALSCALE:GREGORIAN
METHOD:PUBLISH
X-ORIGINAL-URL:https://avpcas.edu.in
X-WR-CALDESC:Events for A.V.P. College of Arts and Science
REFRESH-INTERVAL;VALUE=DURATION:PT1H
X-Robots-Tag:noindex
X-PUBLISHED-TTL:PT1H
BEGIN:VTIMEZONE
TZID:Asia/Kolkata
BEGIN:STANDARD
TZOFFSETFROM:+0530
TZOFFSETTO:+0530
TZNAME:IST
DTSTART:20240101T000000
END:STANDARD
END:VTIMEZONE
BEGIN:VEVENT
DTSTART;TZID=Asia/Kolkata:20240720T103000
DTEND;TZID=Asia/Kolkata:20240720T150000
DTSTAMP:20260421T151121
CREATED:20240723T164020Z
LAST-MODIFIED:20240723T171947Z
UID:14633-1721471400-1721487600@avpcas.edu.in
SUMMARY:Library and Information Center and Readers Haven Club Jointly organized to visit an Book Fair at Codessia Coimbatore on 20.7.2024.
DESCRIPTION:Library and Information center and Readers Haven club jointly visited a book fair on 20.07.2024 at 10.30 in codesia\, coimbatore. 40 students benefited in the visit.
URL:https://avpcas.edu.in/event/library-and-information-center-and-readers-haven-club-jointly-organized-to-visit-an-book-fair-at-codessia-coimbatore-on-20-7-2024/
LOCATION:Codessia Coimbatore
CATEGORIES:Announcements,Department Events,Library and Information Center,Readers Haven Club
END:VEVENT
END:VCALENDAR