BEGIN:VCALENDAR
VERSION:2.0
PRODID:-//A.V.P. College of Arts and Science - ECPv6.1.2.2//NONSGML v1.0//EN
CALSCALE:GREGORIAN
METHOD:PUBLISH
X-ORIGINAL-URL:https://avpcas.edu.in
X-WR-CALDESC:Events for A.V.P. College of Arts and Science
REFRESH-INTERVAL;VALUE=DURATION:PT1H
X-Robots-Tag:noindex
X-PUBLISHED-TTL:PT1H
BEGIN:VTIMEZONE
TZID:Asia/Kolkata
BEGIN:STANDARD
TZOFFSETFROM:+0530
TZOFFSETTO:+0530
TZNAME:IST
DTSTART:20260101T000000
END:STANDARD
END:VTIMEZONE
BEGIN:VEVENT
DTSTART;TZID=Asia/Kolkata:20260227T100000
DTEND;TZID=Asia/Kolkata:20260305T150000
DTSTAMP:20260420T100825
CREATED:20260228T161041Z
LAST-MODIFIED:20260228T161041Z
UID:19025-1772186400-1772722800@avpcas.edu.in
SUMMARY:NSS Unit I & II of AVP CAS is going to  organizing a 7-Day Special Camp at Kannakampalayam village from 27 February 2026 to 5 March 2026
DESCRIPTION:NSS Unit I & II of AVP CAS is going to  organizing a 7-Day Special Camp at Kannakampalayam village from 27 February 2026 to 5 March 2026 under the theme “Youth for Cleanliness” along  with 100 Nss volunteers. \nDay :1 -The National Service Scheme (NSS) 7-Day Special Camp of AVP College of Arts and Science was inaugurated at Kannakampalayam Village. The camp was formally inaugurated by Mr. Vijayakumar\, Deputy Block Development Officer\, Kannakampalayam\, and Mr. Senthilkumar\, Secretary of Kannakampalayam Village. \nDuring the programme\, awareness was created about the harmful effects of drug abuse and related social issues. Following the inaugural session\, volunteers distributed notices\, conducted surveys on village issues\, and visited each house to carry out a Village Household Survey.
URL:https://avpcas.edu.in/event/nss-unit-i-ii-of-avp-cas-is-going-to-organizing-a-7-day-special-camp-at-kannakampalayam-village-from-27-february-2026-to-5-march-2026/
LOCATION:Kanakkampalayam
CATEGORIES:Announcements,NSS
END:VEVENT
END:VCALENDAR