BEGIN:VCALENDAR
VERSION:2.0
PRODID:-//A.V.P. College of Arts and Science - ECPv6.1.2.2//NONSGML v1.0//EN
CALSCALE:GREGORIAN
METHOD:PUBLISH
X-ORIGINAL-URL:https://avpcas.edu.in
X-WR-CALDESC:Events for A.V.P. College of Arts and Science
REFRESH-INTERVAL;VALUE=DURATION:PT1H
X-Robots-Tag:noindex
X-PUBLISHED-TTL:PT1H
BEGIN:VTIMEZONE
TZID:Asia/Kolkata
BEGIN:STANDARD
TZOFFSETFROM:+0530
TZOFFSETTO:+0530
TZNAME:IST
DTSTART:20220101T000000
END:STANDARD
END:VTIMEZONE
BEGIN:VEVENT
DTSTART;TZID=Asia/Kolkata:20250917T103000
DTEND;TZID=Asia/Kolkata:20250917T110000
DTSTAMP:20260420T084759
CREATED:20250921T154931Z
LAST-MODIFIED:20250921T155918Z
UID:18162-1758105000-1758106800@avpcas.edu.in
SUMMARY:NSS & UBA cell in association with anti drug commitee have organized  a "Swatchhta Hi Sewa campaigns 2025" on 17.09.25.
DESCRIPTION:NSS& UBA cell in association with anti drug commitee of AVP CAS has organised a “Swatchhta Hi Sewa campaigns 2025” on 17.09.25 by 10.00 Am – 12.00p.m. in Railway station\, Tiruppur. \n       \n          \n 
URL:https://avpcas.edu.in/event/nss-uba-cell-in-association-with-anti-drug-commitee-have-organized-a-swatchhta-hi-sewa-campaigns-2025-on-17-09-25/
LOCATION:Railway station\, Tirupur.
CATEGORIES:Announcements,Anti Drug Committee,NSS
END:VEVENT
BEGIN:VEVENT
DTSTART;TZID=Asia/Kolkata:20250811T133000
DTEND;TZID=Asia/Kolkata:20250811T150000
DTSTAMP:20260420T084759
CREATED:20250812T094829Z
LAST-MODIFIED:20250812T094830Z
UID:17790-1754919000-1754924400@avpcas.edu.in
SUMMARY:NSS Cell\, UBA\, and Anti-Drug Committee of AVP College has organized an  Pledge and Rally on 11.08.2025.
DESCRIPTION:     \n       \nAnti-Drug Awareness Pledge and Rally at AVP College \nOn August 11\, 2025\, the NSS Cell\, UBA\, and Anti-Drug Committee of AVP College of Arts and Science organized a Mass Anti-Drug Pledge as part of the “Drug-Free Tamilnadu Awareness Programme.” The event aimed to promote a drug-free lifestyle among students. \nThe pledge-taking ceremony was led by Mr. Praveen Gowtham\, IPS\, Deputy Commissioner of Tirupur City\, along with the Principal\, NSS Program Officers\, faculty members\, and police officials. Following the pledge\, an awareness rally was conducted to spread the message among the public. \nSeventy NSS and UBA volunteers\, three faculty members\, and six police personnel participated in the event\, creating awareness about the dangers of drug abuse. \n  \n 
URL:https://avpcas.edu.in/event/nss-cell-uba-and-anti-drug-committee-of-avp-college-has-organized-an-pledge-and-rally-on-11-08-2025/
LOCATION:thirumurugan poondi to aathupalayam
CATEGORIES:Announcements,Anti Drug Committee,College Management,NSS,UBA
END:VEVENT
BEGIN:VEVENT
DTSTART;TZID=Asia/Kolkata:20250806T080000
DTEND;TZID=Asia/Kolkata:20250806T170000
DTSTAMP:20260420T084759
CREATED:20250807T155148Z
LAST-MODIFIED:20250807T155149Z
UID:17742-1754467200-1754499600@avpcas.edu.in
SUMMARY:Nss & UBA cell has organized an outreach program on Pathways to Progress: Government Schemes for Every Citizen" on 06/08/25.
DESCRIPTION:Nss & UBA cell has organized an outreach program on Pathways to Progress: Government Schemes for Every Citizen” on 06/08/25 at 8.00 Am in VS Mahal Tirupur along with 50 UBA and Nss volunteers.
URL:https://avpcas.edu.in/event/nss-uba-cell-has-organized-an-outreach-program-on-pathways-to-progress-government-schemes-for-every-citizen-on-06-08-25/
LOCATION:VS Mahal Tirupur
CATEGORIES:Announcements,College Management,NSS,UBA
END:VEVENT
BEGIN:VEVENT
DTSTART;TZID=Asia/Kolkata:20250801T080000
DTEND;TZID=Asia/Kolkata:20250801T170000
DTSTAMP:20260420T084759
CREATED:20250801T145408Z
LAST-MODIFIED:20250805T104131Z
UID:17711-1754035200-1754067600@avpcas.edu.in
SUMMARY:Nss & UBA cell has organized an extension activity on " Unlocking opportunities: Government support as a catalyst for community Empowerment" on 01/08/25.
DESCRIPTION:Nss & UBA cell has jointly organized an extension activity on ” Unlocking opportunities: Government support as a catalyst for community Empowerment” on 01/08/25 at 8.00 Am – 5.00 Pm in 15 Velampalayam Tirupur along with 50 UBA and Nss volunteers. \n          \n \n 
URL:https://avpcas.edu.in/event/nss-uba-cell-has-organized-an-extension-activity-on-unlocking-opportunities-government-support-as-a-catalyst-for-community-empowerment-on-01-08-25/
LOCATION:15\, velampalayam
CATEGORIES:Announcements,College Management,NSS,UBA
END:VEVENT
BEGIN:VEVENT
DTSTART;TZID=Asia/Kolkata:20250724T080000
DTEND;TZID=Asia/Kolkata:20250724T170000
DTSTAMP:20260420T084759
CREATED:20250724T135203Z
LAST-MODIFIED:20250724T135205Z
UID:17501-1753344000-1753376400@avpcas.edu.in
SUMMARY:Nss & UBA cell has planned to organize an extension activity on "NSS Volunteers' Initiative: Bridging the Gap between Government Schemes and the Public" (low cost / no cost Voluntary Activity)on 24/07/25.
DESCRIPTION:Nss & UBA cell has planned to organize an extension activity on “NSS Volunteers’ Initiative: Bridging the Gap between Government Schemes and the Public” (low cost / no cost Voluntary Activity)on 24/07/25 at 8.00 Am in Kanakkampalayam Tirupur along with 50 UBA and Nss volunteers.
URL:https://avpcas.edu.in/event/nss-uba-cell-has-planned-to-organize-an-extension-activity-on-nss-volunteers-initiative-bridging-the-gap-between-government-schemes-and-the-public-low-cost-no-cost-voluntary-activityon-24/
LOCATION:Kanakkampalayam
CATEGORIES:Announcements,College Management,NSS,UBA
END:VEVENT
BEGIN:VEVENT
DTSTART;TZID=Asia/Kolkata:20250718T080000
DTEND;TZID=Asia/Kolkata:20250718T170000
DTSTAMP:20260420T084759
CREATED:20250718T145750Z
LAST-MODIFIED:20250718T145752Z
UID:17461-1752825600-1752858000@avpcas.edu.in
SUMMARY:The NSS & UBA cell conducted an extension activity on government schemes\, 'Unlocking Opportunities: Government Schemes for the Public'\, on July 18\, 2025.
DESCRIPTION:NSS & UBA cell has planned to organize an extension activity on ” unlocking opportunities: Government schemes for the public” on 18/07/25 at 8.00 Am in Kongu main road Tirupur. \n     \nThe NSS and UBA Cell organized an extension activity titled ‘Unlocking Opportunities: Government Schemes for the Public\,’ where 30 NSS volunteers assisted around 10\,000 applicants in submitting applications for various government schemes on July 18\, 2025\, at Kongu Main Road\, Tirupur.
URL:https://avpcas.edu.in/event/the-nss-uba-cell-conducted-an-extension-activity-on-government-schemes-unlocking-opportunities-government-schemes-for-the-public-on-july-18-2025/
LOCATION:Kongu Main Road\,Tirupur
CATEGORIES:Announcements,Department Events,NSS,UBA
END:VEVENT
BEGIN:VEVENT
DTSTART;TZID=Asia/Kolkata:20250626T080000
DTEND;TZID=Asia/Kolkata:20250626T170000
DTSTAMP:20260420T084759
CREATED:20250626T103026Z
LAST-MODIFIED:20250626T103028Z
UID:17211-1750924800-1750957200@avpcas.edu.in
SUMMARY:The Anti-Drug Committee\, in collaboration with the National Service Scheme\, organised a drug awareness programme on 26th June 2025
DESCRIPTION:The Anti-Drug Committee\, in collaboration with the National Service Scheme\, organised a drug awareness programme on 26th June 2025 in the Seminar Hall to observe the International Day Against Drug Abuse and Illicit Trafficking. The event aimed to raise awareness about the harmful effects of drug abuse and promote a drug-free lifestyle among students. It featured the screening of short awareness films\, followed by a pledge ceremony. Around 600 students actively participated\, taking an oath to stay drug-free and spread awareness\, reflecting their commitment to social responsibility and healthy living. \n    \n 
URL:https://avpcas.edu.in/event/the-anti-drug-committee-in-collaboration-with-the-national-service-scheme-organised-a-drug-awareness-programme-on-26th-june-2025/
LOCATION:Seminar Hall
CATEGORIES:Announcements,Anti Drug Committee,NSS,UBA
END:VEVENT
BEGIN:VEVENT
DTSTART;TZID=Asia/Kolkata:20250130T100000
DTEND;TZID=Asia/Kolkata:20250130T123000
DTSTAMP:20260420T084759
CREATED:20250129T132201Z
LAST-MODIFIED:20250129T132204Z
UID:16236-1738231200-1738240200@avpcas.edu.in
SUMMARY:Nss and uba has planned to conduct an Awareness program on "Road Safety " on 30.01.2025.
DESCRIPTION:Nss and uba has planned to conduct an Awareness program on “Road Safety ” on 30.01.2025 in Avinashi BUS STAND@10.00 Am.
URL:https://avpcas.edu.in/event/nss-and-uba-has-planned-to-conduct-an-awareness-program-on-road-safety-on-30-01-2025/
LOCATION:Avinashi BUS STAND
CATEGORIES:Announcements,College Management,NSS,UBA
END:VEVENT
BEGIN:VEVENT
DTSTART;TZID=Asia/Kolkata:20250128T103000
DTEND;TZID=Asia/Kolkata:20250128T123000
DTSTAMP:20260420T084759
CREATED:20250127T173907Z
LAST-MODIFIED:20250128T160949Z
UID:16196-1738060200-1738067400@avpcas.edu.in
SUMMARY:NSS and UBA has planned to conduct an orientation program on 'wildlife conservation " on 28.01.25.
DESCRIPTION:NSS and UBA had organised an orientation program on the topic “Wildlife conservation” on 28/01/25 in School Auditorium at 10.00 Am to 12.30 pm. \n       \n        \n 
URL:https://avpcas.edu.in/event/nss-and-uba-has-planned-to-conduct-an-orientation-program-on-wildlife-conservation-on-28-01-25/
LOCATION:Seminar Hall
CATEGORIES:Announcements,Department Events,NSS,UBA
END:VEVENT
BEGIN:VEVENT
DTSTART;TZID=Asia/Kolkata:20240921T100000
DTEND;TZID=Asia/Kolkata:20240921T150000
DTSTAMP:20260420T084759
CREATED:20240927T135730Z
LAST-MODIFIED:20240927T135731Z
UID:15553-1726912800-1726930800@avpcas.edu.in
SUMMARY:NSS Cell and UBA jointly organized a "Community Clean-Up Drives" on 21/09/2024.
DESCRIPTION:NSS cell and UBA jointly organised a “Community Clean-Up Drives” on 21/09/2024 in kannakampalayam @ 10.00am – 3.00 pm
URL:https://avpcas.edu.in/event/nss-cell-and-uba-jointly-organized-a-community-clean-up-drives-on-21-09-2024/
LOCATION:Kanakaampalayam \, Tirupur
CATEGORIES:Announcements,Department Events,NSS,UBA
END:VEVENT
BEGIN:VEVENT
DTSTART;VALUE=DATE:20240917
DTEND;VALUE=DATE:20241003
DTSTAMP:20260420T084759
CREATED:20240927T143421Z
LAST-MODIFIED:20240927T143422Z
UID:15561-1726531200-1727913599@avpcas.edu.in
SUMMARY:NSS and UBA organize my Bharat "SWACHHAT HI SEVA CAMPAIGN 2024" from 17/09/24 to 02/10/2024.
DESCRIPTION:
URL:https://avpcas.edu.in/event/nss-and-uba-organize-my-bharat-swachhat-hi-seva-campaign-2024-from-17-09-24-to-02-10-2024/
LOCATION:AVPCAS
CATEGORIES:Announcements,Department Events,NSS,UBA
END:VEVENT
BEGIN:VEVENT
DTSTART;TZID=Asia/Kolkata:20240906T100000
DTEND;TZID=Asia/Kolkata:20240906T120000
DTSTAMP:20260420T084759
CREATED:20240909T051816Z
LAST-MODIFIED:20240909T051819Z
UID:15371-1725616800-1725624000@avpcas.edu.in
SUMMARY:UBA \,NSS and YRC of AVP cas jointly organises  "seed ball making" on 6/09/2024.
DESCRIPTION:
URL:https://avpcas.edu.in/event/uba-nss-and-yrc-of-avp-cas-jointly-organises-seed-ball-making-on-6-09-2024/
LOCATION:15\, velampalayam
CATEGORIES:Announcements,NSS,UBA,Youth Red Cross
END:VEVENT
BEGIN:VEVENT
DTSTART;TZID=Asia/Kolkata:20240902T130000
DTEND;TZID=Asia/Kolkata:20240902T140000
DTSTAMP:20260420T084759
CREATED:20240902T062811Z
LAST-MODIFIED:20240904T160250Z
UID:15285-1725282000-1725285600@avpcas.edu.in
SUMMARY:UBA and NSS cell is plan to signing a MoU with Quoraa learning India pvt Ltd.. coimbatore on 02/09/2024.
DESCRIPTION:UBA & NSS cell has Signed a MOU with Qaroo Learning private Ltd\, coimbatore on 02/09/24 at AVP college of Arts and Science \, Tirupur.
URL:https://avpcas.edu.in/event/uba-and-nss-cell-is-plan-to-signing-a-mou-with-quoraa-learning-india-pvt-ltd-coimbatore-on-02-09-2024/
LOCATION:AVPCAS
CATEGORIES:Announcements,NSS,UBA
END:VEVENT
BEGIN:VEVENT
DTSTART;TZID=Asia/Kolkata:20240807T103000
DTEND;TZID=Asia/Kolkata:20240807T123000
DTSTAMP:20260420T084759
CREATED:20240807T115126Z
LAST-MODIFIED:20240816T085834Z
UID:14959-1723026600-1723033800@avpcas.edu.in
SUMMARY:ROTARACT \, NSS & Health & Fitness Club has jointly organized An Awareness Rally on Breast feeding on 07.08.24 .
DESCRIPTION:  \n \n  \n    \nROTARACT \, NSS & Health & Fitness Club has jointly organised An Awareness Rally on Breast feeding on 07.08.24 from corporation office to south rotary club @ 10.30am \, G.Pavan Kumar District commissioner is the chief guest of the event \,around 250 students has participated.
URL:https://avpcas.edu.in/event/rotaract-nss-health-fitness-club-has-jointly-organized-an-awareness-rally-on-breast-feeding-on-07-08-24/
LOCATION:Corporation office\,Tirupur
CATEGORIES:Announcements,Department Events,Health & fitness Club,NSS,Rotaract Club
END:VEVENT
BEGIN:VEVENT
DTSTART;TZID=Asia/Kolkata:20240724T133000
DTEND;TZID=Asia/Kolkata:20240724T150000
DTSTAMP:20260420T084759
CREATED:20240723T161101Z
LAST-MODIFIED:20240724T132846Z
UID:14622-1721827800-1721833200@avpcas.edu.in
SUMMARY:NSS Cell organizes Inauguration and orientation program " not me but you" on 24/07/2024.
DESCRIPTION:Nss cell organised the Inauguration and Orientation program “Not me\, but you” on 24/07/2024 \n        \n       
URL:https://avpcas.edu.in/event/nss-cell-organizes-inauguration-and-orientation-program-not-me-but-you-on-24-07-2024/
LOCATION:Seminar Hall
CATEGORIES:Announcements,Department Events,NSS
END:VEVENT
BEGIN:VEVENT
DTSTART;TZID=Asia/Kolkata:20240615T120000
DTEND;TZID=Asia/Kolkata:20240615T130000
DTSTAMP:20260420T084759
CREATED:20240617T101827Z
LAST-MODIFIED:20240617T101828Z
UID:14356-1718452800-1718456400@avpcas.edu.in
SUMMARY:NSS Cell organized awareness program on world elder abuse day on 15 /06/2024.
DESCRIPTION:NSS cell organised awareness program on world elder abuse day on 15 /06/2024 at 12.00 pm .around 60 students participated and take pledge in this awareness program.
URL:https://avpcas.edu.in/event/nss-cell-organized-awareness-program-on-world-elder-abuse-day-on-15-06-2024/
LOCATION:College Campus\, India
CATEGORIES:Announcements,Department Events,NSS
END:VEVENT
BEGIN:VEVENT
DTSTART;TZID=Asia/Kolkata:20240330T100000
DTEND;TZID=Asia/Kolkata:20240405T140000
DTSTAMP:20260420T084759
CREATED:20240401T093511Z
LAST-MODIFIED:20240407T172031Z
UID:13912-1711792800-1712325600@avpcas.edu.in
SUMMARY:National Service Scheme (NSS) organised a special camp from 30.03.2024 to 05.04.2024.
DESCRIPTION:National Service Scheme (Nss) organised a special camp at adopted village Kanakaampalayam \, Tirupur District from 30.03.2024 to 05.04.2024 to carry out activities like Temple cleaning\, school cleaning\, Eye camp\, Kidney care camp for the public. We cordially invites you all . \nDay 1: 30.03.2024 \n   \nNational Service Scheme(NSS) organized a seven days special camp from 30.03.2024 to 05.04.2024 at Kanakaampalayam Village.\nDay 1: 30.03.2024 (Saturday)Inauguration of special camp . Inaugrated by Mr.P.Shanmuga Sundaram \, president\,Kanakaampalayam Panchayath\, Tirupur union\,Tirupur District. 50 NSS volunteers participated in this special camp. \nDay 2: 31.03.2024 \n     \nSchool Campus Cleaning at Kanakampalayam village.\nNSS volunteers cleaned the Kanakampalayam village Primary school Campus on 31.03.2024. \nDay 3: 01.04.2024 \n    \nTemple cleaning activity and awareness program on Mobile Phone Addiction among school children.NSS volunteers cleaned the Amman Temple and the collected wastes are disposed in a proper dustbin. \nDay 4: 02.04.2024\nNotice distribution about Medical camp and voters Awareness pledge. \n       \nDay 5:03.04.2024\nFree eye screening camp in association with Lotus Eyes Care Hospital. \n         \nFree eye screening camp was organized with Lotus Eye Care Hospital for the Kanakampalayam village people . Nearly 150 people got benefitted. \nDay 6: 04.04.2024\nNss organised a Free Kidney care camp in association with Mithra Kidney Care Center in Kanakampalayam Village on 04.04.2024. Nearly 100 public people got benefitted. \n    \nDay 7: 05.04.2024\nNss organised a valedictory function for the special camp in the adopted village Kanakampalayam \, Tirupur union on 05.04.2024.\nDr.V.kathiresan\, principal\,A.V.P college of Arts and Science welcomed the president \,ward member of Kanakampalayam village \, chairman of AVP college \,manager of AVP school and the nss volunteers. \nRtn.PDG.MD.A.karthikeyen gave the valedictory speech and thanked the president and vice president of kanakampalayam village for giving this opportunity.\nMr.P.shanmuga sundaram \,president of Kanakampalayam village appreciated our nss volunteers for rendering their services.\nMr.S.Ramamoorthy\,Ward councilor also appreciated the volunteers and thanked our chairman for doing this services.\nMr.Ramasamy\, Manager of A.V.P Trust\,N.M.H.S.school thanked the president\, ward member and nss volunteers for their services.\nMs.N.santhana Lakshmi \,NSS PO\,AVP college of arts and Science gave the vote of thanks.\nThe function ended with national anthem and the students gained much more knowledge in social services from this camp.
URL:https://avpcas.edu.in/event/national-service-scheme-nss-organised-a-special-camp-from-30-03-2024-to-05-04-2024/
LOCATION:Kanakaampalayam \, Tirupur
CATEGORIES:Announcements,Department Events,NSS
END:VEVENT
BEGIN:VEVENT
DTSTART;TZID=Asia/Kolkata:20240312T103000
DTEND;TZID=Asia/Kolkata:20240312T113000
DTSTAMP:20260420T084759
CREATED:20240311T171803Z
LAST-MODIFIED:20240312T160621Z
UID:13810-1710239400-1710243000@avpcas.edu.in
SUMMARY:National Service Scheme (NSS) is going to sign MOU with Vanam India Foundation on 12.03.2024.
DESCRIPTION:National Service Scheme (NSS) is going to sign MOU with Vanam India Foundation on 12.03.2024 at Palladam to engage students in various environment programs and to serve society at large. \n  \nNSS signed MOU with Vanam India Foundation\,Palladam.Ms.N.santhana Lakshmi and Ms.T.Deepika\,NSS PO and Co-ordinator receiving a MOU document from Mr.K.Balasubramanian\, Executive President\,Vanam India Foundation and Mr.Palanisamy\,Member\,Vanam India Foundation\,Palladam.
URL:https://avpcas.edu.in/event/national-service-scheme-nss-is-going-to-sign-mou-with-vanam-india-foundation-on-12-03-2024/
LOCATION:Vanam India Foundation\,Palladam.
CATEGORIES:Announcements,Department Events,NSS
END:VEVENT
BEGIN:VEVENT
DTSTART;TZID=Asia/Kolkata:20240204T100000
DTEND;TZID=Asia/Kolkata:20240204T150000
DTSTAMP:20260420T084759
CREATED:20240205T171159Z
LAST-MODIFIED:20240205T171200Z
UID:13502-1707040800-1707058800@avpcas.edu.in
SUMMARY:NSS cell organized "organ donor registration" on national cancer day on 4/2/2023 .
DESCRIPTION:
URL:https://avpcas.edu.in/event/nss-cell-organized-organ-donor-registration-on-national-cancer-day-on-4-2-2023/
LOCATION:Seminar Hall
CATEGORIES:Announcements,Department Events,NSS
END:VEVENT
BEGIN:VEVENT
DTSTART;TZID=Asia/Kolkata:20231223T100000
DTEND;TZID=Asia/Kolkata:20231223T140000
DTSTAMP:20260420T084759
CREATED:20231226T042421Z
LAST-MODIFIED:20231226T042424Z
UID:12841-1703325600-1703340000@avpcas.edu.in
SUMMARY:National service scheme(NSS) participated in Mega Medical camp organized by Dr Pharmacy on 23.12.2023.
DESCRIPTION:  \n  \n     \nNational service scheme(NSS) participated in Mega Medical camp organized by Dr.S.Sarathprabhu Seva Pharmacy at Prithivi Complex \,Veerapandi Pirivu\,Palladam on 23.12.2023. Nearly 150 public got benefited.25 volunteers participated and rendered services in this camp.
URL:https://avpcas.edu.in/event/national-service-schemenss-participated-in-mega-medical-camp-organized-by-dr-pharmacy-on-23-12-2023/
LOCATION:Palladam
CATEGORIES:Announcements,Department Events,NSS
END:VEVENT
BEGIN:VEVENT
DTSTART;TZID=Asia/Kolkata:20231208T100000
DTEND;TZID=Asia/Kolkata:20231208T120000
DTSTAMP:20260420T084759
CREATED:20231208T093354Z
LAST-MODIFIED:20231208T093357Z
UID:12689-1702029600-1702036800@avpcas.edu.in
SUMMARY:On account of "International Human Rights Day" NSS Organizes "Pledge Taking" on 08.12.2023
DESCRIPTION:  \n  \n      \n \n  \nNational Service scheme (NSS) celebrated the ” International Human Rights Day” on 08/12/23 by taking pledge about human rights along with Government school students\,Periyayipalaym. In this 50 school students got benefitted.
URL:https://avpcas.edu.in/event/on-account-of-international-human-rights-day-nss-organizes-pledge-taking-on-08-12-2023/
LOCATION:Government School\, Periyayipalayam\, India
CATEGORIES:Announcements,NSS
END:VEVENT
BEGIN:VEVENT
DTSTART;TZID=Asia/Kolkata:20230826T103000
DTEND;TZID=Asia/Kolkata:20230826T123000
DTSTAMP:20260420T084759
CREATED:20230825T071203Z
LAST-MODIFIED:20230830T103853Z
UID:11546-1693045800-1693053000@avpcas.edu.in
SUMMARY:NSS and Youth Red Cross coordinally organizes "Protocols for Safe Driving" on 26.8.2023
DESCRIPTION:NSS AND YRC organised a program “Protocols for safe Driving” at Kalampalayam village.50 students participated and created awareness like use of Helmet wearing and wearing seat belt while driving to the public.Nearly 100 public were got benefited. \n                      \n                     
URL:https://avpcas.edu.in/event/nss-and-youth-red-cross-coordinally-organizes-protocols-for-safe-driving-on-26-8-2023/
LOCATION:kalampalayam
CATEGORIES:Announcements,NSS,Youth Red Cross
END:VEVENT
BEGIN:VEVENT
DTSTART;TZID=Asia/Kolkata:20230626T110000
DTEND;TZID=Asia/Kolkata:20230626T123000
DTSTAMP:20260420T084759
CREATED:20230701T052234Z
LAST-MODIFIED:20230701T052235Z
UID:11078-1687777200-1687782600@avpcas.edu.in
SUMMARY:Anti Drug Committee and National Social Service Cordially Organizes "Rally against on Drug abuse and Trafficking" on 26.6.2023
DESCRIPTION:
URL:https://avpcas.edu.in/event/anti-drug-committee-and-national-social-service-cordially-organizes-rally-against-on-drug-abuse-and-trafficking-on-26-6-2023/
LOCATION:From College Campus to T.M.Poondi
CATEGORIES:Announcements,Anti Drug Committee,College Management,NSS
END:VEVENT
BEGIN:VEVENT
DTSTART;TZID=Asia/Kolkata:20230227T100000
DTEND;TZID=Asia/Kolkata:20230304T123000
DTSTAMP:20260420T084759
CREATED:20230227T095845Z
LAST-MODIFIED:20230227T100201Z
UID:10581-1677492000-1677933000@avpcas.edu.in
SUMMARY:Women Empowerment Cell and Health Care Club Jointly with Rexona & Hindustan Unilever Limited Organizes One Day Awareness Program "Women's Grooming and Hygiene Habits" on 27.02.2023
DESCRIPTION:  \n      \nA seminar on hygiene and grooming for third year students was held today 27. 2. 2023 from 11-12 am in AVP College of Arts and Science. Miss Anjuman Banu was the special guest(Rexona confidance Academic Trainer). She spoke about in this event that how women should improve their internal and external development\, how women should keep themselves healthy and how women should be confident when going for job opportunities. 597 students participated in this event
URL:https://avpcas.edu.in/event/women-empowerment-cell-and-sexual-harrasment-cell-jointly-organized-save-ngo-2/
LOCATION:Auditorium\, College campus\, Tirupur\, India
CATEGORIES:Announcements,NSS
END:VEVENT
BEGIN:VEVENT
DTSTART;TZID=Asia/Kolkata:20230223T100000
DTEND;TZID=Asia/Kolkata:20230301T160000
DTSTAMP:20260420T084759
CREATED:20230222T044203Z
LAST-MODIFIED:20230308T062111Z
UID:10453-1677146400-1677686400@avpcas.edu.in
SUMMARY:National service scheme (NSS) organizes a special camp from 23.02.2023 to 01.03.2023
DESCRIPTION:National service scheme (NSS) is going to organise a special camp from 23.02.2023 to 01.03.2023 at periyayipalayam village..50 NSS student volunteers \n  \n  \nDay 1: \nNotice issued to public about camp and breast awareness for women.. 600 notices were distributed by NSS volunteers. \n  \n \nDay 2: \nNSS CAMP INAUGURATION function \,inaugrated by MR.SETHUMADHAVAN.R\, periyayipalayam ward counselor.panchayat union members and temple committee members were participated.\nEvening\n1.plastic eradication around the surroundings.\n2. Importance of women education by ms.dhanalakshmi\,police department\n3. “Online transaction awareness” -mime show for public done by NSS volunteers. \n  \n \nDAY 3:  \n1.Kamatchiamman kovil temple cleaned\n2.Thiruvalluvar higher secondary school\, periyayipalayam cleaned \n3.Awareness about breast cancer to public\n4. Notice distribution about eye camp. \n  \n                                                  \n                                                   \n \nDay 4: \nFree eye checkup for public in collaboration with lotus eye care hospital. Nearly 150 public people got benefited. \n                                                                     \n  \n  \n  \n  \n  \n  \n \nDay 5: \n“Awareness about natural foods” conducted by NSS volunteers to govt school students.Nearly 250 school children gets benefited. \n                                                                                                          \n  \nDay 6:\nA awareness on natural and healthy foods drama shown to Anganwadi school children by NSS volunteers. \n                                 \n  \n \n  \nDay 7: \nTree plantation was made in Day 7. Nss valedictory function presided by our chairman Sir with Mr.sethumadhavan\,counselor\, palankarai was the chief guest.
URL:https://avpcas.edu.in/event/national-service-scheme-nss-organizes-a-special-camp-from-23-02-2023-to-01-03-2023/
LOCATION:periyayipalayam village
CATEGORIES:Announcements,Department Events,NSS
END:VEVENT
BEGIN:VEVENT
DTSTART;TZID=Asia/Kolkata:20230215T100000
DTEND;TZID=Asia/Kolkata:20230215T123000
DTSTAMP:20260420T084759
CREATED:20230214T092816Z
LAST-MODIFIED:20230218T081456Z
UID:10357-1676455200-1676464200@avpcas.edu.in
SUMMARY:NSS and Health Care Club Jointly  Organizes "Seminar on Blood Donation Awareness" on 15.02.2023
DESCRIPTION:NSS AND HEALTH CARE CLUB organised a seminar on blood donation awareness on 15/02/2023 at school Auditorium.300 students from III year got benefited..
URL:https://avpcas.edu.in/event/nss-and-health-care-club-jointly-organizes-seminar-on-blood-donation-awareness-on-15-02-2023/
LOCATION:School Auditorium\, Poondi
CATEGORIES:Announcements,NSS
END:VEVENT
BEGIN:VEVENT
DTSTART;TZID=Asia/Kolkata:20230213T100000
DTEND;TZID=Asia/Kolkata:20230213T123000
DTSTAMP:20260420T084759
CREATED:20230213T094648Z
LAST-MODIFIED:20230213T095256Z
UID:10323-1676282400-1676291400@avpcas.edu.in
SUMMARY:NSS Organizes "Plastic Free AVP Campus" on 13.02.2023
DESCRIPTION:  \nNATIONAL SERVICE SCHEME (NSS) organised a “PLASTIC FREE AVP CAMPUS” ON 13/02/2023 by cleaning plastic covers around the campus at 10 am. Participants 65 NSS volunteers from II and III YEAR from all classes. \n \n  \n 
URL:https://avpcas.edu.in/event/nss-organizes-plastic-free-avp-campus-on-13-02-2023/
LOCATION:College Ground\, AVP Campus\, Tirupur
CATEGORIES:Announcements,NSS
END:VEVENT
BEGIN:VEVENT
DTSTART;TZID=Asia/Kolkata:20221126T133000
DTEND;TZID=Asia/Kolkata:20221126T150000
DTSTAMP:20260420T084759
CREATED:20221129T095736Z
LAST-MODIFIED:20221129T095736Z
UID:9952-1669469400-1669474800@avpcas.edu.in
SUMMARY:NSS CONDUCTED DRAWING COMPETITION "COMMUNAL HARMONY CAMPAIGN WEEK" ON 26/11/2022
DESCRIPTION:Nss cell conducted a drawing competition on “COMMUNAL HARMONY CAMPAIGN WEEK ” ON 26/11/2022 at 1.40 pm in seminar hall . The topics are peace\, national integrarion and harmony. Around 98 students of II & III year has participated in this event
URL:https://avpcas.edu.in/event/nss-conducted-drawing-competition-communal-harmony-campaign-week-on-26-11-2022/
LOCATION:Seminar Hall
CATEGORIES:Announcements,NSS
END:VEVENT
BEGIN:VEVENT
DTSTART;TZID=Asia/Kolkata:20221125T133000
DTEND;TZID=Asia/Kolkata:20221125T150000
DTSTAMP:20260420T084759
CREATED:20221129T100353Z
LAST-MODIFIED:20221129T100353Z
UID:9959-1669383000-1669388400@avpcas.edu.in
SUMMARY:Women Empowerment Cell and Sexual Harrasment Cell Jointly Organized SAVE NGO
DESCRIPTION:Women Empowerment cell and sexual harrasment cell of A.V.P college of Arts & Science jointly with Save NGO organised a International day for the elimination of Violence against women. The Awareness rally programme from A.V.P CAS to Aathupalayam on 25.11.2022 at 1:30 pm. With 50 NSS students.There public awareness was created by our students.
URL:https://avpcas.edu.in/event/women-empowerment-cell-and-sexual-harrasment-cell-jointly-organized-save-ngo/
LOCATION:College Ground\, AVP Campus\, Tirupur
CATEGORIES:Announcements,NSS
END:VEVENT
BEGIN:VEVENT
DTSTART;TZID=Asia/Kolkata:20221121T133000
DTEND;TZID=Asia/Kolkata:20221121T143000
DTSTAMP:20260420T084759
CREATED:20221126T084018Z
LAST-MODIFIED:20221126T084019Z
UID:9942-1669037400-1669041000@avpcas.edu.in
SUMMARY:NSS Organizing a Rally on "COMMUNAL HARMONY CAMPAIGN WEEK" ON 21/11/2022
DESCRIPTION:
URL:https://avpcas.edu.in/event/nss-organizing-a-rally-on-communal-harmony-campaign-week-on-21-11-2022/
LOCATION:From College Campus to T.M.Poondi
CATEGORIES:Announcements,NSS
END:VEVENT
END:VCALENDAR