BEGIN:VCALENDAR
VERSION:2.0
PRODID:-//A.V.P. College of Arts and Science - ECPv6.1.2.2//NONSGML v1.0//EN
CALSCALE:GREGORIAN
METHOD:PUBLISH
X-WR-CALNAME:A.V.P. College of Arts and Science
X-ORIGINAL-URL:https://avpcas.edu.in
X-WR-CALDESC:Events for A.V.P. College of Arts and Science
REFRESH-INTERVAL;VALUE=DURATION:PT1H
X-Robots-Tag:noindex
X-PUBLISHED-TTL:PT1H
BEGIN:VTIMEZONE
TZID:Asia/Kolkata
BEGIN:STANDARD
TZOFFSETFROM:+0530
TZOFFSETTO:+0530
TZNAME:IST
DTSTART:20240101T000000
END:STANDARD
END:VTIMEZONE
BEGIN:VEVENT
DTSTART;TZID=Asia/Kolkata:20240814T120000
DTEND;TZID=Asia/Kolkata:20240814T130000
DTSTAMP:20260423T110347
CREATED:20240816T092602Z
LAST-MODIFIED:20240816T092604Z
UID:15017-1723636800-1723640400@avpcas.edu.in
SUMMARY:TALANTON CLUB organized  the poster making competition on the topic “Future India” on 14.08.2024.
DESCRIPTION:TALANTON CLUB organized the poster making competition on the topic “Future India” on 14.08.2024 for all UG students. Totally students participated and got benefitted. \n 
URL:https://avpcas.edu.in/event/talanton-club-organized-the-poster-making-competition-on-the-topic-future-india-on-14-08-2024/
LOCATION:Multipurpose Hall
CATEGORIES:Announcements,Department Events,TALANTON CLUB
END:VEVENT
END:VCALENDAR