BEGIN:VCALENDAR
VERSION:2.0
PRODID:-//A.V.P. College of Arts and Science - ECPv6.1.2.2//NONSGML v1.0//EN
CALSCALE:GREGORIAN
METHOD:PUBLISH
X-ORIGINAL-URL:https://avpcas.edu.in
X-WR-CALDESC:Events for A.V.P. College of Arts and Science
REFRESH-INTERVAL;VALUE=DURATION:PT1H
X-Robots-Tag:noindex
X-PUBLISHED-TTL:PT1H
BEGIN:VTIMEZONE
TZID:Asia/Kolkata
BEGIN:STANDARD
TZOFFSETFROM:+0530
TZOFFSETTO:+0530
TZNAME:IST
DTSTART:20250101T000000
END:STANDARD
END:VTIMEZONE
BEGIN:VEVENT
DTSTART;TZID=Asia/Kolkata:20250221T103000
DTEND;TZID=Asia/Kolkata:20250221T123000
DTSTAMP:20260423T030205
CREATED:20250224T095054Z
LAST-MODIFIED:20250224T095055Z
UID:16387-1740133800-1740141000@avpcas.edu.in
SUMMARY:Talanton club has planned to conduct a demo day on Innovative ideas presentation on 21.02.2025.
DESCRIPTION:Talanton club of AVP college of arts and science organized a Demo day on Innovative ideas presentation on 21.02.2025 in the multipurpose hall. Students from various streams have participated actively . \n    \n  \n 
URL:https://avpcas.edu.in/event/talanton-club-has-planned-to-conduct-a-demo-day-on-innovative-ideas-presentation-on-21-02-2025/
LOCATION:Multipurpose Hall
CATEGORIES:Announcements,Department Events,TALANTON CLUB
END:VEVENT
END:VCALENDAR