BEGIN:VCALENDAR
VERSION:2.0
PRODID:-//A.V.P. College of Arts and Science - ECPv6.1.2.2//NONSGML v1.0//EN
CALSCALE:GREGORIAN
METHOD:PUBLISH
X-WR-CALNAME:A.V.P. College of Arts and Science
X-ORIGINAL-URL:https://avpcas.edu.in
X-WR-CALDESC:Events for A.V.P. College of Arts and Science
REFRESH-INTERVAL;VALUE=DURATION:PT1H
X-Robots-Tag:noindex
X-PUBLISHED-TTL:PT1H
BEGIN:VTIMEZONE
TZID:Asia/Kolkata
BEGIN:STANDARD
TZOFFSETFROM:+0530
TZOFFSETTO:+0530
TZNAME:IST
DTSTART:20230101T000000
END:STANDARD
END:VTIMEZONE
BEGIN:VEVENT
DTSTART;TZID=Asia/Kolkata:20250912T100000
DTEND;TZID=Asia/Kolkata:20250912T123000
DTSTAMP:20260421T181525
CREATED:20250912T152256Z
LAST-MODIFIED:20250915T153246Z
UID:18111-1757671200-1757680200@avpcas.edu.in
SUMMARY:School of Management and Training & Placement Cell jointly organized Career Guidance Program on Enhancing Employability and Industry Readiness on 12.09.25.
DESCRIPTION:School of Management and Training and Placement cell jointly organized a career guidance program on Enhancing Employability and Industry Readiness on 12.09.25. \n         \n          
URL:https://avpcas.edu.in/event/school-of-management-and-training-placement-cell-jointly-organized-career-guidance-program-on-enhancing-employability-and-industry-readiness-on-12-09-25/
LOCATION:Seminar Hall
CATEGORIES:Announcements,Department Events,Department of Business Administration,Training and Placement Cell
END:VEVENT
BEGIN:VEVENT
DTSTART;TZID=Asia/Kolkata:20250911T100000
DTEND;TZID=Asia/Kolkata:20250911T150000
DTSTAMP:20260421T181525
CREATED:20250912T152653Z
LAST-MODIFIED:20250912T152653Z
UID:18114-1757584800-1757602800@avpcas.edu.in
SUMMARY:Training and Placement Cell organized Placement Drive on 11.09.25.
DESCRIPTION: 
URL:https://avpcas.edu.in/event/training-and-placement-cell-organized-placement-drive-on-11-09-25/
LOCATION:Seminar Hall
CATEGORIES:Announcements,Department Events,Training and Placement Cell
END:VEVENT
BEGIN:VEVENT
DTSTART;VALUE=DATE:20250526
DTEND;VALUE=DATE:20250527
DTSTAMP:20260421T181525
CREATED:20250526T145022Z
LAST-MODIFIED:20250526T145023Z
UID:16821-1748217600-1748303999@avpcas.edu.in
SUMMARY:School of Computer studies and Training & placement cell  Congratulates for getting placed as "GRADUATE TRAINEE" at TCS.
DESCRIPTION: 
URL:https://avpcas.edu.in/event/school-of-computer-studies-and-training-placement-cell-congratulates-for-getting-placed-as-graduate-trainee-at-tcs/
LOCATION:off line
CATEGORIES:Announcements,Department Events,Department of Computer Science,Training and Placement Cell
END:VEVENT
BEGIN:VEVENT
DTSTART;TZID=Asia/Kolkata:20250310T100000
DTEND;TZID=Asia/Kolkata:20250310T123000
DTSTAMP:20260421T181525
CREATED:20250309T160524Z
LAST-MODIFIED:20250327T054241Z
UID:16447-1741600800-1741609800@avpcas.edu.in
SUMMARY:Training and Placement cell organizes the placement drive on 10.03.2025.
DESCRIPTION:Training and Placement cell organized the placement drive on 10.03.2025. Following department students has placed sucessfully. \n              \n               \n 
URL:https://avpcas.edu.in/event/training-and-placement-cell-organizes-the-placement-drive-on-10-03-2025/
LOCATION:Seminar Hall
CATEGORIES:Announcements,Department Events,Training and Placement Cell
END:VEVENT
BEGIN:VEVENT
DTSTART;TZID=Asia/Kolkata:20250228T100000
DTEND;TZID=Asia/Kolkata:20250228T150000
DTSTAMP:20260421T181525
CREATED:20250327T053151Z
LAST-MODIFIED:20250327T053152Z
UID:16583-1740736800-1740754800@avpcas.edu.in
SUMMARY:Batch 2022-2025 students has placed in TATA CONSULTANCY SERVICES on 28.2.2025.
DESCRIPTION: 
URL:https://avpcas.edu.in/event/batch-2022-2025-students-has-placed-in-tata-consultancy-services-on-28-2-2025/
LOCATION:ONLINE MODE
CATEGORIES:Announcements,College Management,Training and Placement Cell
END:VEVENT
BEGIN:VEVENT
DTSTART;TZID=Asia/Kolkata:20250125T100000
DTEND;TZID=Asia/Kolkata:20250125T150000
DTSTAMP:20260421T181525
CREATED:20250124T160347Z
LAST-MODIFIED:20250124T160348Z
UID:16161-1737799200-1737817200@avpcas.edu.in
SUMMARY:Training and Placement Cell Organizes Placement Drive on 25.01.2025.
DESCRIPTION: 
URL:https://avpcas.edu.in/event/training-and-placement-cell-organizes-placement-drive-on-25-01-2025/
LOCATION:Placement Cell
CATEGORIES:Announcements,Department Events,Training and Placement Cell
END:VEVENT
BEGIN:VEVENT
DTSTART;TZID=Asia/Kolkata:20250104T100000
DTEND;TZID=Asia/Kolkata:20250104T150000
DTSTAMP:20260421T181525
CREATED:20250105T064204Z
LAST-MODIFIED:20250105T064205Z
UID:16053-1735984800-1736002800@avpcas.edu.in
SUMMARY:Training and Placement cell organized the placement drive from Marinair cargo on 04.01.2025.
DESCRIPTION:Training and Placement cell organized the placement drive on 04.01.2025 from Marinair cargo for all the department final year students. Totally 214 students were participated. Among that 96 students placed and got their offer letter. \n            \n     
URL:https://avpcas.edu.in/event/training-and-placement-cell-organized-the-placement-drive-from-marinair-cargo-on-04-01-2025/
LOCATION:Multipurpose Hall
CATEGORIES:Announcements,College Management,Training and Placement Cell
END:VEVENT
BEGIN:VEVENT
DTSTART;TZID=Asia/Kolkata:20241228T100000
DTEND;TZID=Asia/Kolkata:20241228T130000
DTSTAMP:20260421T181525
CREATED:20250105T143654Z
LAST-MODIFIED:20250105T143655Z
UID:16063-1735380000-1735390800@avpcas.edu.in
SUMMARY:Training and Placement cell organized the placement drive on 28.12.2024.
DESCRIPTION:  \n \nTraining and Placement cell conducted the placement drive for the Computer Studies students on 28th  Dec 2024 for the company Sutherland . The offline interview was conducted and totally 92 students were participated. Among that 64 students placed and got their offer letter. The time for the interview session was from 10.00 am to 3.00 pm. \n   \nStudents from Computer Studies participated in this interview session and we are happy to announce that many of our students got selected in this interview session. We heartily congratulate these students and wish them all the good luck for their bright and prosperous future ahead. \n \n  \n 
URL:https://avpcas.edu.in/event/training-and-placement-cell-organized-the-placement-drive-on-28-12-2024/
LOCATION:Seminar Hall
CATEGORIES:Announcements,College Management,Department Events,Training and Placement Cell
END:VEVENT
BEGIN:VEVENT
DTSTART;TZID=Asia/Kolkata:20241227T103000
DTEND;TZID=Asia/Kolkata:20241227T150000
DTSTAMP:20260421T181525
CREATED:20250101T042615Z
LAST-MODIFIED:20250101T042616Z
UID:15987-1735295400-1735311600@avpcas.edu.in
SUMMARY:Training and Placement cell organized the placement drive on 27.12.2024 from Muthoot Finance.
DESCRIPTION:  \n  \n \nTraining and Placement cell organized the placement drive on 27.12.2024 from Muthoot Finance for Commerce\, Commerce Ca and BBA students. Totally 160 students were participated. Among that 62 students placed and got their offer letter. \n      \n     
URL:https://avpcas.edu.in/event/training-and-placement-cell-organized-the-placement-drive-on-27-12-2024-from-muthoot-finance/
LOCATION:Seminar Hall
CATEGORIES:Announcements,College Management,Training and Placement Cell
END:VEVENT
BEGIN:VEVENT
DTSTART;TZID=Asia/Kolkata:20241004T100000
DTEND;TZID=Asia/Kolkata:20241004T150000
DTSTAMP:20260421T181525
CREATED:20241209T062326Z
LAST-MODIFIED:20241209T062327Z
UID:15815-1728036000-1728054000@avpcas.edu.in
SUMMARY:Training and Placement cell organized the placement drive on 04.10.2024.
DESCRIPTION:Training and Placement cell organized the placement drive on 04.10.2024 from GKM . Totally 88 students were participated.
URL:https://avpcas.edu.in/event/training-and-placement-cell-organized-the-placement-drive-on-04-10-2024/
LOCATION:Seminar Hall
CATEGORIES:Announcements,College Management,Training and Placement Cell
END:VEVENT
BEGIN:VEVENT
DTSTART;TZID=Asia/Kolkata:20240919T100000
DTEND;TZID=Asia/Kolkata:20240919T150000
DTSTAMP:20260421T181525
CREATED:20241209T061649Z
LAST-MODIFIED:20241209T061650Z
UID:15808-1726740000-1726758000@avpcas.edu.in
SUMMARY:Training and Placement cell organized the placement drive on 19.09.2024.
DESCRIPTION:Training and Placement cell organized the placement drive on 19.09.2024 from HRH next services . Totally 247 students were participated. Among that 43 students placed and got their offer letter. \n          \n   
URL:https://avpcas.edu.in/event/training-and-placement-cell-organized-the-placement-drive-on-19-09-2024/
LOCATION:Seminar Hall
CATEGORIES:Announcements,College Management,Training and Placement Cell
END:VEVENT
BEGIN:VEVENT
DTSTART;TZID=Asia/Kolkata:20240906T100000
DTEND;TZID=Asia/Kolkata:20240906T150000
DTSTAMP:20260421T181525
CREATED:20241209T061054Z
LAST-MODIFIED:20241209T061055Z
UID:15801-1725616800-1725634800@avpcas.edu.in
SUMMARY:Training and Placement cell organized the placement drive on 06.09.2024.
DESCRIPTION:Training and Placement cell organized the placement drive on 06.09.2024 from Omega Health Care . Totally 268 students were participated. Among that 14 students placed and got their offer letter. \n     \n   
URL:https://avpcas.edu.in/event/training-and-placement-cell-organized-the-placement-drive-on-06-09-2024/
LOCATION:Seminar Hall
CATEGORIES:Announcements,College Management,Training and Placement Cell
END:VEVENT
BEGIN:VEVENT
DTSTART;TZID=Asia/Kolkata:20240822T100000
DTEND;TZID=Asia/Kolkata:20240822T150000
DTSTAMP:20260421T181525
CREATED:20241209T055111Z
LAST-MODIFIED:20241209T055112Z
UID:15794-1724320800-1724338800@avpcas.edu.in
SUMMARY:Training and Placement cell organized the placement drive on 22.08.2024.
DESCRIPTION:Training and Placement cell organized the placement drive on 22.08.2024 from Kgisl invicta services . Totally 237 students were participated. Among that 18 students placed and got their offer letter.
URL:https://avpcas.edu.in/event/training-and-placement-cell-organized-the-placement-drive-on-22-08-2024/
LOCATION:Seminar Hall
CATEGORIES:Announcements,College Management,Training and Placement Cell
END:VEVENT
BEGIN:VEVENT
DTSTART;TZID=Asia/Kolkata:20240213T100000
DTEND;TZID=Asia/Kolkata:20240213T150000
DTSTAMP:20260421T181525
CREATED:20240214T183647Z
LAST-MODIFIED:20240214T183648Z
UID:13539-1707818400-1707836400@avpcas.edu.in
SUMMARY:Placement and Training cell organized on campus drive on 13.02.2024.
DESCRIPTION:Placement and Training cell organized on campus drive for the U.G. final year students on 13.2.2024 in seminar hall at 10.am. Totally 63 students were selected.
URL:https://avpcas.edu.in/event/placement-and-training-cell-organized-on-campus-drive-on-13-02-2024/
LOCATION:Seminar Hall
CATEGORIES:Announcements,Department Events,Training and Placement Cell
END:VEVENT
BEGIN:VEVENT
DTSTART;TZID=Asia/Kolkata:20240212T100000
DTEND;TZID=Asia/Kolkata:20240212T130000
DTSTAMP:20260421T181525
CREATED:20240212T064448Z
LAST-MODIFIED:20240214T181609Z
UID:13521-1707732000-1707742800@avpcas.edu.in
SUMMARY:Training and placement cell organized placement drive on "SKYRAAN TECHNOLOGIES PVT LTD" on 12.02.2024 .
DESCRIPTION:Training and placement cell organized placement drive on SKYRAAN TECHNOLOGIES PVT LTD on 12.02.2024  at 10.00am in Seminar Hall. \n  \nPlacement and Training cell organized campus drive for final year  students .totally 179 students were attended.
URL:https://avpcas.edu.in/event/training-and-placement-cell-organized-placement-drive-on-skyraan-technologies-pvt-ltd-on-12-02-2024/
LOCATION:Seminar Hall
CATEGORIES:Announcements,Department Events,Training and Placement Cell
END:VEVENT
BEGIN:VEVENT
DTSTART;TZID=Asia/Kolkata:20240209T103000
DTEND;TZID=Asia/Kolkata:20240209T160000
DTSTAMP:20260421T181525
CREATED:20240212T063845Z
LAST-MODIFIED:20240304T180340Z
UID:13517-1707474600-1707494400@avpcas.edu.in
SUMMARY:Training and placement cell organized placement drive on Omega health care on 9.02.2024.
DESCRIPTION:Training and placement cell organized a off campus interview (Omega health care) for our final year students in Tidel park coimbatore on 09.02.2024 at 10.30am. \n \nOmega held its Placement drive at Tidel Park in which 4 students of Computer Science\nsecured a final placement.
URL:https://avpcas.edu.in/event/training-and-placement-cell-organized-placement-drive-on-omega-health-care-on-9-02-2024/
LOCATION:Tidel park \,coimbatore.
CATEGORIES:Announcements,Department Events,Training and Placement Cell
END:VEVENT
BEGIN:VEVENT
DTSTART;TZID=Asia/Kolkata:20240201T100000
DTEND;TZID=Asia/Kolkata:20240201T150000
DTSTAMP:20260421T181525
CREATED:20240201T174710Z
LAST-MODIFIED:20240201T174802Z
UID:13472-1706781600-1706799600@avpcas.edu.in
SUMMARY:Department of Placement and training cell  organized placement drive on 01.02.2024.
DESCRIPTION:Department of Placement and training cell  organized placement drive -Hicitizen life skills for all the final year U.G. and P.G students on 01.02.2024 at 10.00 am in seminar hall. \n  \n     \n 
URL:https://avpcas.edu.in/event/department-of-placement-and-training-cell-organized-placement-drive-on-01-02-2024/
LOCATION:Seminar Hall
CATEGORIES:Announcements,Department Events,Training and Placement Cell
END:VEVENT
BEGIN:VEVENT
DTSTART;TZID=Asia/Kolkata:20240122T100000
DTEND;TZID=Asia/Kolkata:20240122T150000
DTSTAMP:20260421T181525
CREATED:20240124T053636Z
LAST-MODIFIED:20240124T053637Z
UID:13302-1705917600-1705935600@avpcas.edu.in
SUMMARY:Training and Placement Cell Organized Placement Drive on 22.01.2024 at 10.00 am in Seminar Hall
DESCRIPTION:Department of Training and Placement Cell makes an placement drive for all the department of U.G students nearly 200 students were attended the drive.
URL:https://avpcas.edu.in/event/training-and-placement-cell-organized-placement-drive-on-22-01-2024-at-10-00-am-in-seminar-hall/
LOCATION:Seminar Hall
CATEGORIES:Announcements,Department Events,Training and Placement Cell
END:VEVENT
BEGIN:VEVENT
DTSTART;TZID=Asia/Kolkata:20240109T100000
DTEND;TZID=Asia/Kolkata:20240109T150000
DTSTAMP:20260421T181525
CREATED:20240111T135141Z
LAST-MODIFIED:20240111T135142Z
UID:13095-1704794400-1704812400@avpcas.edu.in
SUMMARY:Campus placement drive was  organized  by Training and placement cell for the final year U.G. students on 09.01.2024.
DESCRIPTION:  \n \nCampus placement drive was  organized  by Training and placement cell for the final year U.G. students on 09.01.2024. \n      \n         \nOn 10th January\, A Training and placement cell has conducted online final round interview process in our campus at computer lab 1.
URL:https://avpcas.edu.in/event/campus-placement-drive-was-organized-by-training-and-placement-cell-for-the-final-year-u-g-students-on-09-01-2024/
LOCATION:Seminar Hall
CATEGORIES:Announcements,Department Events,Training and Placement Cell
END:VEVENT
BEGIN:VEVENT
DTSTART;TZID=Asia/Kolkata:20240105T100000
DTEND;TZID=Asia/Kolkata:20240105T150000
DTSTAMP:20260421T181525
CREATED:20240106T071803Z
LAST-MODIFIED:20240106T071806Z
UID:12996-1704448800-1704466800@avpcas.edu.in
SUMMARY:Training and Placement Cell Organized Placement Drive on 05.01.2024 .
DESCRIPTION:Training and Placement Cell Organized On campus drive from Marino cargo pvt ltd on 05.01.2024 at 10.00 am in Seminar Hall.
URL:https://avpcas.edu.in/event/training-and-placement-cell-organized-placement-drive-on-05-01-2024/
LOCATION:Seminar Hall
CATEGORIES:Announcements,Department Events,Training and Placement Cell
END:VEVENT
BEGIN:VEVENT
DTSTART;TZID=Asia/Kolkata:20231010T100000
DTEND;TZID=Asia/Kolkata:20231010T150000
DTSTAMP:20260421T181525
CREATED:20231010T052635Z
LAST-MODIFIED:20231010T053140Z
UID:12300-1696932000-1696950000@avpcas.edu.in
SUMMARY:Training and Placement cell conducted an on-campus placement drive by KGISL on 06.10.2023
DESCRIPTION:Training and Placement cell conducted an on-campus placement drive by KGISL on 06.10.2023 in the  Seminar hall at AVP CAS. 244 Students participated and 15 students received their offers.
URL:https://avpcas.edu.in/event/training-and-placement-cell-conducted-an-on-campus-placement-drive-by-kgisl-on-06-10-2023/
LOCATION:Seminar Hall
CATEGORIES:Announcements,Department Events,Training and Placement Cell
END:VEVENT
BEGIN:VEVENT
DTSTART;TZID=Asia/Kolkata:20230915T130000
DTEND;TZID=Asia/Kolkata:20230915T150000
DTSTAMP:20260421T181525
CREATED:20230915T091637Z
LAST-MODIFIED:20230919T071327Z
UID:11699-1694782800-1694790000@avpcas.edu.in
SUMMARY:Training & Placement Cell organizes Orientation Programme  on "IT Skills and the Job Opportunities for a Software Developer " On 15.09.2023 at 1.00 pm in AVPCAS Seminar Hall.
DESCRIPTION:Training & Placement Cell organized an Orientation Programme entitled “IT Skills and the Job Opportunities for a Software Developer” on 15.09.2023 at 1.00 pm in AVPCAS Seminar Hall. Mr. D. Ramakrishnan B.A.\, MBA\, PGDMM\, PGDCA\, CEO of Browse4 Jobs. Com\, Coindsyz Software Solutions\, StateStreetIT was the chiefguest. Around 300 students got benefitted. \n           \n          
URL:https://avpcas.edu.in/event/training-placement-cell-organizes-orientation-programme-on-it-skills-and-the-job-opportunities-for-a-software-developer-on-15-09-2023-at-1-00-pm-in-avpcas-seminar-hall/
LOCATION:Seminar Hall
CATEGORIES:Announcements,Department Events,Training and Placement Cell
END:VEVENT
BEGIN:VEVENT
DTSTART;TZID=Asia/Kolkata:20230914T130000
DTEND;TZID=Asia/Kolkata:20230914T150000
DTSTAMP:20260421T181525
CREATED:20230914T051247Z
LAST-MODIFIED:20230916T075932Z
UID:11678-1694696400-1694703600@avpcas.edu.in
SUMMARY:Training & Placement Cell organizes Orientation Programme  on "How to crack Government Competitive Exam in First Attempt? " On 14.09.2023 at 1.00 pm in AVPCAS Seminar Hall.
DESCRIPTION:Training & Placement Cell organized Orientation Programme on “How to crack Government Competitive Exam in First Attempt? ” On 14.09.2023 at 1.00 pm in AVPCAS Seminar Hall.Mr. S. Boominathan Competitive Exam Trainer & Motivational Speaker\, Master IAS academy and Mr. T. Senthil KumarCompetitive Exam Trainer & Motivational Speaker\, Master IAS academy. Nearly 220 students got benefitted. \n              \n                   
URL:https://avpcas.edu.in/event/training-placement-cell-organizes-orientation-programme-on-how-to-crack-government-competitive-exam-in-first-attempt-on-14-09-2023-at-1-00-pm-in-avpcas-seminar-hall/
LOCATION:Seminar Hall
CATEGORIES:Announcements,Department Events,Training and Placement Cell
END:VEVENT
END:VCALENDAR