BEGIN:VCALENDAR
VERSION:2.0
PRODID:-//A.V.P. College of Arts and Science - ECPv6.1.2.2//NONSGML v1.0//EN
CALSCALE:GREGORIAN
METHOD:PUBLISH
X-WR-CALNAME:A.V.P. College of Arts and Science
X-ORIGINAL-URL:https://avpcas.edu.in
X-WR-CALDESC:Events for A.V.P. College of Arts and Science
REFRESH-INTERVAL;VALUE=DURATION:PT1H
X-Robots-Tag:noindex
X-PUBLISHED-TTL:PT1H
BEGIN:VTIMEZONE
TZID:Asia/Kolkata
BEGIN:STANDARD
TZOFFSETFROM:+0530
TZOFFSETTO:+0530
TZNAME:IST
DTSTART:20260101T000000
END:STANDARD
END:VTIMEZONE
BEGIN:VEVENT
DTSTART;TZID=Asia/Kolkata:20260205T103000
DTEND;TZID=Asia/Kolkata:20260205T123000
DTSTAMP:20260420T100440
CREATED:20260207T054445Z
LAST-MODIFIED:20260207T054445Z
UID:18731-1770287400-1770294600@avpcas.edu.in
SUMMARY:NSS Cell and UBA\, in association with Sakshi NGO\, invites you to an Awareness Program on "Insights into the POCSO Act: A Step Towards Child Safety"on 5th February 2026
DESCRIPTION:NSS Cell and UBA\, in association with Sakshi NGO\, invites you to an Awareness Program on “Insights into the POCSO Act: A Step Towards Child Safety”on 5th February 2026 at 10:30 AM at the zoom meeting.
URL:https://avpcas.edu.in/event/nss-cell-and-uba-in-association-with-sakshi-ngo-invites-you-to-an-awareness-program-on-insights-into-the-pocso-act-a-step-towards-child-safetyon-5th-february-2026/
LOCATION:ONLINE MODE
CATEGORIES:Announcements,NSS,UBA
END:VEVENT
END:VCALENDAR