BEGIN:VCALENDAR
VERSION:2.0
PRODID:-//A.V.P. College of Arts and Science - ECPv6.1.2.2//NONSGML v1.0//EN
CALSCALE:GREGORIAN
METHOD:PUBLISH
X-ORIGINAL-URL:https://avpcas.edu.in
X-WR-CALDESC:Events for A.V.P. College of Arts and Science
REFRESH-INTERVAL;VALUE=DURATION:PT1H
X-Robots-Tag:noindex
X-PUBLISHED-TTL:PT1H
BEGIN:VTIMEZONE
TZID:Asia/Kolkata
BEGIN:STANDARD
TZOFFSETFROM:+0530
TZOFFSETTO:+0530
TZNAME:IST
DTSTART:20250101T000000
END:STANDARD
END:VTIMEZONE
BEGIN:VEVENT
DTSTART;TZID=Asia/Kolkata:20250923T080000
DTEND;TZID=Asia/Kolkata:20250923T170000
DTSTAMP:20260422T174007
CREATED:20250928T131537Z
LAST-MODIFIED:20250928T131538Z
UID:18233-1758614400-1758646800@avpcas.edu.in
SUMMARY:NSS& UBA cell of AVP CAS has organized an extension activities on "From rural roots to urban heights: schemes for every Indian" on 23.09.25.
DESCRIPTION:NSS& UBA cell of AVP CAS has organized an extension activities on “From rural roots to urban heights: schemes for every Indian” on 23.09.25 by 08.00 Am – 5.00p.m. in senguthar mahall New bus stand\, Tiruppur.
URL:https://avpcas.edu.in/event/nss-uba-cell-of-avp-cas-has-organized-an-extension-activities-on-from-rural-roots-to-urban-heights-schemes-for-every-indian-on-23-09-25/
LOCATION:senguthar mahall New bus stand\, Tiruppur
CATEGORIES:Announcements,College Management,NSS,UBA
END:VEVENT
END:VCALENDAR