BEGIN:VCALENDAR
VERSION:2.0
PRODID:-//A.V.P. College of Arts and Science - ECPv6.1.2.2//NONSGML v1.0//EN
CALSCALE:GREGORIAN
METHOD:PUBLISH
X-ORIGINAL-URL:https://avpcas.edu.in
X-WR-CALDESC:Events for A.V.P. College of Arts and Science
REFRESH-INTERVAL;VALUE=DURATION:PT1H
X-Robots-Tag:noindex
X-PUBLISHED-TTL:PT1H
BEGIN:VTIMEZONE
TZID:Asia/Kolkata
BEGIN:STANDARD
TZOFFSETFROM:+0530
TZOFFSETTO:+0530
TZNAME:IST
DTSTART:20250101T000000
END:STANDARD
END:VTIMEZONE
BEGIN:VEVENT
DTSTART;TZID=Asia/Kolkata:20250927T103000
DTEND;TZID=Asia/Kolkata:20250927T123000
DTSTAMP:20260422T174006
CREATED:20250927T165905Z
LAST-MODIFIED:20250927T165906Z
UID:18205-1758969000-1758976200@avpcas.edu.in
SUMMARY:NSS & UBA in association with Tirupur Corporation  organized  "Swatchaa Hi Seva Campaign 2025"- Drawing competition on 27.09.25.
DESCRIPTION: 
URL:https://avpcas.edu.in/event/nss-uba-in-association-with-tirupur-corporation-organized-swatchaa-hi-seva-campaign-2025-drawing-competition-on-27-09-25/
LOCATION:Seminar Hall
CATEGORIES:Announcements,Department Events,NSS,UBA
END:VEVENT
END:VCALENDAR