BEGIN:VCALENDAR
VERSION:2.0
PRODID:-//A.V.P. College of Arts and Science - ECPv6.1.2.2//NONSGML v1.0//EN
CALSCALE:GREGORIAN
METHOD:PUBLISH
X-WR-CALNAME:A.V.P. College of Arts and Science
X-ORIGINAL-URL:https://avpcas.edu.in
X-WR-CALDESC:Events for A.V.P. College of Arts and Science
REFRESH-INTERVAL;VALUE=DURATION:PT1H
X-Robots-Tag:noindex
X-PUBLISHED-TTL:PT1H
BEGIN:VTIMEZONE
TZID:Asia/Kolkata
BEGIN:STANDARD
TZOFFSETFROM:+0530
TZOFFSETTO:+0530
TZNAME:IST
DTSTART:20240101T000000
END:STANDARD
END:VTIMEZONE
BEGIN:VEVENT
DTSTART;TZID=Asia/Kolkata:20250801T080000
DTEND;TZID=Asia/Kolkata:20250801T170000
DTSTAMP:20260420T084644
CREATED:20250801T145408Z
LAST-MODIFIED:20250805T104131Z
UID:17711-1754035200-1754067600@avpcas.edu.in
SUMMARY:Nss & UBA cell has organized an extension activity on " Unlocking opportunities: Government support as a catalyst for community Empowerment" on 01/08/25.
DESCRIPTION:Nss & UBA cell has jointly organized an extension activity on ” Unlocking opportunities: Government support as a catalyst for community Empowerment” on 01/08/25 at 8.00 Am – 5.00 Pm in 15 Velampalayam Tirupur along with 50 UBA and Nss volunteers. \n          \n \n 
URL:https://avpcas.edu.in/event/nss-uba-cell-has-organized-an-extension-activity-on-unlocking-opportunities-government-support-as-a-catalyst-for-community-empowerment-on-01-08-25/
LOCATION:15\, velampalayam
CATEGORIES:Announcements,College Management,NSS,UBA
END:VEVENT
BEGIN:VEVENT
DTSTART;TZID=Asia/Kolkata:20250724T080000
DTEND;TZID=Asia/Kolkata:20250724T170000
DTSTAMP:20260420T084644
CREATED:20250724T135203Z
LAST-MODIFIED:20250724T135205Z
UID:17501-1753344000-1753376400@avpcas.edu.in
SUMMARY:Nss & UBA cell has planned to organize an extension activity on "NSS Volunteers' Initiative: Bridging the Gap between Government Schemes and the Public" (low cost / no cost Voluntary Activity)on 24/07/25.
DESCRIPTION:Nss & UBA cell has planned to organize an extension activity on “NSS Volunteers’ Initiative: Bridging the Gap between Government Schemes and the Public” (low cost / no cost Voluntary Activity)on 24/07/25 at 8.00 Am in Kanakkampalayam Tirupur along with 50 UBA and Nss volunteers.
URL:https://avpcas.edu.in/event/nss-uba-cell-has-planned-to-organize-an-extension-activity-on-nss-volunteers-initiative-bridging-the-gap-between-government-schemes-and-the-public-low-cost-no-cost-voluntary-activityon-24/
LOCATION:Kanakkampalayam
CATEGORIES:Announcements,College Management,NSS,UBA
END:VEVENT
BEGIN:VEVENT
DTSTART;TZID=Asia/Kolkata:20250718T080000
DTEND;TZID=Asia/Kolkata:20250718T170000
DTSTAMP:20260420T084644
CREATED:20250718T145750Z
LAST-MODIFIED:20250718T145752Z
UID:17461-1752825600-1752858000@avpcas.edu.in
SUMMARY:The NSS & UBA cell conducted an extension activity on government schemes\, 'Unlocking Opportunities: Government Schemes for the Public'\, on July 18\, 2025.
DESCRIPTION:NSS & UBA cell has planned to organize an extension activity on ” unlocking opportunities: Government schemes for the public” on 18/07/25 at 8.00 Am in Kongu main road Tirupur. \n     \nThe NSS and UBA Cell organized an extension activity titled ‘Unlocking Opportunities: Government Schemes for the Public\,’ where 30 NSS volunteers assisted around 10\,000 applicants in submitting applications for various government schemes on July 18\, 2025\, at Kongu Main Road\, Tirupur.
URL:https://avpcas.edu.in/event/the-nss-uba-cell-conducted-an-extension-activity-on-government-schemes-unlocking-opportunities-government-schemes-for-the-public-on-july-18-2025/
LOCATION:Kongu Main Road\,Tirupur
CATEGORIES:Announcements,Department Events,NSS,UBA
END:VEVENT
BEGIN:VEVENT
DTSTART;TZID=Asia/Kolkata:20250626T080000
DTEND;TZID=Asia/Kolkata:20250626T170000
DTSTAMP:20260420T084644
CREATED:20250626T103026Z
LAST-MODIFIED:20250626T103028Z
UID:17211-1750924800-1750957200@avpcas.edu.in
SUMMARY:The Anti-Drug Committee\, in collaboration with the National Service Scheme\, organised a drug awareness programme on 26th June 2025
DESCRIPTION:The Anti-Drug Committee\, in collaboration with the National Service Scheme\, organised a drug awareness programme on 26th June 2025 in the Seminar Hall to observe the International Day Against Drug Abuse and Illicit Trafficking. The event aimed to raise awareness about the harmful effects of drug abuse and promote a drug-free lifestyle among students. It featured the screening of short awareness films\, followed by a pledge ceremony. Around 600 students actively participated\, taking an oath to stay drug-free and spread awareness\, reflecting their commitment to social responsibility and healthy living. \n    \n 
URL:https://avpcas.edu.in/event/the-anti-drug-committee-in-collaboration-with-the-national-service-scheme-organised-a-drug-awareness-programme-on-26th-june-2025/
LOCATION:Seminar Hall
CATEGORIES:Announcements,Anti Drug Committee,NSS,UBA
END:VEVENT
BEGIN:VEVENT
DTSTART;TZID=Asia/Kolkata:20250130T100000
DTEND;TZID=Asia/Kolkata:20250130T123000
DTSTAMP:20260420T084644
CREATED:20250129T132201Z
LAST-MODIFIED:20250129T132204Z
UID:16236-1738231200-1738240200@avpcas.edu.in
SUMMARY:Nss and uba has planned to conduct an Awareness program on "Road Safety " on 30.01.2025.
DESCRIPTION:Nss and uba has planned to conduct an Awareness program on “Road Safety ” on 30.01.2025 in Avinashi BUS STAND@10.00 Am.
URL:https://avpcas.edu.in/event/nss-and-uba-has-planned-to-conduct-an-awareness-program-on-road-safety-on-30-01-2025/
LOCATION:Avinashi BUS STAND
CATEGORIES:Announcements,College Management,NSS,UBA
END:VEVENT
BEGIN:VEVENT
DTSTART;TZID=Asia/Kolkata:20250128T103000
DTEND;TZID=Asia/Kolkata:20250128T123000
DTSTAMP:20260420T084644
CREATED:20250127T173907Z
LAST-MODIFIED:20250128T160949Z
UID:16196-1738060200-1738067400@avpcas.edu.in
SUMMARY:NSS and UBA has planned to conduct an orientation program on 'wildlife conservation " on 28.01.25.
DESCRIPTION:NSS and UBA had organised an orientation program on the topic “Wildlife conservation” on 28/01/25 in School Auditorium at 10.00 Am to 12.30 pm. \n       \n        \n 
URL:https://avpcas.edu.in/event/nss-and-uba-has-planned-to-conduct-an-orientation-program-on-wildlife-conservation-on-28-01-25/
LOCATION:Seminar Hall
CATEGORIES:Announcements,Department Events,NSS,UBA
END:VEVENT
BEGIN:VEVENT
DTSTART;TZID=Asia/Kolkata:20240921T100000
DTEND;TZID=Asia/Kolkata:20240921T150000
DTSTAMP:20260420T084644
CREATED:20240927T135730Z
LAST-MODIFIED:20240927T135731Z
UID:15553-1726912800-1726930800@avpcas.edu.in
SUMMARY:NSS Cell and UBA jointly organized a "Community Clean-Up Drives" on 21/09/2024.
DESCRIPTION:NSS cell and UBA jointly organised a “Community Clean-Up Drives” on 21/09/2024 in kannakampalayam @ 10.00am – 3.00 pm
URL:https://avpcas.edu.in/event/nss-cell-and-uba-jointly-organized-a-community-clean-up-drives-on-21-09-2024/
LOCATION:Kanakaampalayam \, Tirupur
CATEGORIES:Announcements,Department Events,NSS,UBA
END:VEVENT
BEGIN:VEVENT
DTSTART;VALUE=DATE:20240917
DTEND;VALUE=DATE:20241003
DTSTAMP:20260420T084644
CREATED:20240927T143421Z
LAST-MODIFIED:20240927T143422Z
UID:15561-1726531200-1727913599@avpcas.edu.in
SUMMARY:NSS and UBA organize my Bharat "SWACHHAT HI SEVA CAMPAIGN 2024" from 17/09/24 to 02/10/2024.
DESCRIPTION:
URL:https://avpcas.edu.in/event/nss-and-uba-organize-my-bharat-swachhat-hi-seva-campaign-2024-from-17-09-24-to-02-10-2024/
LOCATION:AVPCAS
CATEGORIES:Announcements,Department Events,NSS,UBA
END:VEVENT
BEGIN:VEVENT
DTSTART;TZID=Asia/Kolkata:20240906T100000
DTEND;TZID=Asia/Kolkata:20240906T120000
DTSTAMP:20260420T084644
CREATED:20240909T051816Z
LAST-MODIFIED:20240909T051819Z
UID:15371-1725616800-1725624000@avpcas.edu.in
SUMMARY:UBA \,NSS and YRC of AVP cas jointly organises  "seed ball making" on 6/09/2024.
DESCRIPTION:
URL:https://avpcas.edu.in/event/uba-nss-and-yrc-of-avp-cas-jointly-organises-seed-ball-making-on-6-09-2024/
LOCATION:15\, velampalayam
CATEGORIES:Announcements,NSS,UBA,Youth Red Cross
END:VEVENT
BEGIN:VEVENT
DTSTART;TZID=Asia/Kolkata:20240902T130000
DTEND;TZID=Asia/Kolkata:20240902T140000
DTSTAMP:20260420T084644
CREATED:20240902T062811Z
LAST-MODIFIED:20240904T160250Z
UID:15285-1725282000-1725285600@avpcas.edu.in
SUMMARY:UBA and NSS cell is plan to signing a MoU with Quoraa learning India pvt Ltd.. coimbatore on 02/09/2024.
DESCRIPTION:UBA & NSS cell has Signed a MOU with Qaroo Learning private Ltd\, coimbatore on 02/09/24 at AVP college of Arts and Science \, Tirupur.
URL:https://avpcas.edu.in/event/uba-and-nss-cell-is-plan-to-signing-a-mou-with-quoraa-learning-india-pvt-ltd-coimbatore-on-02-09-2024/
LOCATION:AVPCAS
CATEGORIES:Announcements,NSS,UBA
END:VEVENT
END:VCALENDAR