BEGIN:VCALENDAR
VERSION:2.0
PRODID:-//A.V.P. College of Arts and Science - ECPv6.1.2.2//NONSGML v1.0//EN
CALSCALE:GREGORIAN
METHOD:PUBLISH
X-ORIGINAL-URL:https://avpcas.edu.in
X-WR-CALDESC:Events for A.V.P. College of Arts and Science
REFRESH-INTERVAL;VALUE=DURATION:PT1H
X-Robots-Tag:noindex
X-PUBLISHED-TTL:PT1H
BEGIN:VTIMEZONE
TZID:Asia/Kolkata
BEGIN:STANDARD
TZOFFSETFROM:+0530
TZOFFSETTO:+0530
TZNAME:IST
DTSTART:20260101T000000
END:STANDARD
END:VTIMEZONE
BEGIN:VEVENT
DTSTART;TZID=Asia/Kolkata:20260121T110000
DTEND;TZID=Asia/Kolkata:20260121T123000
DTSTAMP:20260420T113535
CREATED:20260120T084455Z
LAST-MODIFIED:20260122T053524Z
UID:18646-1768993200-1768998600@avpcas.edu.in
SUMMARY:Women Empowerment Cell organises a special talk on "Women Empowerment through Legal Awareness" on 21.01.2026
DESCRIPTION:Women Empowerment Cell organised a special talk on “Women Empowerment through Legal Awareness” on 21.01.2026@  11am in Avp seminar hall. Ms.S.Priyadharshini\, Advocate\, Coimbatore acted as a speaker of this event.  This event focused to equip women with knowledge of their rights and laws\, enabling them to seek justice and gain achieving gender equality for societal upliftment.Nearly 175 students got benefitted.
URL:https://avpcas.edu.in/event/women-empowerment-cell-organises-a-special-talk-on-women-empowerment-through-legal-awareness-on-21-01-2026/
LOCATION:Seminar Hall
CATEGORIES:Announcements,Women Empowerment Cell
END:VEVENT
END:VCALENDAR