BEGIN:VCALENDAR
VERSION:2.0
PRODID:-//A.V.P. College of Arts and Science - ECPv6.1.2.2//NONSGML v1.0//EN
CALSCALE:GREGORIAN
METHOD:PUBLISH
X-WR-CALNAME:A.V.P. College of Arts and Science
X-ORIGINAL-URL:https://avpcas.edu.in
X-WR-CALDESC:Events for A.V.P. College of Arts and Science
REFRESH-INTERVAL;VALUE=DURATION:PT1H
X-Robots-Tag:noindex
X-PUBLISHED-TTL:PT1H
BEGIN:VTIMEZONE
TZID:Asia/Kolkata
BEGIN:STANDARD
TZOFFSETFROM:+0530
TZOFFSETTO:+0530
TZNAME:IST
DTSTART:20260101T000000
END:STANDARD
END:VTIMEZONE
BEGIN:VEVENT
DTSTART;TZID=Asia/Kolkata:20260218T013000
DTEND;TZID=Asia/Kolkata:20260218T150000
DTSTAMP:20260420T101105
CREATED:20260217T124418Z
LAST-MODIFIED:20260221T090337Z
UID:18807-1771378200-1771426800@avpcas.edu.in
SUMMARY:The Women Empowerment Cell and Health & Fitness Club organized a seminar on “Women’s Wellness: Prevention & Empowerment.” On 18.02.2026.
DESCRIPTION:The Women Empowerment Cell and Health & Fitness Club organized a seminar on “Women’s Wellness: Prevention & Empowerment.” On 18.02.2026.\nDr. Suresh Kumar Ramasamy\, MBBS\, MD (RT)\, Head of the Department of Oncology\, Tirupur Medical College Hospital\, acted as the Chief Guest for the event.\nThe seminar focused on creating awareness about pelvic cancer\, the importance of healthy food habits to be followed\, and the need for timely vaccination as preventive measures.Nearly 150 students attended and got benefitted.
URL:https://avpcas.edu.in/event/women-empowerment-cell-health-and-fitness-club-organises-a-seminar-on-womens-wellness-prevention-empowerment-on-18-02-2026/
LOCATION:Multipurpose Hall
CATEGORIES:Announcements,Health & fitness Club,Women Empowerment Cell
END:VEVENT
END:VCALENDAR