BEGIN:VCALENDAR
VERSION:2.0
PRODID:-//A.V.P. College of Arts and Science - ECPv6.1.2.2//NONSGML v1.0//EN
CALSCALE:GREGORIAN
METHOD:PUBLISH
X-ORIGINAL-URL:https://avpcas.edu.in
X-WR-CALDESC:Events for A.V.P. College of Arts and Science
REFRESH-INTERVAL;VALUE=DURATION:PT1H
X-Robots-Tag:noindex
X-PUBLISHED-TTL:PT1H
BEGIN:VTIMEZONE
TZID:Asia/Kolkata
BEGIN:STANDARD
TZOFFSETFROM:+0530
TZOFFSETTO:+0530
TZNAME:IST
DTSTART:20230101T000000
END:STANDARD
END:VTIMEZONE
BEGIN:VEVENT
DTSTART;TZID=Asia/Kolkata:20240322T103000
DTEND;TZID=Asia/Kolkata:20240322T113000
DTSTAMP:20260420T085003
CREATED:20240322T054400Z
LAST-MODIFIED:20240322T054406Z
UID:13865-1711103400-1711107000@avpcas.edu.in
SUMMARY:Women Empowerment Cell organized Pencil sketching for National girl child protection on 22.03.2024
DESCRIPTION:Women Empowerment Cell -For National girl child protection Pencil sketching done by M.Govarthini of III BCOM CA
URL:https://avpcas.edu.in/event/women-empowerment-cell-organized-pencil-sketching-for-national-girl-child-protection-on-22-03-2024/
LOCATION:AVPCAS
CATEGORIES:Announcements,Department Events,Women Empowerment Cell
END:VEVENT
BEGIN:VEVENT
DTSTART;TZID=Asia/Kolkata:20240308T100000
DTEND;TZID=Asia/Kolkata:20240308T123000
DTSTAMP:20260420T085003
CREATED:20240307T162246Z
LAST-MODIFIED:20240307T162247Z
UID:13797-1709892000-1709901000@avpcas.edu.in
SUMMARY:Women Empowerment Cell celebrates "International Women's Day" on 08.03.2024.
DESCRIPTION:Women Empowerment Cell celebrates “International Women’s Day” on 08.03.2024 at AVP CAS as a part of this celebration students are going to showcase their talents in various events.
URL:https://avpcas.edu.in/event/women-empowerment-cell-celebrates-international-womens-day-on-08-03-2024/
LOCATION:Auditorium\, College campus\, Tirupur\, India
CATEGORIES:Announcements,Department Events,Women Empowerment Cell
END:VEVENT
BEGIN:VEVENT
DTSTART;TZID=Asia/Kolkata:20240124T113000
DTEND;TZID=Asia/Kolkata:20240124T150000
DTSTAMP:20260420T085003
CREATED:20240124T133036Z
LAST-MODIFIED:20240124T133039Z
UID:13345-1706095800-1706108400@avpcas.edu.in
SUMMARY:Women Empowerment Cell in association with Institution's Innovation Council jointly organized A "National Girl Child day" on 24.01.2024
DESCRIPTION:Women Empowerment Cell & Institution’s Innovation Council jointly organized A “National Girl Child day” Pencil sketching Competition on 24.01.2024 at 11:30AM in Seminar Hall Totally 49 students are participated. \n    \n \nWomen Empowerment Cell & Institution’s Innovation Council jointly organized A “National Girl Child day” Debate Competition on 24.01.2024 at 1:30PM in Seminar Hall Totally 55 students were participated. \n        \nWomen Empowerment Cell & Institution’s Innovation Council celebrated “National Girl Child day” on 24.01.2024 as a part of this celebration nearly 1420 students are installed the “Kaval Uthavi” app on their mobiles. \n    
URL:https://avpcas.edu.in/event/women-empowerment-cell-in-association-with-institutions-innovation-council-jointly-organized-a-national-girl-child-day-on-24-01-2024/
LOCATION:Seminar Hall
CATEGORIES:Announcements,Department Events,Women Empowerment Cell
END:VEVENT
BEGIN:VEVENT
DTSTART;TZID=Asia/Kolkata:20230916T133000
DTEND;TZID=Asia/Kolkata:20230916T150000
DTSTAMP:20260420T085003
CREATED:20230916T074907Z
LAST-MODIFIED:20230919T102602Z
UID:11723-1694871000-1694876400@avpcas.edu.in
SUMMARY:Women empowerment  Cell is going to organize a  Awareness Programme on  "Cyber Crime" on 16.09.2023 @1.30 pm in Seminar Hall.
DESCRIPTION:Women Empowerment Cell and “WE Team” jointly organized an Awareness programme on Cyber Crime on 16.09.2023 at AVPCAS Seminar Hall. Mr. O.Uthayasooriyan M.Sc.\, M.A.\, B.L.\, Panel Advocate of District Legal Services Authority\, Tirupur and Mr. K.R. Rajasekaran M.B.A.\, M.L.\, Panel Advocate of District Legal Services Authority\, Tirupur were cheif guests. Around 174 students got benefitted. \n          \n  \n         \n  \n 
URL:https://avpcas.edu.in/event/women-empowerment-cell-is-going-to-organize-a-awareness-programme-on-cyber-crime-on-16-09-2023-1-30-pm-in-seminar-hall/
LOCATION:Seminar Hall
CATEGORIES:Announcements,Department Events,Women Empowerment Cell
END:VEVENT
END:VCALENDAR